Workbook

Sheet ملاحضات
A1: ملاحظات پایش
A2: این ماتریس توسط مسئول بهداشت حرفه ای و به کمک تیم CFT شرکت تکمیل گردد برای هر واحد/سالن، ماتریس جداگانه و بر اساس سلسه مراتب شغلی تکمیل و به روز شود
A3: الف | B3: الزامات | C3: ابعاد و تعداد ایستگاههای سنجش صدا و روشنایی بر اساس راهنماهای اندازه گیری و ارزیابی منتشر شده از سوی مرکز سلامت محیط و کار انتخاب می گردد سنجش صدای موضعی به ازای هر اپراتوردستگاه مولد آلودگی صوتی الزامی بوده و سایر ایستگاه های موضعی بنا به درخواست کارشناس بهداشت حرفه ای واحد کاری یا ناظر بهداشت حرفه ای شهرستان قابل افزایش می باشد انجام آنالیز فرکانس برای تمامی ایستگاه های دارای صدای بالاتر از حد استاندارد الزامی می باشد سنجش میدانهای الکترومغناطیسی در سه ارتفاع سر، تنه، پا الزامی است آلاینده سنجی مواد دارای استاندارد STEL , CEILING و نیز نمونه برداری موادی با استاندارد TWA حتی با مقادیر OEL کم و غلظت محسوس ضروری می باشد به ازای هر نمونه اصلی یک نمونه شاهد در پارامتر شیمیایی الزامی است
A4: ب | B4: توضیحات | C4: برای هر عنوان شغلی، در ذیل عامل مورد سنجش، دو ردیف سلول قرار گرفته که در ردیف اول تعداد آیتم/ایستگاه/نمونه های مورد نیاز و در ردیف دوم میزان مواجه شاغل با آن عامل زیان آور به دقیقه درج می گردد.
C5: بمنظور تبیین وظایف و فعالیت های شاغل در عنوان شغلی مورد بررسی، پست/وظیفه/فعالیت شاغل در عنوان شغلی مورد نظر در سلول مقابل هر عنوان شغلی درج می گردد.
C6: برای عوامل شیمیایی، نوع مواد شیمیایی مورد نظر جهت نمونه برداری در سلول های زیر مجموعه آن وارد شود.
C7: تعداد کل آیتم های مورد سنجش برای استفاده های بعدی در ردیف آخر تجمیع می گردد.
C8: ارزیابی صدا و روشنایی بصورت عمومی در هر سالن 1 مورد لحاظ می گردد و نباید برای هر عنوان شغلی یک مورد درج شود.
C9: هریک از موارد سنجش براساس نیاز واحد کاری، نظر کارشناس واحد کاری و تایید کارشناس شبکه می باشد.
C10: عناوین یا فعالیت های شغلی درج شده با توجه به الزامات سنجش، نظر کارشناس واحد کاری و تاییدیه شبکه بهداشت مورد ارزیابی قرارخواهند گرفت

Sheet فرم جمع بندی
A1: تاریخ ارزیابی: ........................... | C1: تعداد ایستگاه ها و عنوان های شغلی مورد ارزیابی به تفکیک واحد/سالن و نوع عامل زیان آور بر اساس اطلاعات ماتريس پایش عوامل زیان آور محیط کار (نام کارگاه/شرکت/اداره) | BA1: ویرایش 02
A3: اطلاعات شاغلین و عنوان های شغلی به تفکیک واحد/سالن | E3: عوامل فيزيكي | P3: عوامل شيميايي(گرد و غبار،گازها و بخارات، ذرات معلق اسید، ذرات فلزی و شبه فلزی، الیاف و میست و... به تفکیک ذکر شود) | AJ3: عوامل ارگونوميكي | AO3: پایش بیولوژیک | AR3: عوامل بيولوژیکی | AU3: عوامل روانی | AW3: ارزیابی سیستم تهویه | BA3: عوامل ایمنی(کار در ارتفاع، مجاورت کوره و ...)
E4: p1 | F4: p2 | G4: p3 | H4: p4 | I4: p5 | J4: p6 | K4: p7 | L4: p8 | M4: p9 | N4: p10 | O4: p11 | P4: c1 | Q4: c2 | R4: c3 | S4: c4 | T4: c5 | U4: c6 | V4: c7 | W4: c8 | X4: c9 | Y4: c10 | Z4: c11 | AA4: c12 | AB4: c13 | AC4: c14 | AD4: c15 | AE4: c16 | AF4: c17 | AG4: c18 | AH4: c19 | AI4: c20 | AJ4: e1 | AK4: e2 | AL4: e3 | AM4: e4 | AN4: e5 | AO4: b1 | AP4: b2 | AQ4: b3 | AR4: bi1 | AS4: bi2 | AT4: bi3 | AU4: sy1 | AV4: sy2 | AW4: vs1 | AX4: vs2 | AY4: vs3 | AZ4: vs4 | BA4: sa1 | BB4: sa2
A5: ردیف | B5: واحد/سالن | C5: تعداد شاغلین واحد/سالن در هر شیفت کاری | D5: تعداد عنوان یا فعالیت شغلی مورد ارزیابی | E5: =واحد01!I$5 -> صدای عمومی | F5: =واحد01!J$5 -> صدای موضعی | G5: =واحد01!K$5 -> آنالیز فرکانسی | H5: =واحد01!L$5 -> دزیمتری صدا | I5: =واحد01!M$5 -> روشنایی عمومی | J5: =واحد01!N$5 -> روشنایی موضعی | K5: =واحد01!O$5 -> پرتو (UV) | L5: =واحد01!P$5 -> پرتو (IR) | ... AQ5: =واحد01!AU$5 -> 0 | AR5: بیوآئروسل | AU5: =واحد01!AY$5 -> 0 | AV5: =واحد01!AZ$5 -> 0 | AW5: =واحد01!BA$5 -> دفعات تعویض هوا | AX5: =واحد01!BB$5 -> اختلاف فشار(+/-) | AY5: =واحد01!BC$5 -> سرعت ربایش دهانه هود | AZ5: =واحد01!BD$5 -> 0 | BA5: =واحد01!BE$5 -> 0 | BB5: =واحد01!BF$5 -> 0
AR6: =واحد01!AV$6 -> باکتری | AS6: =واحد01!AW$6 -> قارچ | AT6: =واحد01!AX$6 -> 0
A7: 1 | B7: =واحد01!$A$3 -> نام واحد/سالن مورد ارزیابی درج شود | C7: =SUM(واحد01!$C$5:$D$5) -> 0 | D7: =COUNTA(واحد01!$D$7:$D$46) -> 0 | E7: =واحد01!I$47 -> 0 | F7: =واحد01!J$47 -> 0 | G7: =واحد01!K$47 -> 0 | H7: =واحد01!L$47 -> 0 | I7: =واحد01!M$47 -> 0 | J7: =واحد01!N$47 -> 0 | K7: =واحد01!O$47 -> 0 | L7: =واحد01!P$47 -> 0 | ... BB7: =واحد01!BF$47 -> 0
A8: 2 | B8: =واحد02!$A$3 -> نام واحد/سالن مورد ارزیابی درج شود | C8: =SUM(واحد02!$C$5:$D$5) -> 0 | D8: =COUNTA(واحد02!$D$7:$D$46) -> 0 | E8: =واحد02!I$47 -> 0 | F8: =واحد02!J$47 -> 0 | G8: =واحد02!K$47 -> 0 | H8: =واحد02!L$47 -> 0 | I8: =واحد02!M$47 -> 0 | J8: =واحد02!N$47 -> 0 | K8: =واحد02!O$47 -> 0 | L8: =واحد02!P$47 -> 0 | ... BB8: =واحد02!BF$47 -> 0
A9: 3 | B9: =واحد03!$A$3 -> نام واحد/سالن مورد ارزیابی درج شود | C9: =SUM(واحد03!$C$5:$D$5) -> 0 | D9: =COUNTA(واحد03!$D$7:$D$46) -> 0 | E9: =واحد03!I$47 -> 0 | F9: =واحد03!J$47 -> 0 | G9: =واحد03!K$47 -> 0 | H9: =واحد03!L$47 -> 0 | I9: =واحد03!M$47 -> 0 | J9: =واحد03!N$47 -> 0 | K9: =واحد03!O$47 -> 0 | L9: =واحد03!P$47 -> 0 | ... BB9: =واحد03!BF$47 -> 0
A10: 4 | B10: =واحد04!$A$3 -> نام واحد/سالن مورد ارزیابی درج شود | C10: =SUM(واحد04!$C$5:$D$5) -> 0 | D10: =COUNTA(واحد04!$D$7:$D$46) -> 0 | E10: =واحد04!I$47 -> 0 | F10: =واحد04!J$47 -> 0 | G10: =واحد04!K$47 -> 0 | H10: =واحد04!L$47 -> 0 | I10: =واحد04!M$47 -> 0 | J10: =واحد04!N$47 -> 0 | K10: =واحد04!O$47 -> 0 | L10: =واحد04!P$47 -> 0 | ... BB10: =واحد04!BF$47 -> 0
A11: 5 | B11: =واحد05!$A$3 -> نام واحد/سالن مورد ارزیابی درج شود | C11: =SUM(واحد05!$C$5:$D$5) -> 0 | D11: =COUNTA(واحد05!$D$7:$D$46) -> 0 | E11: =واحد05!I$47 -> 0 | F11: =واحد05!J$47 -> 0 | G11: =واحد05!K$47 -> 0 | H11: =واحد05!L$47 -> 0 | I11: =واحد05!M$47 -> 0 | J11: =واحد05!N$47 -> 0 | K11: =واحد05!O$47 -> 0 | L11: =واحد05!P$47 -> 0 | ... BB11: =واحد05!BF$47 -> 0
A12: 6 | B12: =واحد06!$A$3 -> نام واحد/سالن مورد ارزیابی درج شود | C12: =SUM(واحد06!$C$5:$D$5) -> 0 | D12: =COUNTA(واحد06!$D$7:$D$46) -> 0 | E12: =واحد06!I$47 -> 0 | F12: =واحد06!J$47 -> 0 | G12: =واحد06!K$47 -> 0 | H12: =واحد06!L$47 -> 0 | I12: =واحد06!M$47 -> 0 | J12: =واحد06!N$47 -> 0 | K12: =واحد06!O$47 -> 0 | L12: =واحد06!P$47 -> 0 | ... BB12: =واحد06!BF$47 -> 0
A13: 7 | B13: =واحد07!$A$3 -> نام واحد/سالن مورد ارزیابی درج شود | C13: =SUM(واحد07!$C$5:$D$5) -> 0 | D13: =COUNTA(واحد07!$D$7:$D$46) -> 0 | E13: =واحد07!I$47 -> 0 | F13: =واحد07!J$47 -> 0 | G13: =واحد07!K$47 -> 0 | H13: =واحد07!L$47 -> 0 | I13: =واحد07!M$47 -> 0 | J13: =واحد07!N$47 -> 0 | K13: =واحد07!O$47 -> 0 | L13: =واحد07!P$47 -> 0 | ... BB13: =واحد07!BF$47 -> 0
A14: 8 | B14: =واحد08!$A$3 -> نام واحد/سالن مورد ارزیابی درج شود | C14: =SUM(واحد08!$C$5:$D$5) -> 0 | D14: =COUNTA(واحد08!$D$7:$D$46) -> 0 | E14: =واحد08!I$47 -> 0 | F14: =واحد08!J$47 -> 0 | G14: =واحد08!K$47 -> 0 | H14: =واحد08!L$47 -> 0 | I14: =واحد08!M$47 -> 0 | J14: =واحد08!N$47 -> 0 | K14: =واحد08!O$47 -> 0 | L14: =واحد08!P$47 -> 0 | ... BB14: =واحد08!BF$47 -> 0
A15: 9 | B15: =واحد09!$A$3 -> نام واحد/سالن مورد ارزیابی درج شود | C15: =SUM(واحد09!$C$5:$D$5) -> 0 | D15: =COUNTA(واحد09!$D$7:$D$46) -> 0 | E15: =واحد09!I$47 -> 0 | F15: =واحد09!J$47 -> 0 | G15: =واحد09!K$47 -> 0 | H15: =واحد09!L$47 -> 0 | I15: =واحد09!M$47 -> 0 | J15: =واحد09!N$47 -> 0 | K15: =واحد09!O$47 -> 0 | L15: =واحد09!P$47 -> 0 | ... BB15: =واحد09!BF$47 -> 0
A16: 10 | B16: =واحد10!$A$3 -> نام واحد/سالن مورد ارزیابی درج شود | C16: =SUM(واحد10!$C$5:$D$5) -> 0 | D16: =COUNTA(واحد10!$D$7:$D$46) -> 0 | E16: =واحد10!I$47 -> 0 | F16: =واحد10!J$47 -> 0 | G16: =واحد10!K$47 -> 0 | H16: =واحد10!L$47 -> 0 | I16: =واحد10!M$47 -> 0 | J16: =واحد10!N$47 -> 0 | K16: =واحد10!O$47 -> 0 | L16: =واحد10!P$47 -> 0 | ... BB16: =واحد10!BF$47 -> 0
A17: 11 | B17: =واحد11!$A$3 -> نام واحد/سالن مورد ارزیابی درج شود | C17: =SUM(واحد11!$C$5:$D$5) -> 0 | D17: =COUNTA(واحد11!$D$7:$D$46) -> 0 | E17: =واحد11!I$47 -> 0 | F17: =واحد11!J$47 -> 0 | G17: =واحد11!K$47 -> 0 | H17: =واحد11!L$47 -> 0 | I17: =واحد11!M$47 -> 0 | J17: =واحد11!N$47 -> 0 | K17: =واحد11!O$47 -> 0 | L17: =واحد11!P$47 -> 0 | ... BB17: =واحد11!BF$47 -> 0
A18: 12 | B18: =واحد12!$A$3 -> نام واحد/سالن مورد ارزیابی درج شود | C18: =SUM(واحد12!$C$5:$D$5) -> 0 | D18: =COUNTA(واحد12!$D$7:$D$46) -> 0 | E18: =واحد12!I$47 -> 0 | F18: =واحد12!J$47 -> 0 | G18: =واحد12!K$47 -> 0 | H18: =واحد12!L$47 -> 0 | I18: =واحد12!M$47 -> 0 | J18: =واحد12!N$47 -> 0 | K18: =واحد12!O$47 -> 0 | L18: =واحد12!P$47 -> 0 | ... BB18: =واحد12!BF$47 -> 0
A19: 13 | B19: =واحد13!$A$3 -> نام واحد/سالن مورد ارزیابی درج شود | C19: =SUM(واحد13!$C$5:$D$5) -> 0 | D19: =COUNTA(واحد13!$D$7:$D$46) -> 0 | E19: =واحد13!I$47 -> 0 | F19: =واحد13!J$47 -> 0 | G19: =واحد13!K$47 -> 0 | H19: =واحد13!L$47 -> 0 | I19: =واحد13!M$47 -> 0 | J19: =واحد13!N$47 -> 0 | K19: =واحد13!O$47 -> 0 | L19: =واحد13!P$47 -> 0 | ... BB19: =واحد13!BF$47 -> 0
A20: 14 | B20: =واحد14!$A$3 -> نام واحد/سالن مورد ارزیابی درج شود | C20: =SUM(واحد14!$C$5:$D$5) -> 0 | D20: =COUNTA(واحد14!$D$7:$D$46) -> 0 | E20: =واحد14!I$47 -> 0 | F20: =واحد14!J$47 -> 0 | G20: =واحد14!K$47 -> 0 | H20: =واحد14!L$47 -> 0 | I20: =واحد14!M$47 -> 0 | J20: =واحد14!N$47 -> 0 | K20: =واحد14!O$47 -> 0 | L20: =واحد14!P$47 -> 0 | ... BB20: =واحد14!BF$47 -> 0
A21: 15 | B21: =واحد15!$A$3 -> نام واحد/سالن مورد ارزیابی درج شود | C21: =SUM(واحد15!$C$5:$D$5) -> 0 | D21: =COUNTA(واحد15!$D$7:$D$46) -> 0 | E21: =واحد15!I$47 -> 0 | F21: =واحد15!J$47 -> 0 | G21: =واحد15!K$47 -> 0 | H21: =واحد15!L$47 -> 0 | I21: =واحد15!M$47 -> 0 | J21: =واحد15!N$47 -> 0 | K21: =واحد15!O$47 -> 0 | L21: =واحد15!P$47 -> 0 | ... BB21: =واحد15!BF$47 -> 0
A22: 16 | B22: =واحد16!$A$3 -> نام واحد/سالن مورد ارزیابی درج شود | C22: =SUM(واحد16!$C$5:$D$5) -> 0 | D22: =COUNTA(واحد16!$D$7:$D$46) -> 0 | E22: =واحد16!I$47 -> 0 | F22: =واحد16!J$47 -> 0 | G22: =واحد16!K$47 -> 0 | H22: =واحد16!L$47 -> 0 | I22: =واحد16!M$47 -> 0 | J22: =واحد16!N$47 -> 0 | K22: =واحد16!O$47 -> 0 | L22: =واحد16!P$47 -> 0 | ... BB22: =واحد16!BF$47 -> 0
A23: 17 | B23: =واحد17!$A$3 -> نام واحد/سالن مورد ارزیابی درج شود | C23: =SUM(واحد17!$C$5:$D$5) -> 0 | D23: =COUNTA(واحد17!$D$7:$D$46) -> 0 | E23: =واحد17!I$47 -> 0 | F23: =واحد17!J$47 -> 0 | G23: =واحد17!K$47 -> 0 | H23: =واحد17!L$47 -> 0 | I23: =واحد17!M$47 -> 0 | J23: =واحد17!N$47 -> 0 | K23: =واحد17!O$47 -> 0 | L23: =واحد17!P$47 -> 0 | ... BB23: =واحد17!BF$47 -> 0
A24: 18 | B24: =واحد18!$A$3 -> نام واحد/سالن مورد ارزیابی درج شود | C24: =SUM(واحد18!$C$5:$D$5) -> 0 | D24: =COUNTA(واحد18!$D$7:$D$46) -> 0 | E24: =واحد18!I$47 -> 0 | F24: =واحد18!J$47 -> 0 | G24: =واحد18!K$47 -> 0 | H24: =واحد18!L$47 -> 0 | I24: =واحد18!M$47 -> 0 | J24: =واحد18!N$47 -> 0 | K24: =واحد18!O$47 -> 0 | L24: =واحد18!P$47 -> 0 | ... BB24: =واحد18!BF$47 -> 0
A25: 19 | B25: =واحد19!$A$3 -> نام واحد/سالن مورد ارزیابی درج شود | C25: =SUM(واحد19!$C$5:$D$5) -> 0 | D25: =COUNTA(واحد19!$D$7:$D$46) -> 0 | E25: =واحد19!I$47 -> 0 | F25: =واحد19!J$47 -> 0 | G25: =واحد19!K$47 -> 0 | H25: =واحد19!L$47 -> 0 | I25: =واحد19!M$47 -> 0 | J25: =واحد19!N$47 -> 0 | K25: =واحد19!O$47 -> 0 | L25: =واحد19!P$47 -> 0 | ... BB25: =واحد19!BF$47 -> 0
A26: 20 | B26: =واحد20!$A$3 -> نام واحد/سالن مورد ارزیابی درج شود | C26: =SUM(واحد20!$C$5:$D$5) -> 0 | D26: =COUNTA(واحد20!$D$7:$D$46) -> 0 | E26: =واحد20!I$47 -> 0 | F26: =واحد20!J$47 -> 0 | G26: =واحد20!K$47 -> 0 | H26: =واحد20!L$47 -> 0 | I26: =واحد20!M$47 -> 0 | J26: =واحد20!N$47 -> 0 | K26: =واحد20!O$47 -> 0 | L26: =واحد20!P$47 -> 0 | ... BB26: =واحد20!BF$47 -> 0
A27: 21 | B27: =واحد21!$A$3 -> نام واحد/سالن مورد ارزیابی درج شود | C27: =SUM(واحد21!$C$5:$D$5) -> 0 | D27: =COUNTA(واحد21!$D$7:$D$46) -> 0 | E27: =واحد21!I47 -> 0 | F27: =واحد21!J47 -> 0 | G27: =واحد21!K47 -> 0 | H27: =واحد21!L47 -> 0 | I27: =واحد21!M47 -> 0 | J27: =واحد21!N47 -> 0 | K27: =واحد21!O47 -> 0 | L27: =واحد21!P47 -> 0 | ... BB27: =واحد21!BF47 -> 0
A28: 22 | B28: =واحد22!$A$3 -> نام واحد/سالن مورد ارزیابی درج شود | C28: =SUM(واحد22!$C$5:$D$5) -> 0 | D28: =COUNTA(واحد22!$D$7:$D$46) -> 0 | E28: =واحد22!I$47 -> 0 | F28: =واحد22!J$47 -> 0 | G28: =واحد22!K$47 -> 0 | H28: =واحد22!L$47 -> 0 | I28: =واحد22!M$47 -> 0 | J28: =واحد22!N$47 -> 0 | K28: =واحد22!O$47 -> 0 | L28: =واحد22!P$47 -> 0 | ... BB28: =واحد22!BF$47 -> 0
A29: 23 | B29: =واحد23!$A$3 -> نام واحد/سالن مورد ارزیابی درج شود | C29: =SUM(واحد23!$C$5:$D$5) -> 0 | D29: =COUNTA(واحد23!$D$7:$D$46) -> 0 | E29: =واحد23!I$47 -> 0 | F29: =واحد23!J$47 -> 0 | G29: =واحد23!K$47 -> 0 | H29: =واحد23!L$47 -> 0 | I29: =واحد23!M$47 -> 0 | J29: =واحد23!N$47 -> 0 | K29: =واحد23!O$47 -> 0 | L29: =واحد23!P$47 -> 0 | ... BB29: =واحد23!BF$47 -> 0
A30: 24 | B30: =واحد24!$A$3 -> نام واحد/سالن مورد ارزیابی درج شود | C30: =SUM(واحد24!$C$5:$D$5) -> 0 | D30: =COUNTA(واحد24!$D$7:$D$46) -> 0 | E30: =واحد24!I$47 -> 0 | F30: =واحد24!J$47 -> 0 | G30: =واحد24!K$47 -> 0 | H30: =واحد24!L$47 -> 0 | I30: =واحد24!M$47 -> 0 | J30: =واحد24!N$47 -> 0 | K30: =واحد24!O$47 -> 0 | L30: =واحد24!P$47 -> 0 | ... BB30: =واحد24!BF$47 -> 0
A31: 25 | B31: =واحد25!$A$3 -> نام واحد/سالن مورد ارزیابی درج شود | C31: =SUM(واحد25!$C$5:$D$5) -> 0 | D31: =COUNTA(واحد25!$D$7:$D$46) -> 0 | E31: =واحد25!I$47 -> 0 | F31: =واحد25!J$47 -> 0 | G31: =واحد25!K$47 -> 0 | H31: =واحد25!L$47 -> 0 | I31: =واحد25!M$47 -> 0 | J31: =واحد25!N$47 -> 0 | K31: =واحد25!O$47 -> 0 | L31: =واحد25!P$47 -> 0 | ... BB31: =واحد25!BF$47 -> 0
A32: 26 | B32: =واحد26!$A$3 -> نام واحد/سالن مورد ارزیابی درج شود | C32: =SUM(واحد26!$C$5:$D$5) -> 0 | D32: =COUNTA(واحد26!$D$7:$D$46) -> 0 | E32: =واحد26!I$47 -> 0 | F32: =واحد26!J$47 -> 0 | G32: =واحد26!K$47 -> 0 | H32: =واحد26!L$47 -> 0 | I32: =واحد26!M$47 -> 0 | J32: =واحد26!N$47 -> 0 | K32: =واحد26!O$47 -> 0 | L32: =واحد26!P$47 -> 0 | ... BB32: =واحد26!BF$47 -> 0
A33: 27 | B33: =واحد27!$A$3 -> نام واحد/سالن مورد ارزیابی درج شود | C33: =SUM(واحد27!$C$5:$D$5) -> 0 | D33: =COUNTA(واحد27!$D$7:$D$46) -> 0 | E33: =واحد27!I$47 -> 0 | F33: =واحد27!J$47 -> 0 | G33: =واحد27!K$47 -> 0 | H33: =واحد27!L$47 -> 0 | I33: =واحد27!M$47 -> 0 | J33: =واحد27!N$47 -> 0 | K33: =واحد27!O$47 -> 0 | L33: =واحد27!P$47 -> 0 | ... BB33: =واحد27!BF$47 -> 0
A34: 28 | B34: =واحد28!$A$3 -> نام واحد/سالن مورد ارزیابی درج شود | C34: =SUM(واحد28!$C$5:$D$5) -> 0 | D34: =COUNTA(واحد28!$D$7:$D$46) -> 0 | E34: =واحد28!I$47 -> 0 | F34: =واحد28!J$47 -> 0 | G34: =واحد28!K$47 -> 0 | H34: =واحد28!L$47 -> 0 | I34: =واحد28!M$47 -> 0 | J34: =واحد28!N$47 -> 0 | K34: =واحد28!O$47 -> 0 | L34: =واحد28!P$47 -> 0 | ... BB34: =واحد28!BF$47 -> 0
A35: 29 | B35: =واحد29!$A$3 -> نام واحد/سالن مورد ارزیابی درج شود | C35: =SUM(واحد29!$C$5:$D$5) -> 0 | D35: =COUNTA(واحد29!$D$7:$D$46) -> 0 | E35: =واحد29!I$47 -> 0 | F35: =واحد29!J$47 -> 0 | G35: =واحد29!K$47 -> 0 | H35: =واحد29!L$47 -> 0 | I35: =واحد29!M$47 -> 0 | J35: =واحد29!N$47 -> 0 | K35: =واحد29!O$47 -> 0 | L35: =واحد29!P$47 -> 0 | ... BB35: =واحد29!BF$47 -> 0
A36: 30 | B36: =واحد30!$A$3 -> نام واحد/سالن مورد ارزیابی درج شود | C36: =SUM(واحد30!$C$5:$D$5) -> 0 | D36: =COUNTA(واحد30!$D$7:$D$46) -> 0 | E36: =واحد30!I$47 -> 0 | F36: =واحد30!J$47 -> 0 | G36: =واحد30!K$47 -> 0 | H36: =واحد30!L$47 -> 0 | I36: =واحد30!M$47 -> 0 | J36: =واحد30!N$47 -> 0 | K36: =واحد30!O$47 -> 0 | L36: =واحد30!P$47 -> 0 | ... BB36: =واحد30!BF$47 -> 0
A37: تعداد کل موارد پیش بینی شده جهت انجام آلاینده سنجی : | E37: =SUM(E7:E36) -> 0 | F37: =SUM(F7:F36) -> 0 | G37: =SUM(G7:G36) -> 0 | H37: =SUM(H7:H36) -> 0 | I37: =SUM(I7:I36) -> 0 | J37: =SUM(J7:J36) -> 0 | K37: =SUM(K7:K36) -> 0 | L37: =SUM(L7:L36) -> 0 | ... BB37: =SUM(BB7:BB36) -> 0

Sheet واحد01
A1: تاریخ ارزیابی: .......................... | C1: ماتريس پایش عوامل زیان آور محیط کار | BE1: ویرایش 02
A2: نام کارگاه/شرکت/اداره : | F2: آدرس/تماس : | L2: خلاصه ای از فرآیند واحد :
A3: نام واحد/سالن مورد ارزیابی درج شود | I3: عوامل فيزيكي | T3: عوامل شيميايي(گرد و غبار،گازها و بخارات، ذرات معلق اسید، ذرات فلزی و شبه فلزی، الیاف و میست و... به تفکیک ذکر شود) | AN3: عوامل ارگونوميكي | AS3: پایش بیولوژیک | AV3: عوامل بيولوژیکی | AY3: عوامل روانی | BA3: ارزیابی سیستم تهویه | BE3: عوامل ایمنی (کار در ارتفاع، مجاورت کوره و ...)
A4: نوع شیفت کاری : | C4: روزکار ¨ | D4: نوبت کار ¨ | E4: مدت شیفت کاری: | I4: p1 | J4: p2 | K4: p3 | L4: p4 | M4: p5 | N4: p6 | O4: p7 | P4: p8 | Q4: p9 | R4: p10 | S4: p11 | T4: c1 | U4: c2 | V4: c3 | W4: c4 | X4: c5 | Y4: c6 | Z4: c7 | AA4: c8 | AB4: c9 | AC4: c10 | AD4: c11 | AE4: c12 | AF4: c13 | AG4: c14 | AH4: c15 | AI4: c16 | AJ4: c17 | AK4: c18 | AL4: c19 | AM4: c20 | AN4: e1 | AO4: e2 | AP4: e3 | AQ4: e4 | AR4: e5 | AS4: b1 | AT4: b2 | AU4: b3 | AV4: bi1 | AW4: bi2 | AX4: bi3 | AY4: sy1 | AZ4: sy2 | BA4: vs1 | BB4: vs2 | BC4: vs3 | BD4: vs4 | BE4: sa1 | BF4: sa2
A5: ردیف | B5: تعداد شاغلین واحد/سالن به تفکیک نوبت کاری: | E5: اطلاعات تکمیلی درباره وظایف و فعالیت های شغلی و … | I5: صدای عمومی | J5: صدای موضعی | K5: آنالیز فرکانسی | L5: دزیمتری صدا | M5: روشنایی عمومی | N5: روشنایی موضعی | O5: پرتو (UV) | P5: پرتو (IR) | Q5: سایر پرتو ها/میدان ها | R5: استرس حرارتی(گرما/سرما) | S5: ارتعاش تمام بدن/دست بازو | AN5: هل دادن/کشیدن بار | AO5: بلند كردن/پایین آوردن بار | AP5: حمل دستي بار | AQ5: وضعيت نامناسب بدني | AR5: حرکات تکراری | AS5: نمونه خون | AT5: نمونه ادرار | AV5: پایش بیوآئروسل | BA5: دفعات تعویض هوا | BB5: اختلاف فشار(+/-) | BC5: سرعت ربایش دهانه هود
B6: موقعیت حضور شاغل در واحد/سالن | C6: ابعاد سالن (L*W*H) و درصد نقطه کور | D6: عنوان شغلی | E6: پست/وظیفه/ فعالیت شغلی | F6: تعداد شاغل با شرح وظیفه یکسان در واحد/سالن | G6: تجهیزات مولد آلاینده | H6: مواد شیمیایی اولیه، بینابینی و نهایی منتشره در محیط کار | AV6: باکتری | AW6: قارچ
A7: 1 | I7: در این ردیف تعداد آیتم نیازمند سنجش در عنوان شغلی متناظر درج شود
I8: در این ردیف میزان مواجه شاغل با عامل زیان آور مورد نظر، در عنوان شغلی متناظر به دقیقه درج شود
A9: 2
A11: 3
A13: 4
A15: 5
A17: 6
A19: 7
A21: 8
A23: 9
A25: 10
A27: 11
A29: 12
A31: 13
... A45: 20
A47: تعداد موارد پیش بینی شده برای آلاینده سنجی: | I47: =SUM(I7,I9,I11,I13,I15,I17,I19,I21,I23,I25,I27,I29,I31,I33,I35,I37,I39,I41,I43,I45) -> 0 | J47: =SUM(J7,J9,J11,J13,J15,J17,J19,J21,J23,J25,J27,J29,J31,J33,J35,J37,J39,J41,J43,J45) -> 0 | K47: =SUM(K7,K9,K11,K13,K15,K17,K19,K21,K23,K25,K27,K29,K31,K33,K35,K37,K39,K41,K43,K45) -> 0 | L47: =SUM(L7,L9,L11,L13,L15,L17,L19,L21,L23,L25,L27,L29,L31,L33,L35,L37,L39,L41,L43,L45) -> 0 | M47: =SUM(M7,M9,M11,M13,M15,M17,M19,M21,M23,M25,M27,M29,M31,M33,M35,M37,M39,M41,M43,M45) -> 0 | N47: =SUM(N7,N9,N11,N13,N15,N17,N19,N21,N23,N25,N27,N29,N31,N33,N35,N37,N39,N41,N43,N45) -> 0 | O47: =SUM(O7,O9,O11,O13,O15,O17,O19,O21,O23,O25,O27,O29,O31,O33,O35,O37,O39,O41,O43,O45) -> 0 | Q47: =SUM(Q7,Q9,Q11,Q13,Q15,Q17,Q19,Q21,Q23,Q25,Q27,Q29,Q31,Q33,Q35,Q37,Q39,Q41,Q43,Q45) -> 0 | R47: =SUM(R7,R9,R11,R13,R15,R17,R19,R21,R23,R25,R27,R29,R31,R33,R35,R37,R39,R41,R43,R45) -> 0 | S47: =SUM(S7,S9,S11,S13,S15,S17,S19,S21,S23,S25,S27,S29,S31,S33,S35,S37,S39,S41,S43,S45) -> 0 | T47: =SUM(T7,T9,T11,T13,T15,T17,T19,T21,T23,T25,T27,T29,T31,T33,T35,T37,T39,T41,T43,T45) -> 0 | U47: =SUM(U7,U9,U11,U13,U15,U17,U19,U21,U23,U25,U27,U29,U31,U33,U35,U37,U39,U41,U43,U45) -> 0 | V47: =SUM(V7,V9,V11,V13,V15,V17,V19,V21,V23,V25,V27,V29,V31,V33,V35,V37,V39,V41,V43,V45) -> 0 | W47: =SUM(W7,W9,W11,W13,W15,W17,W19,W21,W23,W25,W27,W29,W31,W33,W35,W37,W39,W41,W43,W45) -> 0 | X47: =SUM(X7,X9,X11,X13,X15,X17,X19,X21,X23,X25,X27,X29,X31,X33,X35,X37,X39,X41,X43,X45) -> 0 | ... BF47: =SUM(BF7,BF9,BF11,BF13,BF15,BF17,BF19,BF21,BF23,BF25,BF27,BF29,BF31,BF33,BF35,BF37,BF39,BF41,BF43,BF45) -> 0

Sheet واحد02
A1: تاریخ ارزیابی: .......................... | C1: ماتريس پایش عوامل زیان آور محیط کار | BE1: ویرایش 02
A2: نام کارگاه/شرکت/اداره : | F2: آدرس/تماس : | L2: خلاصه ای از فرآیند واحد :
A3: نام واحد/سالن مورد ارزیابی درج شود | I3: عوامل فيزيكي | T3: عوامل شيميايي(گرد و غبار،گازها و بخارات، ذرات معلق اسید، ذرات فلزی و شبه فلزی، الیاف و میست و... به تفکیک ذکر شود) | AN3: عوامل ارگونوميكي | AS3: پایش بیولوژیک | AV3: عوامل بيولوژیکی | AY3: عوامل روانی | BA3: ارزیابی سیستم تهویه | BE3: عوامل ایمنی (کار در ارتفاع، مجاورت کوره و ...)
A4: نوع شیفت کاری : | C4: روزکار ¨ | D4: نوبت کار ¨ | E4: مدت شیفت کاری: | I4: p1 | J4: p2 | K4: p3 | L4: p4 | M4: p5 | N4: p6 | O4: p7 | P4: p8 | Q4: p9 | R4: p10 | S4: p11 | T4: c1 | U4: c2 | V4: c3 | W4: c4 | X4: c5 | Y4: c6 | Z4: c7 | AA4: c8 | AB4: c9 | AC4: c10 | AD4: c11 | AE4: c12 | AF4: c13 | AG4: c14 | AH4: c15 | AI4: c16 | AJ4: c17 | AK4: c18 | AL4: c19 | AM4: c20 | AN4: e1 | AO4: e2 | AP4: e3 | AQ4: e4 | AR4: e5 | AS4: b1 | AT4: b2 | AU4: b3 | AV4: bi1 | AW4: bi2 | AX4: bi3 | AY4: sy1 | AZ4: sy2 | BA4: vs1 | BB4: vs2 | BC4: vs3 | BD4: vs4 | BE4: sa1 | BF4: sa2
A5: ردیف | B5: تعداد شاغلین واحد/سالن به تفکیک نوبت کاری: | E5: اطلاعات تکمیلی درباره وظایف و فعالیت های شغلی و … | I5: صدای عمومی | J5: صدای موضعی | K5: آنالیز فرکانسی | L5: دزیمتری صدا | M5: روشنایی عمومی | N5: روشنایی موضعی | O5: پرتو (UV) | P5: پرتو (IR) | Q5: سایر پرتو ها/میدان ها | R5: استرس حرارتی(گرما/سرما) | S5: ارتعاش تمام بدن/دست بازو | AN5: هل دادن/کشیدن بار | AO5: بلند كردن/پایین آوردن بار | AP5: حمل دستي بار | AQ5: وضعيت نامناسب بدني | AR5: حرکات تکراری | AS5: نمونه خون | AT5: نمونه ادرار | AV5: پایش بیوآئروسل | BA5: دفعات تعویض هوا | BB5: اختلاف فشار(+/-) | BC5: سرعت ربایش دهانه هود
B6: موقعیت حضور شاغل در واحد/سالن | C6: ابعاد سالن (L*W*H) و درصد نقطه کور | D6: عنوان شغلی | E6: پست/وظیفه/ فعالیت شغلی | F6: تعداد شاغل با شرح وظیفه یکسان در واحد/سالن | G6: تجهیزات مولد آلاینده | H6: مواد شیمیایی اولیه، بینابینی و نهایی منتشره در محیط کار | AV6: باکتری | AW6: قارچ
A7: 1 | I7: در این ردیف تعداد آیتم نیازمند سنجش در عنوان شغلی متناظر درج شود
I8: در این ردیف میزان مواجه شاغل با عامل زیان آور مورد نظر، در عنوان شغلی متناظر به دقیقه درج شود
A9: 2
A11: 3
A13: 4
A15: 5
A17: 6
A19: 7
A21: 8
A23: 9
A25: 10
A27: 11
A29: 12
A31: 13
... A45: 20
A47: تعداد موارد پیش بینی شده برای آلاینده سنجی: | I47: =SUM(I7,I9,I11,I13,I15,I17,I19,I21,I23,I25,I27,I29,I31,I33,I35,I37,I39,I41,I43,I45) -> 0 | J47: =SUM(J7,J9,J11,J13,J15,J17,J19,J21,J23,J25,J27,J29,J31,J33,J35,J37,J39,J41,J43,J45) -> 0 | K47: =SUM(K7,K9,K11,K13,K15,K17,K19,K21,K23,K25,K27,K29,K31,K33,K35,K37,K39,K41,K43,K45) -> 0 | L47: =SUM(L7,L9,L11,L13,L15,L17,L19,L21,L23,L25,L27,L29,L31,L33,L35,L37,L39,L41,L43,L45) -> 0 | M47: =SUM(M7,M9,M11,M13,M15,M17,M19,M21,M23,M25,M27,M29,M31,M33,M35,M37,M39,M41,M43,M45) -> 0 | N47: =SUM(N7,N9,N11,N13,N15,N17,N19,N21,N23,N25,N27,N29,N31,N33,N35,N37,N39,N41,N43,N45) -> 0 | O47: =SUM(O7,O9,O11,O13,O15,O17,O19,O21,O23,O25,O27,O29,O31,O33,O35,O37,O39,O41,O43,O45) -> 0 | Q47: =SUM(Q7,Q9,Q11,Q13,Q15,Q17,Q19,Q21,Q23,Q25,Q27,Q29,Q31,Q33,Q35,Q37,Q39,Q41,Q43,Q45) -> 0 | R47: =SUM(R7,R9,R11,R13,R15,R17,R19,R21,R23,R25,R27,R29,R31,R33,R35,R37,R39,R41,R43,R45) -> 0 | S47: =SUM(S7,S9,S11,S13,S15,S17,S19,S21,S23,S25,S27,S29,S31,S33,S35,S37,S39,S41,S43,S45) -> 0 | T47: =SUM(T7,T9,T11,T13,T15,T17,T19,T21,T23,T25,T27,T29,T31,T33,T35,T37,T39,T41,T43,T45) -> 0 | U47: =SUM(U7,U9,U11,U13,U15,U17,U19,U21,U23,U25,U27,U29,U31,U33,U35,U37,U39,U41,U43,U45) -> 0 | V47: =SUM(V7,V9,V11,V13,V15,V17,V19,V21,V23,V25,V27,V29,V31,V33,V35,V37,V39,V41,V43,V45) -> 0 | W47: =SUM(W7,W9,W11,W13,W15,W17,W19,W21,W23,W25,W27,W29,W31,W33,W35,W37,W39,W41,W43,W45) -> 0 | X47: =SUM(X7,X9,X11,X13,X15,X17,X19,X21,X23,X25,X27,X29,X31,X33,X35,X37,X39,X41,X43,X45) -> 0 | ... BF47: =SUM(BF7,BF9,BF11,BF13,BF15,BF17,BF19,BF21,BF23,BF25,BF27,BF29,BF31,BF33,BF35,BF37,BF39,BF41,BF43,BF45) -> 0

Sheet واحد03
A1: تاریخ ارزیابی: .......................... | C1: ماتريس پایش عوامل زیان آور محیط کار | BE1: ویرایش 02
A2: نام کارگاه/شرکت/اداره : | F2: آدرس/تماس : | L2: خلاصه ای از فرآیند واحد :
A3: نام واحد/سالن مورد ارزیابی درج شود | I3: عوامل فيزيكي | T3: عوامل شيميايي(گرد و غبار،گازها و بخارات، ذرات معلق اسید، ذرات فلزی و شبه فلزی، الیاف و میست و... به تفکیک ذکر شود) | AN3: عوامل ارگونوميكي | AS3: پایش بیولوژیک | AV3: عوامل بيولوژیکی | AY3: عوامل روانی | BA3: ارزیابی سیستم تهویه | BE3: عوامل ایمنی (کار در ارتفاع، مجاورت کوره و ...)
A4: نوع شیفت کاری : | C4: روزکار ¨ | D4: نوبت کار ¨ | E4: مدت شیفت کاری: | I4: p1 | J4: p2 | K4: p3 | L4: p4 | M4: p5 | N4: p6 | O4: p7 | P4: p8 | Q4: p9 | R4: p10 | S4: p11 | T4: c1 | U4: c2 | V4: c3 | W4: c4 | X4: c5 | Y4: c6 | Z4: c7 | AA4: c8 | AB4: c9 | AC4: c10 | AD4: c11 | AE4: c12 | AF4: c13 | AG4: c14 | AH4: c15 | AI4: c16 | AJ4: c17 | AK4: c18 | AL4: c19 | AM4: c20 | AN4: e1 | AO4: e2 | AP4: e3 | AQ4: e4 | AR4: e5 | AS4: b1 | AT4: b2 | AU4: b3 | AV4: bi1 | AW4: bi2 | AX4: bi3 | AY4: sy1 | AZ4: sy2 | BA4: vs1 | BB4: vs2 | BC4: vs3 | BD4: vs4 | BE4: sa1 | BF4: sa2
A5: ردیف | B5: تعداد شاغلین واحد/سالن به تفکیک نوبت کاری: | E5: اطلاعات تکمیلی درباره وظایف و فعالیت های شغلی و … | I5: صدای عمومی | J5: صدای موضعی | K5: آنالیز فرکانسی | L5: دزیمتری صدا | M5: روشنایی عمومی | N5: روشنایی موضعی | O5: پرتو (UV) | P5: پرتو (IR) | Q5: سایر پرتو ها/میدان ها | R5: استرس حرارتی(گرما/سرما) | S5: ارتعاش تمام بدن/دست بازو | AN5: هل دادن/کشیدن بار | AO5: بلند كردن/پایین آوردن بار | AP5: حمل دستي بار | AQ5: وضعيت نامناسب بدني | AR5: حرکات تکراری | AS5: نمونه خون | AT5: نمونه ادرار | AV5: پایش بیوآئروسل | BA5: دفعات تعویض هوا | BB5: اختلاف فشار(+/-) | BC5: سرعت ربایش دهانه هود
B6: موقعیت حضور شاغل در واحد/سالن | C6: ابعاد سالن (L*W*H) و درصد نقطه کور | D6: عنوان شغلی | E6: پست/وظیفه/ فعالیت شغلی | F6: تعداد شاغل با شرح وظیفه یکسان در واحد/سالن | G6: تجهیزات مولد آلاینده | H6: مواد شیمیایی اولیه، بینابینی و نهایی منتشره در محیط کار | AV6: باکتری | AW6: قارچ
A7: 1 | I7: در این ردیف تعداد آیتم نیازمند سنجش در عنوان شغلی متناظر درج شود
I8: در این ردیف میزان مواجه شاغل با عامل زیان آور مورد نظر، در عنوان شغلی متناظر به دقیقه درج شود
A9: 2
A11: 3
A13: 4
A15: 5
A17: 6
A19: 7
A21: 8
A23: 9
A25: 10
A27: 11
A29: 12
A31: 13
... A45: 20
A47: تعداد موارد پیش بینی شده برای آلاینده سنجی: | I47: =SUM(I7,I9,I11,I13,I15,I17,I19,I21,I23,I25,I27,I29,I31,I33,I35,I37,I39,I41,I43,I45) -> 0 | J47: =SUM(J7,J9,J11,J13,J15,J17,J19,J21,J23,J25,J27,J29,J31,J33,J35,J37,J39,J41,J43,J45) -> 0 | K47: =SUM(K7,K9,K11,K13,K15,K17,K19,K21,K23,K25,K27,K29,K31,K33,K35,K37,K39,K41,K43,K45) -> 0 | L47: =SUM(L7,L9,L11,L13,L15,L17,L19,L21,L23,L25,L27,L29,L31,L33,L35,L37,L39,L41,L43,L45) -> 0 | M47: =SUM(M7,M9,M11,M13,M15,M17,M19,M21,M23,M25,M27,M29,M31,M33,M35,M37,M39,M41,M43,M45) -> 0 | N47: =SUM(N7,N9,N11,N13,N15,N17,N19,N21,N23,N25,N27,N29,N31,N33,N35,N37,N39,N41,N43,N45) -> 0 | O47: =SUM(O7,O9,O11,O13,O15,O17,O19,O21,O23,O25,O27,O29,O31,O33,O35,O37,O39,O41,O43,O45) -> 0 | Q47: =SUM(Q7,Q9,Q11,Q13,Q15,Q17,Q19,Q21,Q23,Q25,Q27,Q29,Q31,Q33,Q35,Q37,Q39,Q41,Q43,Q45) -> 0 | R47: =SUM(R7,R9,R11,R13,R15,R17,R19,R21,R23,R25,R27,R29,R31,R33,R35,R37,R39,R41,R43,R45) -> 0 | S47: =SUM(S7,S9,S11,S13,S15,S17,S19,S21,S23,S25,S27,S29,S31,S33,S35,S37,S39,S41,S43,S45) -> 0 | T47: =SUM(T7,T9,T11,T13,T15,T17,T19,T21,T23,T25,T27,T29,T31,T33,T35,T37,T39,T41,T43,T45) -> 0 | U47: =SUM(U7,U9,U11,U13,U15,U17,U19,U21,U23,U25,U27,U29,U31,U33,U35,U37,U39,U41,U43,U45) -> 0 | V47: =SUM(V7,V9,V11,V13,V15,V17,V19,V21,V23,V25,V27,V29,V31,V33,V35,V37,V39,V41,V43,V45) -> 0 | W47: =SUM(W7,W9,W11,W13,W15,W17,W19,W21,W23,W25,W27,W29,W31,W33,W35,W37,W39,W41,W43,W45) -> 0 | X47: =SUM(X7,X9,X11,X13,X15,X17,X19,X21,X23,X25,X27,X29,X31,X33,X35,X37,X39,X41,X43,X45) -> 0 | ... BF47: =SUM(BF7,BF9,BF11,BF13,BF15,BF17,BF19,BF21,BF23,BF25,BF27,BF29,BF31,BF33,BF35,BF37,BF39,BF41,BF43,BF45) -> 0

Sheet واحد04
A1: تاریخ ارزیابی: .......................... | C1: ماتريس پایش عوامل زیان آور محیط کار | BE1: ویرایش 02
A2: نام کارگاه/شرکت/اداره : | F2: آدرس/تماس : | L2: خلاصه ای از فرآیند واحد :
A3: نام واحد/سالن مورد ارزیابی درج شود | I3: عوامل فيزيكي | T3: عوامل شيميايي(گرد و غبار،گازها و بخارات، ذرات معلق اسید، ذرات فلزی و شبه فلزی، الیاف و میست و... به تفکیک ذکر شود) | AN3: عوامل ارگونوميكي | AS3: پایش بیولوژیک | AV3: عوامل بيولوژیکی | AY3: عوامل روانی | BA3: ارزیابی سیستم تهویه | BE3: عوامل ایمنی (کار در ارتفاع، مجاورت کوره و ...)
A4: نوع شیفت کاری : | C4: روزکار ¨ | D4: نوبت کار ¨ | E4: مدت شیفت کاری: | I4: p1 | J4: p2 | K4: p3 | L4: p4 | M4: p5 | N4: p6 | O4: p7 | P4: p8 | Q4: p9 | R4: p10 | S4: p11 | T4: c1 | U4: c2 | V4: c3 | W4: c4 | X4: c5 | Y4: c6 | Z4: c7 | AA4: c8 | AB4: c9 | AC4: c10 | AD4: c11 | AE4: c12 | AF4: c13 | AG4: c14 | AH4: c15 | AI4: c16 | AJ4: c17 | AK4: c18 | AL4: c19 | AM4: c20 | AN4: e1 | AO4: e2 | AP4: e3 | AQ4: e4 | AR4: e5 | AS4: b1 | AT4: b2 | AU4: b3 | AV4: bi1 | AW4: bi2 | AX4: bi3 | AY4: sy1 | AZ4: sy2 | BA4: vs1 | BB4: vs2 | BC4: vs3 | BD4: vs4 | BE4: sa1 | BF4: sa2
A5: ردیف | B5: تعداد شاغلین واحد/سالن به تفکیک نوبت کاری: | E5: اطلاعات تکمیلی درباره وظایف و فعالیت های شغلی و … | I5: صدای عمومی | J5: صدای موضعی | K5: آنالیز فرکانسی | L5: دزیمتری صدا | M5: روشنایی عمومی | N5: روشنایی موضعی | O5: پرتو (UV) | P5: پرتو (IR) | Q5: سایر پرتو ها/میدان ها | R5: استرس حرارتی(گرما/سرما) | S5: ارتعاش تمام بدن/دست بازو | AN5: هل دادن/کشیدن بار | AO5: بلند كردن/پایین آوردن بار | AP5: حمل دستي بار | AQ5: وضعيت نامناسب بدني | AR5: حرکات تکراری | AS5: نمونه خون | AT5: نمونه ادرار | AV5: پایش بیوآئروسل | BA5: دفعات تعویض هوا | BB5: اختلاف فشار(+/-) | BC5: سرعت ربایش دهانه هود
B6: موقعیت حضور شاغل در واحد/سالن | C6: ابعاد سالن (L*W*H) و درصد نقطه کور | D6: عنوان شغلی | E6: پست/وظیفه/ فعالیت شغلی | F6: تعداد شاغل با شرح وظیفه یکسان در واحد/سالن | G6: تجهیزات مولد آلاینده | H6: مواد شیمیایی اولیه، بینابینی و نهایی منتشره در محیط کار | AV6: باکتری | AW6: قارچ
A7: 1 | I7: در این ردیف تعداد آیتم نیازمند سنجش در عنوان شغلی متناظر درج شود
I8: در این ردیف میزان مواجه شاغل با عامل زیان آور مورد نظر، در عنوان شغلی متناظر به دقیقه درج شود
A9: 2
A11: 3
A13: 4
A15: 5
A17: 6
A19: 7
A21: 8
A23: 9
A25: 10
A27: 11
A29: 12
A31: 13
... A45: 20
A47: تعداد موارد پیش بینی شده برای آلاینده سنجی: | I47: =SUM(I7,I9,I11,I13,I15,I17,I19,I21,I23,I25,I27,I29,I31,I33,I35,I37,I39,I41,I43,I45) -> 0 | J47: =SUM(J7,J9,J11,J13,J15,J17,J19,J21,J23,J25,J27,J29,J31,J33,J35,J37,J39,J41,J43,J45) -> 0 | K47: =SUM(K7,K9,K11,K13,K15,K17,K19,K21,K23,K25,K27,K29,K31,K33,K35,K37,K39,K41,K43,K45) -> 0 | L47: =SUM(L7,L9,L11,L13,L15,L17,L19,L21,L23,L25,L27,L29,L31,L33,L35,L37,L39,L41,L43,L45) -> 0 | M47: =SUM(M7,M9,M11,M13,M15,M17,M19,M21,M23,M25,M27,M29,M31,M33,M35,M37,M39,M41,M43,M45) -> 0 | N47: =SUM(N7,N9,N11,N13,N15,N17,N19,N21,N23,N25,N27,N29,N31,N33,N35,N37,N39,N41,N43,N45) -> 0 | O47: =SUM(O7,O9,O11,O13,O15,O17,O19,O21,O23,O25,O27,O29,O31,O33,O35,O37,O39,O41,O43,O45) -> 0 | Q47: =SUM(Q7,Q9,Q11,Q13,Q15,Q17,Q19,Q21,Q23,Q25,Q27,Q29,Q31,Q33,Q35,Q37,Q39,Q41,Q43,Q45) -> 0 | R47: =SUM(R7,R9,R11,R13,R15,R17,R19,R21,R23,R25,R27,R29,R31,R33,R35,R37,R39,R41,R43,R45) -> 0 | S47: =SUM(S7,S9,S11,S13,S15,S17,S19,S21,S23,S25,S27,S29,S31,S33,S35,S37,S39,S41,S43,S45) -> 0 | T47: =SUM(T7,T9,T11,T13,T15,T17,T19,T21,T23,T25,T27,T29,T31,T33,T35,T37,T39,T41,T43,T45) -> 0 | U47: =SUM(U7,U9,U11,U13,U15,U17,U19,U21,U23,U25,U27,U29,U31,U33,U35,U37,U39,U41,U43,U45) -> 0 | V47: =SUM(V7,V9,V11,V13,V15,V17,V19,V21,V23,V25,V27,V29,V31,V33,V35,V37,V39,V41,V43,V45) -> 0 | W47: =SUM(W7,W9,W11,W13,W15,W17,W19,W21,W23,W25,W27,W29,W31,W33,W35,W37,W39,W41,W43,W45) -> 0 | X47: =SUM(X7,X9,X11,X13,X15,X17,X19,X21,X23,X25,X27,X29,X31,X33,X35,X37,X39,X41,X43,X45) -> 0 | ... BF47: =SUM(BF7,BF9,BF11,BF13,BF15,BF17,BF19,BF21,BF23,BF25,BF27,BF29,BF31,BF33,BF35,BF37,BF39,BF41,BF43,BF45) -> 0

Sheet واحد05
A1: تاریخ ارزیابی: .......................... | C1: ماتريس پایش عوامل زیان آور محیط کار | BE1: ویرایش 02
A2: نام کارگاه/شرکت/اداره : | F2: آدرس/تماس : | L2: خلاصه ای از فرآیند واحد :
A3: نام واحد/سالن مورد ارزیابی درج شود | I3: عوامل فيزيكي | T3: عوامل شيميايي(گرد و غبار،گازها و بخارات، ذرات معلق اسید، ذرات فلزی و شبه فلزی، الیاف و میست و... به تفکیک ذکر شود) | AN3: عوامل ارگونوميكي | AS3: پایش بیولوژیک | AV3: عوامل بيولوژیکی | AY3: عوامل روانی | BA3: ارزیابی سیستم تهویه | BE3: عوامل ایمنی (کار در ارتفاع، مجاورت کوره و ...)
A4: نوع شیفت کاری : | C4: روزکار ¨ | D4: نوبت کار ¨ | E4: مدت شیفت کاری: | I4: p1 | J4: p2 | K4: p3 | L4: p4 | M4: p5 | N4: p6 | O4: p7 | P4: p8 | Q4: p9 | R4: p10 | S4: p11 | T4: c1 | U4: c2 | V4: c3 | W4: c4 | X4: c5 | Y4: c6 | Z4: c7 | AA4: c8 | AB4: c9 | AC4: c10 | AD4: c11 | AE4: c12 | AF4: c13 | AG4: c14 | AH4: c15 | AI4: c16 | AJ4: c17 | AK4: c18 | AL4: c19 | AM4: c20 | AN4: e1 | AO4: e2 | AP4: e3 | AQ4: e4 | AR4: e5 | AS4: b1 | AT4: b2 | AU4: b3 | AV4: bi1 | AW4: bi2 | AX4: bi3 | AY4: sy1 | AZ4: sy2 | BA4: vs1 | BB4: vs2 | BC4: vs3 | BD4: vs4 | BE4: sa1 | BF4: sa2
A5: ردیف | B5: تعداد شاغلین واحد/سالن به تفکیک نوبت کاری: | E5: اطلاعات تکمیلی درباره وظایف و فعالیت های شغلی و … | I5: صدای عمومی | J5: صدای موضعی | K5: آنالیز فرکانسی | L5: دزیمتری صدا | M5: روشنایی عمومی | N5: روشنایی موضعی | O5: پرتو (UV) | P5: پرتو (IR) | Q5: سایر پرتو ها/میدان ها | R5: استرس حرارتی(گرما/سرما) | S5: ارتعاش تمام بدن/دست بازو | AN5: هل دادن/کشیدن بار | AO5: بلند كردن/پایین آوردن بار | AP5: حمل دستي بار | AQ5: وضعيت نامناسب بدني | AR5: حرکات تکراری | AS5: نمونه خون | AT5: نمونه ادرار | AV5: پایش بیوآئروسل | BA5: دفعات تعویض هوا | BB5: اختلاف فشار(+/-) | BC5: سرعت ربایش دهانه هود
B6: موقعیت حضور شاغل در واحد/سالن | C6: ابعاد سالن (L*W*H) و درصد نقطه کور | D6: عنوان شغلی | E6: پست/وظیفه/ فعالیت شغلی | F6: تعداد شاغل با شرح وظیفه یکسان در واحد/سالن | G6: تجهیزات مولد آلاینده | H6: مواد شیمیایی اولیه، بینابینی و نهایی منتشره در محیط کار | AV6: باکتری | AW6: قارچ
A7: 1 | I7: در این ردیف تعداد آیتم نیازمند سنجش در عنوان شغلی متناظر درج شود
I8: در این ردیف میزان مواجه شاغل با عامل زیان آور مورد نظر، در عنوان شغلی متناظر به دقیقه درج شود
A9: 2
A11: 3
A13: 4
A15: 5
A17: 6
A19: 7
A21: 8
A23: 9
A25: 10
A27: 11
A29: 12
A31: 13
... A45: 20
A47: تعداد موارد پیش بینی شده برای آلاینده سنجی: | I47: =SUM(I7,I9,I11,I13,I15,I17,I19,I21,I23,I25,I27,I29,I31,I33,I35,I37,I39,I41,I43,I45) -> 0 | J47: =SUM(J7,J9,J11,J13,J15,J17,J19,J21,J23,J25,J27,J29,J31,J33,J35,J37,J39,J41,J43,J45) -> 0 | K47: =SUM(K7,K9,K11,K13,K15,K17,K19,K21,K23,K25,K27,K29,K31,K33,K35,K37,K39,K41,K43,K45) -> 0 | L47: =SUM(L7,L9,L11,L13,L15,L17,L19,L21,L23,L25,L27,L29,L31,L33,L35,L37,L39,L41,L43,L45) -> 0 | M47: =SUM(M7,M9,M11,M13,M15,M17,M19,M21,M23,M25,M27,M29,M31,M33,M35,M37,M39,M41,M43,M45) -> 0 | N47: =SUM(N7,N9,N11,N13,N15,N17,N19,N21,N23,N25,N27,N29,N31,N33,N35,N37,N39,N41,N43,N45) -> 0 | O47: =SUM(O7,O9,O11,O13,O15,O17,O19,O21,O23,O25,O27,O29,O31,O33,O35,O37,O39,O41,O43,O45) -> 0 | Q47: =SUM(Q7,Q9,Q11,Q13,Q15,Q17,Q19,Q21,Q23,Q25,Q27,Q29,Q31,Q33,Q35,Q37,Q39,Q41,Q43,Q45) -> 0 | R47: =SUM(R7,R9,R11,R13,R15,R17,R19,R21,R23,R25,R27,R29,R31,R33,R35,R37,R39,R41,R43,R45) -> 0 | S47: =SUM(S7,S9,S11,S13,S15,S17,S19,S21,S23,S25,S27,S29,S31,S33,S35,S37,S39,S41,S43,S45) -> 0 | T47: =SUM(T7,T9,T11,T13,T15,T17,T19,T21,T23,T25,T27,T29,T31,T33,T35,T37,T39,T41,T43,T45) -> 0 | U47: =SUM(U7,U9,U11,U13,U15,U17,U19,U21,U23,U25,U27,U29,U31,U33,U35,U37,U39,U41,U43,U45) -> 0 | V47: =SUM(V7,V9,V11,V13,V15,V17,V19,V21,V23,V25,V27,V29,V31,V33,V35,V37,V39,V41,V43,V45) -> 0 | W47: =SUM(W7,W9,W11,W13,W15,W17,W19,W21,W23,W25,W27,W29,W31,W33,W35,W37,W39,W41,W43,W45) -> 0 | X47: =SUM(X7,X9,X11,X13,X15,X17,X19,X21,X23,X25,X27,X29,X31,X33,X35,X37,X39,X41,X43,X45) -> 0 | ... BF47: =SUM(BF7,BF9,BF11,BF13,BF15,BF17,BF19,BF21,BF23,BF25,BF27,BF29,BF31,BF33,BF35,BF37,BF39,BF41,BF43,BF45) -> 0

Sheet واحد06
A1: تاریخ ارزیابی: .......................... | C1: ماتريس پایش عوامل زیان آور محیط کار | BE1: ویرایش 02
A2: نام کارگاه/شرکت/اداره : | F2: آدرس/تماس : | L2: خلاصه ای از فرآیند واحد :
A3: نام واحد/سالن مورد ارزیابی درج شود | I3: عوامل فيزيكي | T3: عوامل شيميايي(گرد و غبار،گازها و بخارات، ذرات معلق اسید، ذرات فلزی و شبه فلزی، الیاف و میست و... به تفکیک ذکر شود) | AN3: عوامل ارگونوميكي | AS3: پایش بیولوژیک | AV3: عوامل بيولوژیکی | AY3: عوامل روانی | BA3: ارزیابی سیستم تهویه | BE3: عوامل ایمنی (کار در ارتفاع، مجاورت کوره و ...)
A4: نوع شیفت کاری : | C4: روزکار ¨ | D4: نوبت کار ¨ | E4: مدت شیفت کاری: | I4: p1 | J4: p2 | K4: p3 | L4: p4 | M4: p5 | N4: p6 | O4: p7 | P4: p8 | Q4: p9 | R4: p10 | S4: p11 | T4: c1 | U4: c2 | V4: c3 | W4: c4 | X4: c5 | Y4: c6 | Z4: c7 | AA4: c8 | AB4: c9 | AC4: c10 | AD4: c11 | AE4: c12 | AF4: c13 | AG4: c14 | AH4: c15 | AI4: c16 | AJ4: c17 | AK4: c18 | AL4: c19 | AM4: c20 | AN4: e1 | AO4: e2 | AP4: e3 | AQ4: e4 | AR4: e5 | AS4: b1 | AT4: b2 | AU4: b3 | AV4: bi1 | AW4: bi2 | AX4: bi3 | AY4: sy1 | AZ4: sy2 | BA4: vs1 | BB4: vs2 | BC4: vs3 | BD4: vs4 | BE4: sa1 | BF4: sa2
A5: ردیف | B5: تعداد شاغلین واحد/سالن به تفکیک نوبت کاری: | E5: اطلاعات تکمیلی درباره وظایف و فعالیت های شغلی و … | I5: صدای عمومی | J5: صدای موضعی | K5: آنالیز فرکانسی | L5: دزیمتری صدا | M5: روشنایی عمومی | N5: روشنایی موضعی | O5: پرتو (UV) | P5: پرتو (IR) | Q5: سایر پرتو ها/میدان ها | R5: استرس حرارتی(گرما/سرما) | S5: ارتعاش تمام بدن/دست بازو | AN5: هل دادن/کشیدن بار | AO5: بلند كردن/پایین آوردن بار | AP5: حمل دستي بار | AQ5: وضعيت نامناسب بدني | AR5: حرکات تکراری | AS5: نمونه خون | AT5: نمونه ادرار | AV5: پایش بیوآئروسل | BA5: دفعات تعویض هوا | BB5: اختلاف فشار(+/-) | BC5: سرعت ربایش دهانه هود
B6: موقعیت حضور شاغل در واحد/سالن | C6: ابعاد سالن (L*W*H) و درصد نقطه کور | D6: عنوان شغلی | E6: پست/وظیفه/ فعالیت شغلی | F6: تعداد شاغل با شرح وظیفه یکسان در واحد/سالن | G6: تجهیزات مولد آلاینده | H6: مواد شیمیایی اولیه، بینابینی و نهایی منتشره در محیط کار | AV6: باکتری | AW6: قارچ
A7: 1 | I7: در این ردیف تعداد آیتم نیازمند سنجش در عنوان شغلی متناظر درج شود
I8: در این ردیف میزان مواجه شاغل با عامل زیان آور مورد نظر، در عنوان شغلی متناظر به دقیقه درج شود
A9: 2
A11: 3
A13: 4
A15: 5
A17: 6
A19: 7
A21: 8
A23: 9
A25: 10
A27: 11
A29: 12
A31: 13
... A45: 20
A47: تعداد موارد پیش بینی شده برای آلاینده سنجی: | I47: =SUM(I7,I9,I11,I13,I15,I17,I19,I21,I23,I25,I27,I29,I31,I33,I35,I37,I39,I41,I43,I45) -> 0 | J47: =SUM(J7,J9,J11,J13,J15,J17,J19,J21,J23,J25,J27,J29,J31,J33,J35,J37,J39,J41,J43,J45) -> 0 | K47: =SUM(K7,K9,K11,K13,K15,K17,K19,K21,K23,K25,K27,K29,K31,K33,K35,K37,K39,K41,K43,K45) -> 0 | L47: =SUM(L7,L9,L11,L13,L15,L17,L19,L21,L23,L25,L27,L29,L31,L33,L35,L37,L39,L41,L43,L45) -> 0 | M47: =SUM(M7,M9,M11,M13,M15,M17,M19,M21,M23,M25,M27,M29,M31,M33,M35,M37,M39,M41,M43,M45) -> 0 | N47: =SUM(N7,N9,N11,N13,N15,N17,N19,N21,N23,N25,N27,N29,N31,N33,N35,N37,N39,N41,N43,N45) -> 0 | O47: =SUM(O7,O9,O11,O13,O15,O17,O19,O21,O23,O25,O27,O29,O31,O33,O35,O37,O39,O41,O43,O45) -> 0 | Q47: =SUM(Q7,Q9,Q11,Q13,Q15,Q17,Q19,Q21,Q23,Q25,Q27,Q29,Q31,Q33,Q35,Q37,Q39,Q41,Q43,Q45) -> 0 | R47: =SUM(R7,R9,R11,R13,R15,R17,R19,R21,R23,R25,R27,R29,R31,R33,R35,R37,R39,R41,R43,R45) -> 0 | S47: =SUM(S7,S9,S11,S13,S15,S17,S19,S21,S23,S25,S27,S29,S31,S33,S35,S37,S39,S41,S43,S45) -> 0 | T47: =SUM(T7,T9,T11,T13,T15,T17,T19,T21,T23,T25,T27,T29,T31,T33,T35,T37,T39,T41,T43,T45) -> 0 | U47: =SUM(U7,U9,U11,U13,U15,U17,U19,U21,U23,U25,U27,U29,U31,U33,U35,U37,U39,U41,U43,U45) -> 0 | V47: =SUM(V7,V9,V11,V13,V15,V17,V19,V21,V23,V25,V27,V29,V31,V33,V35,V37,V39,V41,V43,V45) -> 0 | W47: =SUM(W7,W9,W11,W13,W15,W17,W19,W21,W23,W25,W27,W29,W31,W33,W35,W37,W39,W41,W43,W45) -> 0 | X47: =SUM(X7,X9,X11,X13,X15,X17,X19,X21,X23,X25,X27,X29,X31,X33,X35,X37,X39,X41,X43,X45) -> 0 | ... BF47: =SUM(BF7,BF9,BF11,BF13,BF15,BF17,BF19,BF21,BF23,BF25,BF27,BF29,BF31,BF33,BF35,BF37,BF39,BF41,BF43,BF45) -> 0

Sheet واحد07
A1: تاریخ ارزیابی: .......................... | C1: ماتريس پایش عوامل زیان آور محیط کار | BE1: ویرایش 02
A2: نام کارگاه/شرکت/اداره : | F2: آدرس/تماس : | L2: خلاصه ای از فرآیند واحد :
A3: نام واحد/سالن مورد ارزیابی درج شود | I3: عوامل فيزيكي | T3: عوامل شيميايي(گرد و غبار،گازها و بخارات، ذرات معلق اسید، ذرات فلزی و شبه فلزی، الیاف و میست و... به تفکیک ذکر شود) | AN3: عوامل ارگونوميكي | AS3: پایش بیولوژیک | AV3: عوامل بيولوژیکی | AY3: عوامل روانی | BA3: ارزیابی سیستم تهویه | BE3: عوامل ایمنی (کار در ارتفاع، مجاورت کوره و ...)
A4: نوع شیفت کاری : | C4: روزکار ¨ | D4: نوبت کار ¨ | E4: مدت شیفت کاری: | I4: p1 | J4: p2 | K4: p3 | L4: p4 | M4: p5 | N4: p6 | O4: p7 | P4: p8 | Q4: p9 | R4: p10 | S4: p11 | T4: c1 | U4: c2 | V4: c3 | W4: c4 | X4: c5 | Y4: c6 | Z4: c7 | AA4: c8 | AB4: c9 | AC4: c10 | AD4: c11 | AE4: c12 | AF4: c13 | AG4: c14 | AH4: c15 | AI4: c16 | AJ4: c17 | AK4: c18 | AL4: c19 | AM4: c20 | AN4: e1 | AO4: e2 | AP4: e3 | AQ4: e4 | AR4: e5 | AS4: b1 | AT4: b2 | AU4: b3 | AV4: bi1 | AW4: bi2 | AX4: bi3 | AY4: sy1 | AZ4: sy2 | BA4: vs1 | BB4: vs2 | BC4: vs3 | BD4: vs4 | BE4: sa1 | BF4: sa2
A5: ردیف | B5: تعداد شاغلین واحد/سالن به تفکیک نوبت کاری: | E5: اطلاعات تکمیلی درباره وظایف و فعالیت های شغلی و … | I5: صدای عمومی | J5: صدای موضعی | K5: آنالیز فرکانسی | L5: دزیمتری صدا | M5: روشنایی عمومی | N5: روشنایی موضعی | O5: پرتو (UV) | P5: پرتو (IR) | Q5: سایر پرتو ها/میدان ها | R5: استرس حرارتی(گرما/سرما) | S5: ارتعاش تمام بدن/دست بازو | AN5: هل دادن/کشیدن بار | AO5: بلند كردن/پایین آوردن بار | AP5: حمل دستي بار | AQ5: وضعيت نامناسب بدني | AR5: حرکات تکراری | AS5: نمونه خون | AT5: نمونه ادرار | AV5: پایش بیوآئروسل | BA5: دفعات تعویض هوا | BB5: اختلاف فشار(+/-) | BC5: سرعت ربایش دهانه هود
B6: موقعیت حضور شاغل در واحد/سالن | C6: ابعاد سالن (L*W*H) و درصد نقطه کور | D6: عنوان شغلی | E6: پست/وظیفه/ فعالیت شغلی | F6: تعداد شاغل با شرح وظیفه یکسان در واحد/سالن | G6: تجهیزات مولد آلاینده | H6: مواد شیمیایی اولیه، بینابینی و نهایی منتشره در محیط کار | AV6: باکتری | AW6: قارچ
A7: 1 | I7: در این ردیف تعداد آیتم نیازمند سنجش در عنوان شغلی متناظر درج شود
I8: در این ردیف میزان مواجه شاغل با عامل زیان آور مورد نظر، در عنوان شغلی متناظر به دقیقه درج شود
A9: 2
A11: 3
A13: 4
A15: 5
A17: 6
A19: 7
A21: 8
A23: 9
A25: 10
A27: 11
A29: 12
A31: 13
... A45: 20
A47: تعداد موارد پیش بینی شده برای آلاینده سنجی: | I47: =SUM(I7,I9,I11,I13,I15,I17,I19,I21,I23,I25,I27,I29,I31,I33,I35,I37,I39,I41,I43,I45) -> 0 | J47: =SUM(J7,J9,J11,J13,J15,J17,J19,J21,J23,J25,J27,J29,J31,J33,J35,J37,J39,J41,J43,J45) -> 0 | K47: =SUM(K7,K9,K11,K13,K15,K17,K19,K21,K23,K25,K27,K29,K31,K33,K35,K37,K39,K41,K43,K45) -> 0 | L47: =SUM(L7,L9,L11,L13,L15,L17,L19,L21,L23,L25,L27,L29,L31,L33,L35,L37,L39,L41,L43,L45) -> 0 | M47: =SUM(M7,M9,M11,M13,M15,M17,M19,M21,M23,M25,M27,M29,M31,M33,M35,M37,M39,M41,M43,M45) -> 0 | N47: =SUM(N7,N9,N11,N13,N15,N17,N19,N21,N23,N25,N27,N29,N31,N33,N35,N37,N39,N41,N43,N45) -> 0 | O47: =SUM(O7,O9,O11,O13,O15,O17,O19,O21,O23,O25,O27,O29,O31,O33,O35,O37,O39,O41,O43,O45) -> 0 | Q47: =SUM(Q7,Q9,Q11,Q13,Q15,Q17,Q19,Q21,Q23,Q25,Q27,Q29,Q31,Q33,Q35,Q37,Q39,Q41,Q43,Q45) -> 0 | R47: =SUM(R7,R9,R11,R13,R15,R17,R19,R21,R23,R25,R27,R29,R31,R33,R35,R37,R39,R41,R43,R45) -> 0 | S47: =SUM(S7,S9,S11,S13,S15,S17,S19,S21,S23,S25,S27,S29,S31,S33,S35,S37,S39,S41,S43,S45) -> 0 | T47: =SUM(T7,T9,T11,T13,T15,T17,T19,T21,T23,T25,T27,T29,T31,T33,T35,T37,T39,T41,T43,T45) -> 0 | U47: =SUM(U7,U9,U11,U13,U15,U17,U19,U21,U23,U25,U27,U29,U31,U33,U35,U37,U39,U41,U43,U45) -> 0 | V47: =SUM(V7,V9,V11,V13,V15,V17,V19,V21,V23,V25,V27,V29,V31,V33,V35,V37,V39,V41,V43,V45) -> 0 | W47: =SUM(W7,W9,W11,W13,W15,W17,W19,W21,W23,W25,W27,W29,W31,W33,W35,W37,W39,W41,W43,W45) -> 0 | X47: =SUM(X7,X9,X11,X13,X15,X17,X19,X21,X23,X25,X27,X29,X31,X33,X35,X37,X39,X41,X43,X45) -> 0 | ... BF47: =SUM(BF7,BF9,BF11,BF13,BF15,BF17,BF19,BF21,BF23,BF25,BF27,BF29,BF31,BF33,BF35,BF37,BF39,BF41,BF43,BF45) -> 0

Sheet واحد08
A1: تاریخ ارزیابی: .......................... | C1: ماتريس پایش عوامل زیان آور محیط کار | BE1: ویرایش 02
A2: نام کارگاه/شرکت/اداره : | F2: آدرس/تماس : | L2: خلاصه ای از فرآیند واحد :
A3: نام واحد/سالن مورد ارزیابی درج شود | I3: عوامل فيزيكي | T3: عوامل شيميايي(گرد و غبار،گازها و بخارات، ذرات معلق اسید، ذرات فلزی و شبه فلزی، الیاف و میست و... به تفکیک ذکر شود) | AN3: عوامل ارگونوميكي | AS3: پایش بیولوژیک | AV3: عوامل بيولوژیکی | AY3: عوامل روانی | BA3: ارزیابی سیستم تهویه | BE3: عوامل ایمنی (کار در ارتفاع، مجاورت کوره و ...)
A4: نوع شیفت کاری : | C4: روزکار ¨ | D4: نوبت کار ¨ | E4: مدت شیفت کاری: | I4: p1 | J4: p2 | K4: p3 | L4: p4 | M4: p5 | N4: p6 | O4: p7 | P4: p8 | Q4: p9 | R4: p10 | S4: p11 | T4: c1 | U4: c2 | V4: c3 | W4: c4 | X4: c5 | Y4: c6 | Z4: c7 | AA4: c8 | AB4: c9 | AC4: c10 | AD4: c11 | AE4: c12 | AF4: c13 | AG4: c14 | AH4: c15 | AI4: c16 | AJ4: c17 | AK4: c18 | AL4: c19 | AM4: c20 | AN4: e1 | AO4: e2 | AP4: e3 | AQ4: e4 | AR4: e5 | AS4: b1 | AT4: b2 | AU4: b3 | AV4: bi1 | AW4: bi2 | AX4: bi3 | AY4: sy1 | AZ4: sy2 | BA4: vs1 | BB4: vs2 | BC4: vs3 | BD4: vs4 | BE4: sa1 | BF4: sa2
A5: ردیف | B5: تعداد شاغلین واحد/سالن به تفکیک نوبت کاری: | E5: اطلاعات تکمیلی درباره وظایف و فعالیت های شغلی و … | I5: صدای عمومی | J5: صدای موضعی | K5: آنالیز فرکانسی | L5: دزیمتری صدا | M5: روشنایی عمومی | N5: روشنایی موضعی | O5: پرتو (UV) | P5: پرتو (IR) | Q5: سایر پرتو ها/میدان ها | R5: استرس حرارتی(گرما/سرما) | S5: ارتعاش تمام بدن/دست بازو | AN5: هل دادن/کشیدن بار | AO5: بلند كردن/پایین آوردن بار | AP5: حمل دستي بار | AQ5: وضعيت نامناسب بدني | AR5: حرکات تکراری | AS5: نمونه خون | AT5: نمونه ادرار | AV5: پایش بیوآئروسل | BA5: دفعات تعویض هوا | BB5: اختلاف فشار(+/-) | BC5: سرعت ربایش دهانه هود
B6: موقعیت حضور شاغل در واحد/سالن | C6: ابعاد سالن (L*W*H) و درصد نقطه کور | D6: عنوان شغلی | E6: پست/وظیفه/ فعالیت شغلی | F6: تعداد شاغل با شرح وظیفه یکسان در واحد/سالن | G6: تجهیزات مولد آلاینده | H6: مواد شیمیایی اولیه، بینابینی و نهایی منتشره در محیط کار | AV6: باکتری | AW6: قارچ
A7: 1 | I7: در این ردیف تعداد آیتم نیازمند سنجش در عنوان شغلی متناظر درج شود
I8: در این ردیف میزان مواجهه(زمان) شاغل با عامل زیان آور مورد نظر، در عنوان شغلی متناظر به دقیقه درج شود
A9: 2
A11: 3
A13: 4
A15: 5
A17: 6
A19: 7
A21: 8
A23: 9
A25: 10
A27: 11
A29: 12
A31: 13
... A45: 20
A47: تعداد موارد پیش بینی شده برای آلاینده سنجی: | I47: =SUM(I7,I9,I11,I13,I15,I17,I19,I21,I23,I25,I27,I29,I31,I33,I35,I37,I39,I41,I43,I45) -> 0 | J47: =SUM(J7,J9,J11,J13,J15,J17,J19,J21,J23,J25,J27,J29,J31,J33,J35,J37,J39,J41,J43,J45) -> 0 | K47: =SUM(K7,K9,K11,K13,K15,K17,K19,K21,K23,K25,K27,K29,K31,K33,K35,K37,K39,K41,K43,K45) -> 0 | L47: =SUM(L7,L9,L11,L13,L15,L17,L19,L21,L23,L25,L27,L29,L31,L33,L35,L37,L39,L41,L43,L45) -> 0 | M47: =SUM(M7,M9,M11,M13,M15,M17,M19,M21,M23,M25,M27,M29,M31,M33,M35,M37,M39,M41,M43,M45) -> 0 | N47: =SUM(N7,N9,N11,N13,N15,N17,N19,N21,N23,N25,N27,N29,N31,N33,N35,N37,N39,N41,N43,N45) -> 0 | O47: =SUM(O7,O9,O11,O13,O15,O17,O19,O21,O23,O25,O27,O29,O31,O33,O35,O37,O39,O41,O43,O45) -> 0 | Q47: =SUM(Q7,Q9,Q11,Q13,Q15,Q17,Q19,Q21,Q23,Q25,Q27,Q29,Q31,Q33,Q35,Q37,Q39,Q41,Q43,Q45) -> 0 | R47: =SUM(R7,R9,R11,R13,R15,R17,R19,R21,R23,R25,R27,R29,R31,R33,R35,R37,R39,R41,R43,R45) -> 0 | S47: =SUM(S7,S9,S11,S13,S15,S17,S19,S21,S23,S25,S27,S29,S31,S33,S35,S37,S39,S41,S43,S45) -> 0 | T47: =SUM(T7,T9,T11,T13,T15,T17,T19,T21,T23,T25,T27,T29,T31,T33,T35,T37,T39,T41,T43,T45) -> 0 | U47: =SUM(U7,U9,U11,U13,U15,U17,U19,U21,U23,U25,U27,U29,U31,U33,U35,U37,U39,U41,U43,U45) -> 0 | V47: =SUM(V7,V9,V11,V13,V15,V17,V19,V21,V23,V25,V27,V29,V31,V33,V35,V37,V39,V41,V43,V45) -> 0 | W47: =SUM(W7,W9,W11,W13,W15,W17,W19,W21,W23,W25,W27,W29,W31,W33,W35,W37,W39,W41,W43,W45) -> 0 | X47: =SUM(X7,X9,X11,X13,X15,X17,X19,X21,X23,X25,X27,X29,X31,X33,X35,X37,X39,X41,X43,X45) -> 0 | ... BF47: =SUM(BF7,BF9,BF11,BF13,BF15,BF17,BF19,BF21,BF23,BF25,BF27,BF29,BF31,BF33,BF35,BF37,BF39,BF41,BF43,BF45) -> 0

Sheet واحد09
A1: تاریخ ارزیابی: .......................... | C1: ماتريس پایش عوامل زیان آور محیط کار | BE1: ویرایش 02
A2: نام کارگاه/شرکت/اداره : | F2: آدرس/تماس : | L2: خلاصه ای از فرآیند واحد :
A3: نام واحد/سالن مورد ارزیابی درج شود | I3: عوامل فيزيكي | T3: عوامل شيميايي(گرد و غبار،گازها و بخارات، ذرات معلق اسید، ذرات فلزی و شبه فلزی، الیاف و میست و... به تفکیک ذکر شود) | AN3: عوامل ارگونوميكي | AS3: پایش بیولوژیک | AV3: عوامل بيولوژیکی | AY3: عوامل روانی | BA3: ارزیابی سیستم تهویه | BE3: عوامل ایمنی (کار در ارتفاع، مجاورت کوره و ...)
A4: نوع شیفت کاری : | C4: روزکار ¨ | D4: نوبت کار ¨ | E4: مدت شیفت کاری: | I4: p1 | J4: p2 | K4: p3 | L4: p4 | M4: p5 | N4: p6 | O4: p7 | P4: p8 | Q4: p9 | R4: p10 | S4: p11 | T4: c1 | U4: c2 | V4: c3 | W4: c4 | X4: c5 | Y4: c6 | Z4: c7 | AA4: c8 | AB4: c9 | AC4: c10 | AD4: c11 | AE4: c12 | AF4: c13 | AG4: c14 | AH4: c15 | AI4: c16 | AJ4: c17 | AK4: c18 | AL4: c19 | AM4: c20 | AN4: e1 | AO4: e2 | AP4: e3 | AQ4: e4 | AR4: e5 | AS4: b1 | AT4: b2 | AU4: b3 | AV4: bi1 | AW4: bi2 | AX4: bi3 | AY4: sy1 | AZ4: sy2 | BA4: vs1 | BB4: vs2 | BC4: vs3 | BD4: vs4 | BE4: sa1 | BF4: sa2
A5: ردیف | B5: تعداد شاغلین واحد/سالن به تفکیک نوبت کاری: | E5: اطلاعات تکمیلی درباره وظایف و فعالیت های شغلی و … | I5: صدای عمومی | J5: صدای موضعی | K5: آنالیز فرکانسی | L5: دزیمتری صدا | M5: روشنایی عمومی | N5: روشنایی موضعی | O5: پرتو (UV) | P5: پرتو (IR) | Q5: سایر پرتو ها/میدان ها | R5: استرس حرارتی(گرما/سرما) | S5: ارتعاش تمام بدن/دست بازو | AN5: هل دادن/کشیدن بار | AO5: بلند كردن/پایین آوردن بار | AP5: حمل دستي بار | AQ5: وضعيت نامناسب بدني | AR5: حرکات تکراری | AS5: نمونه خون | AT5: نمونه ادرار | AV5: پایش بیوآئروسل | BA5: دفعات تعویض هوا | BB5: اختلاف فشار(+/-) | BC5: سرعت ربایش دهانه هود
B6: موقعیت حضور شاغل در واحد/سالن | C6: ابعاد سالن (L*W*H) و درصد نقطه کور | D6: عنوان شغلی | E6: پست/وظیفه/ فعالیت شغلی | F6: تعداد شاغل با شرح وظیفه یکسان در واحد/سالن | G6: تجهیزات مولد آلاینده | H6: مواد شیمیایی اولیه، بینابینی و نهایی منتشره در محیط کار | AV6: باکتری | AW6: قارچ
A7: 1 | I7: در این ردیف تعداد آیتم نیازمند سنجش در عنوان شغلی متناظر درج شود
I8: در این ردیف میزان مواجه شاغل با عامل زیان آور مورد نظر، در عنوان شغلی متناظر به دقیقه درج شود
A9: 2
A11: 3
A13: 4
A15: 5
A17: 6
A19: 7
A21: 8
A23: 9
A25: 10
A27: 11
A29: 12
A31: 13
... A45: 20
A47: تعداد موارد پیش بینی شده برای آلاینده سنجی: | I47: =SUM(I7,I9,I11,I13,I15,I17,I19,I21,I23,I25,I27,I29,I31,I33,I35,I37,I39,I41,I43,I45) -> 0 | J47: =SUM(J7,J9,J11,J13,J15,J17,J19,J21,J23,J25,J27,J29,J31,J33,J35,J37,J39,J41,J43,J45) -> 0 | K47: =SUM(K7,K9,K11,K13,K15,K17,K19,K21,K23,K25,K27,K29,K31,K33,K35,K37,K39,K41,K43,K45) -> 0 | L47: =SUM(L7,L9,L11,L13,L15,L17,L19,L21,L23,L25,L27,L29,L31,L33,L35,L37,L39,L41,L43,L45) -> 0 | M47: =SUM(M7,M9,M11,M13,M15,M17,M19,M21,M23,M25,M27,M29,M31,M33,M35,M37,M39,M41,M43,M45) -> 0 | N47: =SUM(N7,N9,N11,N13,N15,N17,N19,N21,N23,N25,N27,N29,N31,N33,N35,N37,N39,N41,N43,N45) -> 0 | O47: =SUM(O7,O9,O11,O13,O15,O17,O19,O21,O23,O25,O27,O29,O31,O33,O35,O37,O39,O41,O43,O45) -> 0 | Q47: =SUM(Q7,Q9,Q11,Q13,Q15,Q17,Q19,Q21,Q23,Q25,Q27,Q29,Q31,Q33,Q35,Q37,Q39,Q41,Q43,Q45) -> 0 | R47: =SUM(R7,R9,R11,R13,R15,R17,R19,R21,R23,R25,R27,R29,R31,R33,R35,R37,R39,R41,R43,R45) -> 0 | S47: =SUM(S7,S9,S11,S13,S15,S17,S19,S21,S23,S25,S27,S29,S31,S33,S35,S37,S39,S41,S43,S45) -> 0 | T47: =SUM(T7,T9,T11,T13,T15,T17,T19,T21,T23,T25,T27,T29,T31,T33,T35,T37,T39,T41,T43,T45) -> 0 | U47: =SUM(U7,U9,U11,U13,U15,U17,U19,U21,U23,U25,U27,U29,U31,U33,U35,U37,U39,U41,U43,U45) -> 0 | V47: =SUM(V7,V9,V11,V13,V15,V17,V19,V21,V23,V25,V27,V29,V31,V33,V35,V37,V39,V41,V43,V45) -> 0 | W47: =SUM(W7,W9,W11,W13,W15,W17,W19,W21,W23,W25,W27,W29,W31,W33,W35,W37,W39,W41,W43,W45) -> 0 | X47: =SUM(X7,X9,X11,X13,X15,X17,X19,X21,X23,X25,X27,X29,X31,X33,X35,X37,X39,X41,X43,X45) -> 0 | ... BF47: =SUM(BF7,BF9,BF11,BF13,BF15,BF17,BF19,BF21,BF23,BF25,BF27,BF29,BF31,BF33,BF35,BF37,BF39,BF41,BF43,BF45) -> 0

Sheet واحد10
A1: تاریخ ارزیابی: .......................... | C1: ماتريس پایش عوامل زیان آور محیط کار | BE1: ویرایش 02
A2: نام کارگاه/شرکت/اداره : | F2: آدرس/تماس : | L2: خلاصه ای از فرآیند واحد :
A3: نام واحد/سالن مورد ارزیابی درج شود | I3: عوامل فيزيكي | T3: عوامل شيميايي(گرد و غبار،گازها و بخارات، ذرات معلق اسید، ذرات فلزی و شبه فلزی، الیاف و میست و... به تفکیک ذکر شود) | AN3: عوامل ارگونوميكي | AS3: پایش بیولوژیک | AV3: عوامل بيولوژیکی | AY3: عوامل روانی | BA3: ارزیابی سیستم تهویه | BE3: عوامل ایمنی (کار در ارتفاع، مجاورت کوره و ...)
A4: نوع شیفت کاری : | C4: روزکار ¨ | D4: نوبت کار ¨ | E4: مدت شیفت کاری: | I4: p1 | J4: p2 | K4: p3 | L4: p4 | M4: p5 | N4: p6 | O4: p7 | P4: p8 | Q4: p9 | R4: p10 | S4: p11 | T4: c1 | U4: c2 | V4: c3 | W4: c4 | X4: c5 | Y4: c6 | Z4: c7 | AA4: c8 | AB4: c9 | AC4: c10 | AD4: c11 | AE4: c12 | AF4: c13 | AG4: c14 | AH4: c15 | AI4: c16 | AJ4: c17 | AK4: c18 | AL4: c19 | AM4: c20 | AN4: e1 | AO4: e2 | AP4: e3 | AQ4: e4 | AR4: e5 | AS4: b1 | AT4: b2 | AU4: b3 | AV4: bi1 | AW4: bi2 | AX4: bi3 | AY4: sy1 | AZ4: sy2 | BA4: vs1 | BB4: vs2 | BC4: vs3 | BD4: vs4 | BE4: sa1 | BF4: sa2
A5: ردیف | B5: تعداد شاغلین واحد/سالن به تفکیک نوبت کاری: | E5: اطلاعات تکمیلی درباره وظایف و فعالیت های شغلی و … | I5: صدای عمومی | J5: صدای موضعی | K5: آنالیز فرکانسی | L5: دزیمتری صدا | M5: روشنایی عمومی | N5: روشنایی موضعی | O5: پرتو (UV) | P5: پرتو (IR) | Q5: سایر پرتو ها/میدان ها | R5: استرس حرارتی(گرما/سرما) | S5: ارتعاش تمام بدن/دست بازو | AN5: هل دادن/کشیدن بار | AO5: بلند كردن/پایین آوردن بار | AP5: حمل دستي بار | AQ5: وضعيت نامناسب بدني | AR5: حرکات تکراری | AS5: نمونه خون | AT5: نمونه ادرار | AV5: پایش بیوآئروسل | BA5: دفعات تعویض هوا | BB5: اختلاف فشار(+/-) | BC5: سرعت ربایش دهانه هود
B6: موقعیت حضور شاغل در واحد/سالن | C6: ابعاد سالن (L*W*H) و درصد نقطه کور | D6: عنوان شغلی | E6: پست/وظیفه/ فعالیت شغلی | F6: تعداد شاغل با شرح وظیفه یکسان در واحد/سالن | G6: تجهیزات مولد آلاینده | H6: مواد شیمیایی اولیه، بینابینی و نهایی منتشره در محیط کار | AV6: باکتری | AW6: قارچ
A7: 1 | I7: در این ردیف تعداد آیتم نیازمند سنجش در عنوان شغلی متناظر درج شود
I8: در این ردیف میزان مواجه شاغل با عامل زیان آور مورد نظر، در عنوان شغلی متناظر به دقیقه درج شود
A9: 2
A11: 3
A13: 4
A15: 5
A17: 6
A19: 7
A21: 8
A23: 9
A25: 10
A27: 11
A29: 12
A31: 13
... A45: 20
A47: تعداد موارد پیش بینی شده برای آلاینده سنجی: | I47: =SUM(I7,I9,I11,I13,I15,I17,I19,I21,I23,I25,I27,I29,I31,I33,I35,I37,I39,I41,I43,I45) -> 0 | J47: =SUM(J7,J9,J11,J13,J15,J17,J19,J21,J23,J25,J27,J29,J31,J33,J35,J37,J39,J41,J43,J45) -> 0 | K47: =SUM(K7,K9,K11,K13,K15,K17,K19,K21,K23,K25,K27,K29,K31,K33,K35,K37,K39,K41,K43,K45) -> 0 | L47: =SUM(L7,L9,L11,L13,L15,L17,L19,L21,L23,L25,L27,L29,L31,L33,L35,L37,L39,L41,L43,L45) -> 0 | M47: =SUM(M7,M9,M11,M13,M15,M17,M19,M21,M23,M25,M27,M29,M31,M33,M35,M37,M39,M41,M43,M45) -> 0 | N47: =SUM(N7,N9,N11,N13,N15,N17,N19,N21,N23,N25,N27,N29,N31,N33,N35,N37,N39,N41,N43,N45) -> 0 | O47: =SUM(O7,O9,O11,O13,O15,O17,O19,O21,O23,O25,O27,O29,O31,O33,O35,O37,O39,O41,O43,O45) -> 0 | Q47: =SUM(Q7,Q9,Q11,Q13,Q15,Q17,Q19,Q21,Q23,Q25,Q27,Q29,Q31,Q33,Q35,Q37,Q39,Q41,Q43,Q45) -> 0 | R47: =SUM(R7,R9,R11,R13,R15,R17,R19,R21,R23,R25,R27,R29,R31,R33,R35,R37,R39,R41,R43,R45) -> 0 | S47: =SUM(S7,S9,S11,S13,S15,S17,S19,S21,S23,S25,S27,S29,S31,S33,S35,S37,S39,S41,S43,S45) -> 0 | T47: =SUM(T7,T9,T11,T13,T15,T17,T19,T21,T23,T25,T27,T29,T31,T33,T35,T37,T39,T41,T43,T45) -> 0 | U47: =SUM(U7,U9,U11,U13,U15,U17,U19,U21,U23,U25,U27,U29,U31,U33,U35,U37,U39,U41,U43,U45) -> 0 | V47: =SUM(V7,V9,V11,V13,V15,V17,V19,V21,V23,V25,V27,V29,V31,V33,V35,V37,V39,V41,V43,V45) -> 0 | W47: =SUM(W7,W9,W11,W13,W15,W17,W19,W21,W23,W25,W27,W29,W31,W33,W35,W37,W39,W41,W43,W45) -> 0 | X47: =SUM(X7,X9,X11,X13,X15,X17,X19,X21,X23,X25,X27,X29,X31,X33,X35,X37,X39,X41,X43,X45) -> 0 | ... BF47: =SUM(BF7,BF9,BF11,BF13,BF15,BF17,BF19,BF21,BF23,BF25,BF27,BF29,BF31,BF33,BF35,BF37,BF39,BF41,BF43,BF45) -> 0

Sheet واحد11
A1: تاریخ ارزیابی: .......................... | C1: ماتريس پایش عوامل زیان آور محیط کار | BE1: ویرایش 02
A2: نام کارگاه/شرکت/اداره : | F2: آدرس/تماس : | L2: خلاصه ای از فرآیند واحد :
A3: نام واحد/سالن مورد ارزیابی درج شود | I3: عوامل فيزيكي | T3: عوامل شيميايي(گرد و غبار،گازها و بخارات، ذرات معلق اسید، ذرات فلزی و شبه فلزی، الیاف و میست و... به تفکیک ذکر شود) | AN3: عوامل ارگونوميكي | AS3: پایش بیولوژیک | AV3: عوامل بيولوژیکی | AY3: عوامل روانی | BA3: ارزیابی سیستم تهویه | BE3: عوامل ایمنی (کار در ارتفاع، مجاورت کوره و ...)
A4: نوع شیفت کاری : | C4: روزکار ¨ | D4: نوبت کار ¨ | E4: مدت شیفت کاری: | I4: p1 | J4: p2 | K4: p3 | L4: p4 | M4: p5 | N4: p6 | O4: p7 | P4: p8 | Q4: p9 | R4: p10 | S4: p11 | T4: c1 | U4: c2 | V4: c3 | W4: c4 | X4: c5 | Y4: c6 | Z4: c7 | AA4: c8 | AB4: c9 | AC4: c10 | AD4: c11 | AE4: c12 | AF4: c13 | AG4: c14 | AH4: c15 | AI4: c16 | AJ4: c17 | AK4: c18 | AL4: c19 | AM4: c20 | AN4: e1 | AO4: e2 | AP4: e3 | AQ4: e4 | AR4: e5 | AS4: b1 | AT4: b2 | AU4: b3 | AV4: bi1 | AW4: bi2 | AX4: bi3 | AY4: sy1 | AZ4: sy2 | BA4: vs1 | BB4: vs2 | BC4: vs3 | BD4: vs4 | BE4: sa1 | BF4: sa2
A5: ردیف | B5: تعداد شاغلین واحد/سالن به تفکیک نوبت کاری: | E5: اطلاعات تکمیلی درباره وظایف و فعالیت های شغلی و … | I5: صدای عمومی | J5: صدای موضعی | K5: آنالیز فرکانسی | L5: دزیمتری صدا | M5: روشنایی عمومی | N5: روشنایی موضعی | O5: پرتو (UV) | P5: پرتو (IR) | Q5: سایر پرتو ها/میدان ها | R5: استرس حرارتی(گرما/سرما) | S5: ارتعاش تمام بدن/دست بازو | AN5: هل دادن/کشیدن بار | AO5: بلند كردن/پایین آوردن بار | AP5: حمل دستي بار | AQ5: وضعيت نامناسب بدني | AR5: حرکات تکراری | AS5: نمونه خون | AT5: نمونه ادرار | AV5: پایش بیوآئروسل | BA5: دفعات تعویض هوا | BB5: اختلاف فشار(+/-) | BC5: سرعت ربایش دهانه هود
B6: موقعیت حضور شاغل در واحد/سالن | C6: ابعاد سالن (L*W*H) و درصد نقطه کور | D6: عنوان شغلی | E6: پست/وظیفه/ فعالیت شغلی | F6: تعداد شاغل با شرح وظیفه یکسان در واحد/سالن | G6: تجهیزات مولد آلاینده | H6: مواد شیمیایی اولیه، بینابینی و نهایی منتشره در محیط کار | AV6: باکتری | AW6: قارچ
A7: 1 | I7: در این ردیف تعداد آیتم نیازمند سنجش در عنوان شغلی متناظر درج شود
I8: در این ردیف میزان مواجه شاغل با عامل زیان آور مورد نظر، در عنوان شغلی متناظر به دقیقه درج شود
A9: 2
A11: 3
A13: 4
A15: 5
A17: 6
A19: 7
A21: 8
A23: 9
A25: 10
A27: 11
A29: 12
A31: 13
... A45: 20
A47: تعداد موارد پیش بینی شده برای آلاینده سنجی: | I47: =SUM(I7,I9,I11,I13,I15,I17,I19,I21,I23,I25,I27,I29,I31,I33,I35,I37,I39,I41,I43,I45) -> 0 | J47: =SUM(J7,J9,J11,J13,J15,J17,J19,J21,J23,J25,J27,J29,J31,J33,J35,J37,J39,J41,J43,J45) -> 0 | K47: =SUM(K7,K9,K11,K13,K15,K17,K19,K21,K23,K25,K27,K29,K31,K33,K35,K37,K39,K41,K43,K45) -> 0 | L47: =SUM(L7,L9,L11,L13,L15,L17,L19,L21,L23,L25,L27,L29,L31,L33,L35,L37,L39,L41,L43,L45) -> 0 | M47: =SUM(M7,M9,M11,M13,M15,M17,M19,M21,M23,M25,M27,M29,M31,M33,M35,M37,M39,M41,M43,M45) -> 0 | N47: =SUM(N7,N9,N11,N13,N15,N17,N19,N21,N23,N25,N27,N29,N31,N33,N35,N37,N39,N41,N43,N45) -> 0 | O47: =SUM(O7,O9,O11,O13,O15,O17,O19,O21,O23,O25,O27,O29,O31,O33,O35,O37,O39,O41,O43,O45) -> 0 | Q47: =SUM(Q7,Q9,Q11,Q13,Q15,Q17,Q19,Q21,Q23,Q25,Q27,Q29,Q31,Q33,Q35,Q37,Q39,Q41,Q43,Q45) -> 0 | R47: =SUM(R7,R9,R11,R13,R15,R17,R19,R21,R23,R25,R27,R29,R31,R33,R35,R37,R39,R41,R43,R45) -> 0 | S47: =SUM(S7,S9,S11,S13,S15,S17,S19,S21,S23,S25,S27,S29,S31,S33,S35,S37,S39,S41,S43,S45) -> 0 | T47: =SUM(T7,T9,T11,T13,T15,T17,T19,T21,T23,T25,T27,T29,T31,T33,T35,T37,T39,T41,T43,T45) -> 0 | U47: =SUM(U7,U9,U11,U13,U15,U17,U19,U21,U23,U25,U27,U29,U31,U33,U35,U37,U39,U41,U43,U45) -> 0 | V47: =SUM(V7,V9,V11,V13,V15,V17,V19,V21,V23,V25,V27,V29,V31,V33,V35,V37,V39,V41,V43,V45) -> 0 | W47: =SUM(W7,W9,W11,W13,W15,W17,W19,W21,W23,W25,W27,W29,W31,W33,W35,W37,W39,W41,W43,W45) -> 0 | X47: =SUM(X7,X9,X11,X13,X15,X17,X19,X21,X23,X25,X27,X29,X31,X33,X35,X37,X39,X41,X43,X45) -> 0 | ... BF47: =SUM(BF7,BF9,BF11,BF13,BF15,BF17,BF19,BF21,BF23,BF25,BF27,BF29,BF31,BF33,BF35,BF37,BF39,BF41,BF43,BF45) -> 0

Sheet واحد12
A1: تاریخ ارزیابی: .......................... | C1: ماتريس پایش عوامل زیان آور محیط کار | BE1: ویرایش 02
A2: نام کارگاه/شرکت/اداره : | F2: آدرس/تماس : | L2: خلاصه ای از فرآیند واحد :
A3: نام واحد/سالن مورد ارزیابی درج شود | I3: عوامل فيزيكي | T3: عوامل شيميايي(گرد و غبار،گازها و بخارات، ذرات معلق اسید، ذرات فلزی و شبه فلزی، الیاف و میست و... به تفکیک ذکر شود) | AN3: عوامل ارگونوميكي | AS3: پایش بیولوژیک | AV3: عوامل بيولوژیکی | AY3: عوامل روانی | BA3: ارزیابی سیستم تهویه | BE3: عوامل ایمنی (کار در ارتفاع، مجاورت کوره و ...)
A4: نوع شیفت کاری : | C4: روزکار ¨ | D4: نوبت کار ¨ | E4: مدت شیفت کاری: | I4: p1 | J4: p2 | K4: p3 | L4: p4 | M4: p5 | N4: p6 | O4: p7 | P4: p8 | Q4: p9 | R4: p10 | S4: p11 | T4: c1 | U4: c2 | V4: c3 | W4: c4 | X4: c5 | Y4: c6 | Z4: c7 | AA4: c8 | AB4: c9 | AC4: c10 | AD4: c11 | AE4: c12 | AF4: c13 | AG4: c14 | AH4: c15 | AI4: c16 | AJ4: c17 | AK4: c18 | AL4: c19 | AM4: c20 | AN4: e1 | AO4: e2 | AP4: e3 | AQ4: e4 | AR4: e5 | AS4: b1 | AT4: b2 | AU4: b3 | AV4: bi1 | AW4: bi2 | AX4: bi3 | AY4: sy1 | AZ4: sy2 | BA4: vs1 | BB4: vs2 | BC4: vs3 | BD4: vs4 | BE4: sa1 | BF4: sa2
A5: ردیف | B5: تعداد شاغلین واحد/سالن به تفکیک نوبت کاری: | E5: اطلاعات تکمیلی درباره وظایف و فعالیت های شغلی و … | I5: صدای عمومی | J5: صدای موضعی | K5: آنالیز فرکانسی | L5: دزیمتری صدا | M5: روشنایی عمومی | N5: روشنایی موضعی | O5: پرتو (UV) | P5: پرتو (IR) | Q5: سایر پرتو ها/میدان ها | R5: استرس حرارتی(گرما/سرما) | S5: ارتعاش تمام بدن/دست بازو | AN5: هل دادن/کشیدن بار | AO5: بلند كردن/پایین آوردن بار | AP5: حمل دستي بار | AQ5: وضعيت نامناسب بدني | AR5: حرکات تکراری | AS5: نمونه خون | AT5: نمونه ادرار | AV5: پایش بیوآئروسل | BA5: دفعات تعویض هوا | BB5: اختلاف فشار(+/-) | BC5: سرعت ربایش دهانه هود
B6: موقعیت حضور شاغل در واحد/سالن | C6: ابعاد سالن (L*W*H) و درصد نقطه کور | D6: عنوان شغلی | E6: پست/وظیفه/ فعالیت شغلی | F6: تعداد شاغل با شرح وظیفه یکسان در واحد/سالن | G6: تجهیزات مولد آلاینده | H6: مواد شیمیایی اولیه، بینابینی و نهایی منتشره در محیط کار | AV6: باکتری | AW6: قارچ
A7: 1 | I7: در این ردیف تعداد آیتم نیازمند سنجش در عنوان شغلی متناظر درج شود
I8: در این ردیف میزان مواجه شاغل با عامل زیان آور مورد نظر، در عنوان شغلی متناظر به دقیقه درج شود
A9: 2
A11: 3
A13: 4
A15: 5
A17: 6
A19: 7
A21: 8
A23: 9
A25: 10
A27: 11
A29: 12
A31: 13
... A45: 20
A47: تعداد موارد پیش بینی شده برای آلاینده سنجی: | I47: =SUM(I7,I9,I11,I13,I15,I17,I19,I21,I23,I25,I27,I29,I31,I33,I35,I37,I39,I41,I43,I45) -> 0 | J47: =SUM(J7,J9,J11,J13,J15,J17,J19,J21,J23,J25,J27,J29,J31,J33,J35,J37,J39,J41,J43,J45) -> 0 | K47: =SUM(K7,K9,K11,K13,K15,K17,K19,K21,K23,K25,K27,K29,K31,K33,K35,K37,K39,K41,K43,K45) -> 0 | L47: =SUM(L7,L9,L11,L13,L15,L17,L19,L21,L23,L25,L27,L29,L31,L33,L35,L37,L39,L41,L43,L45) -> 0 | M47: =SUM(M7,M9,M11,M13,M15,M17,M19,M21,M23,M25,M27,M29,M31,M33,M35,M37,M39,M41,M43,M45) -> 0 | N47: =SUM(N7,N9,N11,N13,N15,N17,N19,N21,N23,N25,N27,N29,N31,N33,N35,N37,N39,N41,N43,N45) -> 0 | O47: =SUM(O7,O9,O11,O13,O15,O17,O19,O21,O23,O25,O27,O29,O31,O33,O35,O37,O39,O41,O43,O45) -> 0 | Q47: =SUM(Q7,Q9,Q11,Q13,Q15,Q17,Q19,Q21,Q23,Q25,Q27,Q29,Q31,Q33,Q35,Q37,Q39,Q41,Q43,Q45) -> 0 | R47: =SUM(R7,R9,R11,R13,R15,R17,R19,R21,R23,R25,R27,R29,R31,R33,R35,R37,R39,R41,R43,R45) -> 0 | S47: =SUM(S7,S9,S11,S13,S15,S17,S19,S21,S23,S25,S27,S29,S31,S33,S35,S37,S39,S41,S43,S45) -> 0 | T47: =SUM(T7,T9,T11,T13,T15,T17,T19,T21,T23,T25,T27,T29,T31,T33,T35,T37,T39,T41,T43,T45) -> 0 | U47: =SUM(U7,U9,U11,U13,U15,U17,U19,U21,U23,U25,U27,U29,U31,U33,U35,U37,U39,U41,U43,U45) -> 0 | V47: =SUM(V7,V9,V11,V13,V15,V17,V19,V21,V23,V25,V27,V29,V31,V33,V35,V37,V39,V41,V43,V45) -> 0 | W47: =SUM(W7,W9,W11,W13,W15,W17,W19,W21,W23,W25,W27,W29,W31,W33,W35,W37,W39,W41,W43,W45) -> 0 | X47: =SUM(X7,X9,X11,X13,X15,X17,X19,X21,X23,X25,X27,X29,X31,X33,X35,X37,X39,X41,X43,X45) -> 0 | ... BF47: =SUM(BF7,BF9,BF11,BF13,BF15,BF17,BF19,BF21,BF23,BF25,BF27,BF29,BF31,BF33,BF35,BF37,BF39,BF41,BF43,BF45) -> 0

Sheet واحد13
A1: تاریخ ارزیابی: .......................... | C1: ماتريس پایش عوامل زیان آور محیط کار | BE1: ویرایش 02
A2: نام کارگاه/شرکت/اداره : | F2: آدرس/تماس : | L2: خلاصه ای از فرآیند واحد :
A3: نام واحد/سالن مورد ارزیابی درج شود | I3: عوامل فيزيكي | T3: عوامل شيميايي(گرد و غبار،گازها و بخارات، ذرات معلق اسید، ذرات فلزی و شبه فلزی، الیاف و میست و... به تفکیک ذکر شود) | AN3: عوامل ارگونوميكي | AS3: پایش بیولوژیک | AV3: عوامل بيولوژیکی | AY3: عوامل روانی | BA3: ارزیابی سیستم تهویه | BE3: عوامل ایمنی (کار در ارتفاع، مجاورت کوره و ...)
A4: نوع شیفت کاری : | C4: روزکار ¨ | D4: نوبت کار ¨ | E4: مدت شیفت کاری: | I4: p1 | J4: p2 | K4: p3 | L4: p4 | M4: p5 | N4: p6 | O4: p7 | P4: p8 | Q4: p9 | R4: p10 | S4: p11 | T4: c1 | U4: c2 | V4: c3 | W4: c4 | X4: c5 | Y4: c6 | Z4: c7 | AA4: c8 | AB4: c9 | AC4: c10 | AD4: c11 | AE4: c12 | AF4: c13 | AG4: c14 | AH4: c15 | AI4: c16 | AJ4: c17 | AK4: c18 | AL4: c19 | AM4: c20 | AN4: e1 | AO4: e2 | AP4: e3 | AQ4: e4 | AR4: e5 | AS4: b1 | AT4: b2 | AU4: b3 | AV4: bi1 | AW4: bi2 | AX4: bi3 | AY4: sy1 | AZ4: sy2 | BA4: vs1 | BB4: vs2 | BC4: vs3 | BD4: vs4 | BE4: sa1 | BF4: sa2
A5: ردیف | B5: تعداد شاغلین واحد/سالن به تفکیک نوبت کاری: | E5: اطلاعات تکمیلی درباره وظایف و فعالیت های شغلی و … | I5: صدای عمومی | J5: صدای موضعی | K5: آنالیز فرکانسی | L5: دزیمتری صدا | M5: روشنایی عمومی | N5: روشنایی موضعی | O5: پرتو (UV) | P5: پرتو (IR) | Q5: سایر پرتو ها/میدان ها | R5: استرس حرارتی(گرما/سرما) | S5: ارتعاش تمام بدن/دست بازو | AN5: هل دادن/کشیدن بار | AO5: بلند كردن/پایین آوردن بار | AP5: حمل دستي بار | AQ5: وضعيت نامناسب بدني | AR5: حرکات تکراری | AS5: نمونه خون | AT5: نمونه ادرار | AV5: پایش بیوآئروسل | BA5: دفعات تعویض هوا | BB5: اختلاف فشار(+/-) | BC5: سرعت ربایش دهانه هود
B6: موقعیت حضور شاغل در واحد/سالن | C6: ابعاد سالن (L*W*H) و درصد نقطه کور | D6: عنوان شغلی | E6: پست/وظیفه/ فعالیت شغلی | F6: تعداد شاغل با شرح وظیفه یکسان در واحد/سالن | G6: تجهیزات مولد آلاینده | H6: مواد شیمیایی اولیه، بینابینی و نهایی منتشره در محیط کار | AV6: باکتری | AW6: قارچ
A7: 1 | I7: در این ردیف تعداد آیتم نیازمند سنجش در عنوان شغلی متناظر درج شود
I8: در این ردیف میزان مواجه شاغل با عامل زیان آور مورد نظر، در عنوان شغلی متناظر به دقیقه درج شود
A9: 2
A11: 3
A13: 4
A15: 5
A17: 6
A19: 7
A21: 8
A23: 9
A25: 10
A27: 11
A29: 12
A31: 13
... A45: 20
A47: تعداد موارد پیش بینی شده برای آلاینده سنجی: | I47: =SUM(I7,I9,I11,I13,I15,I17,I19,I21,I23,I25,I27,I29,I31,I33,I35,I37,I39,I41,I43,I45) -> 0 | J47: =SUM(J7,J9,J11,J13,J15,J17,J19,J21,J23,J25,J27,J29,J31,J33,J35,J37,J39,J41,J43,J45) -> 0 | K47: =SUM(K7,K9,K11,K13,K15,K17,K19,K21,K23,K25,K27,K29,K31,K33,K35,K37,K39,K41,K43,K45) -> 0 | L47: =SUM(L7,L9,L11,L13,L15,L17,L19,L21,L23,L25,L27,L29,L31,L33,L35,L37,L39,L41,L43,L45) -> 0 | M47: =SUM(M7,M9,M11,M13,M15,M17,M19,M21,M23,M25,M27,M29,M31,M33,M35,M37,M39,M41,M43,M45) -> 0 | N47: =SUM(N7,N9,N11,N13,N15,N17,N19,N21,N23,N25,N27,N29,N31,N33,N35,N37,N39,N41,N43,N45) -> 0 | O47: =SUM(O7,O9,O11,O13,O15,O17,O19,O21,O23,O25,O27,O29,O31,O33,O35,O37,O39,O41,O43,O45) -> 0 | Q47: =SUM(Q7,Q9,Q11,Q13,Q15,Q17,Q19,Q21,Q23,Q25,Q27,Q29,Q31,Q33,Q35,Q37,Q39,Q41,Q43,Q45) -> 0 | R47: =SUM(R7,R9,R11,R13,R15,R17,R19,R21,R23,R25,R27,R29,R31,R33,R35,R37,R39,R41,R43,R45) -> 0 | S47: =SUM(S7,S9,S11,S13,S15,S17,S19,S21,S23,S25,S27,S29,S31,S33,S35,S37,S39,S41,S43,S45) -> 0 | T47: =SUM(T7,T9,T11,T13,T15,T17,T19,T21,T23,T25,T27,T29,T31,T33,T35,T37,T39,T41,T43,T45) -> 0 | U47: =SUM(U7,U9,U11,U13,U15,U17,U19,U21,U23,U25,U27,U29,U31,U33,U35,U37,U39,U41,U43,U45) -> 0 | V47: =SUM(V7,V9,V11,V13,V15,V17,V19,V21,V23,V25,V27,V29,V31,V33,V35,V37,V39,V41,V43,V45) -> 0 | W47: =SUM(W7,W9,W11,W13,W15,W17,W19,W21,W23,W25,W27,W29,W31,W33,W35,W37,W39,W41,W43,W45) -> 0 | X47: =SUM(X7,X9,X11,X13,X15,X17,X19,X21,X23,X25,X27,X29,X31,X33,X35,X37,X39,X41,X43,X45) -> 0 | ... BF47: =SUM(BF7,BF9,BF11,BF13,BF15,BF17,BF19,BF21,BF23,BF25,BF27,BF29,BF31,BF33,BF35,BF37,BF39,BF41,BF43,BF45) -> 0

Sheet واحد14
A1: تاریخ ارزیابی: .......................... | C1: ماتريس پایش عوامل زیان آور محیط کار | BE1: ویرایش 02
A2: نام کارگاه/شرکت/اداره : | F2: آدرس/تماس : | L2: خلاصه ای از فرآیند واحد :
A3: نام واحد/سالن مورد ارزیابی درج شود | I3: عوامل فيزيكي | T3: عوامل شيميايي(گرد و غبار،گازها و بخارات، ذرات معلق اسید، ذرات فلزی و شبه فلزی، الیاف و میست و... به تفکیک ذکر شود) | AN3: عوامل ارگونوميكي | AS3: پایش بیولوژیک | AV3: عوامل بيولوژیکی | AY3: عوامل روانی | BA3: ارزیابی سیستم تهویه | BE3: عوامل ایمنی (کار در ارتفاع، مجاورت کوره و ...)
A4: نوع شیفت کاری : | C4: روزکار ¨ | D4: نوبت کار ¨ | E4: مدت شیفت کاری: | I4: p1 | J4: p2 | K4: p3 | L4: p4 | M4: p5 | N4: p6 | O4: p7 | P4: p8 | Q4: p9 | R4: p10 | S4: p11 | T4: c1 | U4: c2 | V4: c3 | W4: c4 | X4: c5 | Y4: c6 | Z4: c7 | AA4: c8 | AB4: c9 | AC4: c10 | AD4: c11 | AE4: c12 | AF4: c13 | AG4: c14 | AH4: c15 | AI4: c16 | AJ4: c17 | AK4: c18 | AL4: c19 | AM4: c20 | AN4: e1 | AO4: e2 | AP4: e3 | AQ4: e4 | AR4: e5 | AS4: b1 | AT4: b2 | AU4: b3 | AV4: bi1 | AW4: bi2 | AX4: bi3 | AY4: sy1 | AZ4: sy2 | BA4: vs1 | BB4: vs2 | BC4: vs3 | BD4: vs4 | BE4: sa1 | BF4: sa2
A5: ردیف | B5: تعداد شاغلین واحد/سالن به تفکیک نوبت کاری: | E5: اطلاعات تکمیلی درباره وظایف و فعالیت های شغلی و … | I5: صدای عمومی | J5: صدای موضعی | K5: آنالیز فرکانسی | L5: دزیمتری صدا | M5: روشنایی عمومی | N5: روشنایی موضعی | O5: پرتو (UV) | P5: پرتو (IR) | Q5: سایر پرتو ها/میدان ها | R5: استرس حرارتی(گرما/سرما) | S5: ارتعاش تمام بدن/دست بازو | AN5: هل دادن/کشیدن بار | AO5: بلند كردن/پایین آوردن بار | AP5: حمل دستي بار | AQ5: وضعيت نامناسب بدني | AR5: حرکات تکراری | AS5: نمونه خون | AT5: نمونه ادرار | AV5: پایش بیوآئروسل | BA5: دفعات تعویض هوا | BB5: اختلاف فشار(+/-) | BC5: سرعت ربایش دهانه هود
B6: موقعیت حضور شاغل در واحد/سالن | C6: ابعاد سالن (L*W*H) و درصد نقطه کور | D6: عنوان شغلی | E6: پست/وظیفه/ فعالیت شغلی | F6: تعداد شاغل با شرح وظیفه یکسان در واحد/سالن | G6: تجهیزات مولد آلاینده | H6: مواد شیمیایی اولیه، بینابینی و نهایی منتشره در محیط کار | AV6: باکتری | AW6: قارچ
A7: 1 | I7: در این ردیف تعداد آیتم نیازمند سنجش در عنوان شغلی متناظر درج شود
I8: در این ردیف میزان مواجه شاغل با عامل زیان آور مورد نظر، در عنوان شغلی متناظر به دقیقه درج شود
A9: 2
A11: 3
A13: 4
A15: 5
A17: 6
A19: 7
A21: 8
A23: 9
A25: 10
A27: 11
A29: 12
A31: 13
... A45: 20
A47: تعداد موارد پیش بینی شده برای آلاینده سنجی: | I47: =SUM(I7,I9,I11,I13,I15,I17,I19,I21,I23,I25,I27,I29,I31,I33,I35,I37,I39,I41,I43,I45) -> 0 | J47: =SUM(J7,J9,J11,J13,J15,J17,J19,J21,J23,J25,J27,J29,J31,J33,J35,J37,J39,J41,J43,J45) -> 0 | K47: =SUM(K7,K9,K11,K13,K15,K17,K19,K21,K23,K25,K27,K29,K31,K33,K35,K37,K39,K41,K43,K45) -> 0 | L47: =SUM(L7,L9,L11,L13,L15,L17,L19,L21,L23,L25,L27,L29,L31,L33,L35,L37,L39,L41,L43,L45) -> 0 | M47: =SUM(M7,M9,M11,M13,M15,M17,M19,M21,M23,M25,M27,M29,M31,M33,M35,M37,M39,M41,M43,M45) -> 0 | N47: =SUM(N7,N9,N11,N13,N15,N17,N19,N21,N23,N25,N27,N29,N31,N33,N35,N37,N39,N41,N43,N45) -> 0 | O47: =SUM(O7,O9,O11,O13,O15,O17,O19,O21,O23,O25,O27,O29,O31,O33,O35,O37,O39,O41,O43,O45) -> 0 | Q47: =SUM(Q7,Q9,Q11,Q13,Q15,Q17,Q19,Q21,Q23,Q25,Q27,Q29,Q31,Q33,Q35,Q37,Q39,Q41,Q43,Q45) -> 0 | R47: =SUM(R7,R9,R11,R13,R15,R17,R19,R21,R23,R25,R27,R29,R31,R33,R35,R37,R39,R41,R43,R45) -> 0 | S47: =SUM(S7,S9,S11,S13,S15,S17,S19,S21,S23,S25,S27,S29,S31,S33,S35,S37,S39,S41,S43,S45) -> 0 | T47: =SUM(T7,T9,T11,T13,T15,T17,T19,T21,T23,T25,T27,T29,T31,T33,T35,T37,T39,T41,T43,T45) -> 0 | U47: =SUM(U7,U9,U11,U13,U15,U17,U19,U21,U23,U25,U27,U29,U31,U33,U35,U37,U39,U41,U43,U45) -> 0 | V47: =SUM(V7,V9,V11,V13,V15,V17,V19,V21,V23,V25,V27,V29,V31,V33,V35,V37,V39,V41,V43,V45) -> 0 | W47: =SUM(W7,W9,W11,W13,W15,W17,W19,W21,W23,W25,W27,W29,W31,W33,W35,W37,W39,W41,W43,W45) -> 0 | X47: =SUM(X7,X9,X11,X13,X15,X17,X19,X21,X23,X25,X27,X29,X31,X33,X35,X37,X39,X41,X43,X45) -> 0 | ... BF47: =SUM(BF7,BF9,BF11,BF13,BF15,BF17,BF19,BF21,BF23,BF25,BF27,BF29,BF31,BF33,BF35,BF37,BF39,BF41,BF43,BF45) -> 0

Sheet واحد15
A1: تاریخ ارزیابی: .......................... | C1: ماتريس پایش عوامل زیان آور محیط کار | BE1: ویرایش 02
A2: نام کارگاه/شرکت/اداره : | F2: آدرس/تماس : | L2: خلاصه ای از فرآیند واحد :
A3: نام واحد/سالن مورد ارزیابی درج شود | I3: عوامل فيزيكي | T3: عوامل شيميايي(گرد و غبار،گازها و بخارات، ذرات معلق اسید، ذرات فلزی و شبه فلزی، الیاف و میست و... به تفکیک ذکر شود) | AN3: عوامل ارگونوميكي | AS3: پایش بیولوژیک | AV3: عوامل بيولوژیکی | AY3: عوامل روانی | BA3: ارزیابی سیستم تهویه | BE3: عوامل ایمنی (کار در ارتفاع، مجاورت کوره و ...)
A4: نوع شیفت کاری : | C4: روزکار ¨ | D4: نوبت کار ¨ | E4: مدت شیفت کاری: | I4: p1 | J4: p2 | K4: p3 | L4: p4 | M4: p5 | N4: p6 | O4: p7 | P4: p8 | Q4: p9 | R4: p10 | S4: p11 | T4: c1 | U4: c2 | V4: c3 | W4: c4 | X4: c5 | Y4: c6 | Z4: c7 | AA4: c8 | AB4: c9 | AC4: c10 | AD4: c11 | AE4: c12 | AF4: c13 | AG4: c14 | AH4: c15 | AI4: c16 | AJ4: c17 | AK4: c18 | AL4: c19 | AM4: c20 | AN4: e1 | AO4: e2 | AP4: e3 | AQ4: e4 | AR4: e5 | AS4: b1 | AT4: b2 | AU4: b3 | AV4: bi1 | AW4: bi2 | AX4: bi3 | AY4: sy1 | AZ4: sy2 | BA4: vs1 | BB4: vs2 | BC4: vs3 | BD4: vs4 | BE4: sa1 | BF4: sa2
A5: ردیف | B5: تعداد شاغلین واحد/سالن به تفکیک نوبت کاری: | E5: اطلاعات تکمیلی درباره وظایف و فعالیت های شغلی و … | I5: صدای عمومی | J5: صدای موضعی | K5: آنالیز فرکانسی | L5: دزیمتری صدا | M5: روشنایی عمومی | N5: روشنایی موضعی | O5: پرتو (UV) | P5: پرتو (IR) | Q5: سایر پرتو ها/میدان ها | R5: استرس حرارتی(گرما/سرما) | S5: ارتعاش تمام بدن/دست بازو | AN5: هل دادن/کشیدن بار | AO5: بلند كردن/پایین آوردن بار | AP5: حمل دستي بار | AQ5: وضعيت نامناسب بدني | AR5: حرکات تکراری | AS5: نمونه خون | AT5: نمونه ادرار | AV5: پایش بیوآئروسل | BA5: دفعات تعویض هوا | BB5: اختلاف فشار(+/-) | BC5: سرعت ربایش دهانه هود
B6: موقعیت حضور شاغل در واحد/سالن | C6: ابعاد سالن (L*W*H) و درصد نقطه کور | D6: عنوان شغلی | E6: پست/وظیفه/ فعالیت شغلی | F6: تعداد شاغل با شرح وظیفه یکسان در واحد/سالن | G6: تجهیزات مولد آلاینده | H6: مواد شیمیایی اولیه، بینابینی و نهایی منتشره در محیط کار | AV6: باکتری | AW6: قارچ
A7: 1 | I7: در این ردیف تعداد آیتم نیازمند سنجش در عنوان شغلی متناظر درج شود
I8: در این ردیف میزان مواجه شاغل با عامل زیان آور مورد نظر، در عنوان شغلی متناظر به دقیقه درج شود
A9: 2
A11: 3
A13: 4
A15: 5
A17: 6
A19: 7
A21: 8
A23: 9
A25: 10
A27: 11
A29: 12
A31: 13
... A45: 20
A47: تعداد موارد پیش بینی شده برای آلاینده سنجی: | I47: =SUM(I7,I9,I11,I13,I15,I17,I19,I21,I23,I25,I27,I29,I31,I33,I35,I37,I39,I41,I43,I45) -> 0 | J47: =SUM(J7,J9,J11,J13,J15,J17,J19,J21,J23,J25,J27,J29,J31,J33,J35,J37,J39,J41,J43,J45) -> 0 | K47: =SUM(K7,K9,K11,K13,K15,K17,K19,K21,K23,K25,K27,K29,K31,K33,K35,K37,K39,K41,K43,K45) -> 0 | L47: =SUM(L7,L9,L11,L13,L15,L17,L19,L21,L23,L25,L27,L29,L31,L33,L35,L37,L39,L41,L43,L45) -> 0 | M47: =SUM(M7,M9,M11,M13,M15,M17,M19,M21,M23,M25,M27,M29,M31,M33,M35,M37,M39,M41,M43,M45) -> 0 | N47: =SUM(N7,N9,N11,N13,N15,N17,N19,N21,N23,N25,N27,N29,N31,N33,N35,N37,N39,N41,N43,N45) -> 0 | O47: =SUM(O7,O9,O11,O13,O15,O17,O19,O21,O23,O25,O27,O29,O31,O33,O35,O37,O39,O41,O43,O45) -> 0 | Q47: =SUM(Q7,Q9,Q11,Q13,Q15,Q17,Q19,Q21,Q23,Q25,Q27,Q29,Q31,Q33,Q35,Q37,Q39,Q41,Q43,Q45) -> 0 | R47: =SUM(R7,R9,R11,R13,R15,R17,R19,R21,R23,R25,R27,R29,R31,R33,R35,R37,R39,R41,R43,R45) -> 0 | S47: =SUM(S7,S9,S11,S13,S15,S17,S19,S21,S23,S25,S27,S29,S31,S33,S35,S37,S39,S41,S43,S45) -> 0 | T47: =SUM(T7,T9,T11,T13,T15,T17,T19,T21,T23,T25,T27,T29,T31,T33,T35,T37,T39,T41,T43,T45) -> 0 | U47: =SUM(U7,U9,U11,U13,U15,U17,U19,U21,U23,U25,U27,U29,U31,U33,U35,U37,U39,U41,U43,U45) -> 0 | V47: =SUM(V7,V9,V11,V13,V15,V17,V19,V21,V23,V25,V27,V29,V31,V33,V35,V37,V39,V41,V43,V45) -> 0 | W47: =SUM(W7,W9,W11,W13,W15,W17,W19,W21,W23,W25,W27,W29,W31,W33,W35,W37,W39,W41,W43,W45) -> 0 | X47: =SUM(X7,X9,X11,X13,X15,X17,X19,X21,X23,X25,X27,X29,X31,X33,X35,X37,X39,X41,X43,X45) -> 0 | ... BF47: =SUM(BF7,BF9,BF11,BF13,BF15,BF17,BF19,BF21,BF23,BF25,BF27,BF29,BF31,BF33,BF35,BF37,BF39,BF41,BF43,BF45) -> 0

Sheet واحد16
A1: تاریخ ارزیابی: .......................... | C1: ماتريس پایش عوامل زیان آور محیط کار | BE1: ویرایش 02
A2: نام کارگاه/شرکت/اداره : | F2: آدرس/تماس : | L2: خلاصه ای از فرآیند واحد :
A3: نام واحد/سالن مورد ارزیابی درج شود | I3: عوامل فيزيكي | T3: عوامل شيميايي(گرد و غبار،گازها و بخارات، ذرات معلق اسید، ذرات فلزی و شبه فلزی، الیاف و میست و... به تفکیک ذکر شود) | AN3: عوامل ارگونوميكي | AS3: پایش بیولوژیک | AV3: عوامل بيولوژیکی | AY3: عوامل روانی | BA3: ارزیابی سیستم تهویه | BE3: عوامل ایمنی (کار در ارتفاع، مجاورت کوره و ...)
A4: نوع شیفت کاری : | C4: روزکار ¨ | D4: نوبت کار ¨ | E4: مدت شیفت کاری: | I4: p1 | J4: p2 | K4: p3 | L4: p4 | M4: p5 | N4: p6 | O4: p7 | P4: p8 | Q4: p9 | R4: p10 | S4: p11 | T4: c1 | U4: c2 | V4: c3 | W4: c4 | X4: c5 | Y4: c6 | Z4: c7 | AA4: c8 | AB4: c9 | AC4: c10 | AD4: c11 | AE4: c12 | AF4: c13 | AG4: c14 | AH4: c15 | AI4: c16 | AJ4: c17 | AK4: c18 | AL4: c19 | AM4: c20 | AN4: e1 | AO4: e2 | AP4: e3 | AQ4: e4 | AR4: e5 | AS4: b1 | AT4: b2 | AU4: b3 | AV4: bi1 | AW4: bi2 | AX4: bi3 | AY4: sy1 | AZ4: sy2 | BA4: vs1 | BB4: vs2 | BC4: vs3 | BD4: vs4 | BE4: sa1 | BF4: sa2
A5: ردیف | B5: تعداد شاغلین واحد/سالن به تفکیک نوبت کاری: | E5: اطلاعات تکمیلی درباره وظایف و فعالیت های شغلی و … | I5: صدای عمومی | J5: صدای موضعی | K5: آنالیز فرکانسی | L5: دزیمتری صدا | M5: روشنایی عمومی | N5: روشنایی موضعی | O5: پرتو (UV) | P5: پرتو (IR) | Q5: سایر پرتو ها/میدان ها | R5: استرس حرارتی(گرما/سرما) | S5: ارتعاش تمام بدن/دست بازو | AN5: هل دادن/کشیدن بار | AO5: بلند كردن/پایین آوردن بار | AP5: حمل دستي بار | AQ5: وضعيت نامناسب بدني | AR5: حرکات تکراری | AS5: نمونه خون | AT5: نمونه ادرار | AV5: پایش بیوآئروسل | BA5: دفعات تعویض هوا | BB5: اختلاف فشار(+/-) | BC5: سرعت ربایش دهانه هود
B6: موقعیت حضور شاغل در واحد/سالن | C6: ابعاد سالن (L*W*H) و درصد نقطه کور | D6: عنوان شغلی | E6: پست/وظیفه/ فعالیت شغلی | F6: تعداد شاغل با شرح وظیفه یکسان در واحد/سالن | G6: تجهیزات مولد آلاینده | H6: مواد شیمیایی اولیه، بینابینی و نهایی منتشره در محیط کار | AV6: باکتری | AW6: قارچ
A7: 1 | I7: در این ردیف تعداد آیتم نیازمند سنجش در عنوان شغلی متناظر درج شود
I8: در این ردیف میزان مواجه شاغل با عامل زیان آور مورد نظر، در عنوان شغلی متناظر به دقیقه درج شود
A9: 2
A11: 3
A13: 4
A15: 5
A17: 6
A19: 7
A21: 8
A23: 9
A25: 10
A27: 11
A29: 12
A31: 13
... A45: 20
A47: تعداد موارد پیش بینی شده برای آلاینده سنجی: | I47: =SUM(I7,I9,I11,I13,I15,I17,I19,I21,I23,I25,I27,I29,I31,I33,I35,I37,I39,I41,I43,I45) -> 0 | J47: =SUM(J7,J9,J11,J13,J15,J17,J19,J21,J23,J25,J27,J29,J31,J33,J35,J37,J39,J41,J43,J45) -> 0 | K47: =SUM(K7,K9,K11,K13,K15,K17,K19,K21,K23,K25,K27,K29,K31,K33,K35,K37,K39,K41,K43,K45) -> 0 | L47: =SUM(L7,L9,L11,L13,L15,L17,L19,L21,L23,L25,L27,L29,L31,L33,L35,L37,L39,L41,L43,L45) -> 0 | M47: =SUM(M7,M9,M11,M13,M15,M17,M19,M21,M23,M25,M27,M29,M31,M33,M35,M37,M39,M41,M43,M45) -> 0 | N47: =SUM(N7,N9,N11,N13,N15,N17,N19,N21,N23,N25,N27,N29,N31,N33,N35,N37,N39,N41,N43,N45) -> 0 | O47: =SUM(O7,O9,O11,O13,O15,O17,O19,O21,O23,O25,O27,O29,O31,O33,O35,O37,O39,O41,O43,O45) -> 0 | Q47: =SUM(Q7,Q9,Q11,Q13,Q15,Q17,Q19,Q21,Q23,Q25,Q27,Q29,Q31,Q33,Q35,Q37,Q39,Q41,Q43,Q45) -> 0 | R47: =SUM(R7,R9,R11,R13,R15,R17,R19,R21,R23,R25,R27,R29,R31,R33,R35,R37,R39,R41,R43,R45) -> 0 | S47: =SUM(S7,S9,S11,S13,S15,S17,S19,S21,S23,S25,S27,S29,S31,S33,S35,S37,S39,S41,S43,S45) -> 0 | T47: =SUM(T7,T9,T11,T13,T15,T17,T19,T21,T23,T25,T27,T29,T31,T33,T35,T37,T39,T41,T43,T45) -> 0 | U47: =SUM(U7,U9,U11,U13,U15,U17,U19,U21,U23,U25,U27,U29,U31,U33,U35,U37,U39,U41,U43,U45) -> 0 | V47: =SUM(V7,V9,V11,V13,V15,V17,V19,V21,V23,V25,V27,V29,V31,V33,V35,V37,V39,V41,V43,V45) -> 0 | W47: =SUM(W7,W9,W11,W13,W15,W17,W19,W21,W23,W25,W27,W29,W31,W33,W35,W37,W39,W41,W43,W45) -> 0 | X47: =SUM(X7,X9,X11,X13,X15,X17,X19,X21,X23,X25,X27,X29,X31,X33,X35,X37,X39,X41,X43,X45) -> 0 | ... BF47: =SUM(BF7,BF9,BF11,BF13,BF15,BF17,BF19,BF21,BF23,BF25,BF27,BF29,BF31,BF33,BF35,BF37,BF39,BF41,BF43,BF45) -> 0

Sheet واحد17
A1: تاریخ ارزیابی: .......................... | C1: ماتريس پایش عوامل زیان آور محیط کار | BE1: ویرایش 02
A2: نام کارگاه/شرکت/اداره : | F2: آدرس/تماس : | L2: خلاصه ای از فرآیند واحد :
A3: نام واحد/سالن مورد ارزیابی درج شود | I3: عوامل فيزيكي | T3: عوامل شيميايي(گرد و غبار،گازها و بخارات، ذرات معلق اسید، ذرات فلزی و شبه فلزی، الیاف و میست و... به تفکیک ذکر شود) | AN3: عوامل ارگونوميكي | AS3: پایش بیولوژیک | AV3: عوامل بيولوژیکی | AY3: عوامل روانی | BA3: ارزیابی سیستم تهویه | BE3: عوامل ایمنی (کار در ارتفاع، مجاورت کوره و ...)
A4: نوع شیفت کاری : | C4: روزکار ¨ | D4: نوبت کار ¨ | E4: مدت شیفت کاری: | I4: p1 | J4: p2 | K4: p3 | L4: p4 | M4: p5 | N4: p6 | O4: p7 | P4: p8 | Q4: p9 | R4: p10 | S4: p11 | T4: c1 | U4: c2 | V4: c3 | W4: c4 | X4: c5 | Y4: c6 | Z4: c7 | AA4: c8 | AB4: c9 | AC4: c10 | AD4: c11 | AE4: c12 | AF4: c13 | AG4: c14 | AH4: c15 | AI4: c16 | AJ4: c17 | AK4: c18 | AL4: c19 | AM4: c20 | AN4: e1 | AO4: e2 | AP4: e3 | AQ4: e4 | AR4: e5 | AS4: b1 | AT4: b2 | AU4: b3 | AV4: bi1 | AW4: bi2 | AX4: bi3 | AY4: sy1 | AZ4: sy2 | BA4: vs1 | BB4: vs2 | BC4: vs3 | BD4: vs4 | BE4: sa1 | BF4: sa2
A5: ردیف | B5: تعداد شاغلین واحد/سالن به تفکیک نوبت کاری: | E5: اطلاعات تکمیلی درباره وظایف و فعالیت های شغلی و … | I5: صدای عمومی | J5: صدای موضعی | K5: آنالیز فرکانسی | L5: دزیمتری صدا | M5: روشنایی عمومی | N5: روشنایی موضعی | O5: پرتو (UV) | P5: پرتو (IR) | Q5: سایر پرتو ها/میدان ها | R5: استرس حرارتی(گرما/سرما) | S5: ارتعاش تمام بدن/دست بازو | AN5: هل دادن/کشیدن بار | AO5: بلند كردن/پایین آوردن بار | AP5: حمل دستي بار | AQ5: وضعيت نامناسب بدني | AR5: حرکات تکراری | AS5: نمونه خون | AT5: نمونه ادرار | AV5: پایش بیوآئروسل | BA5: دفعات تعویض هوا | BB5: اختلاف فشار(+/-) | BC5: سرعت ربایش دهانه هود
B6: موقعیت حضور شاغل در واحد/سالن | C6: ابعاد سالن (L*W*H) و درصد نقطه کور | D6: عنوان شغلی | E6: پست/وظیفه/ فعالیت شغلی | F6: تعداد شاغل با شرح وظیفه یکسان در واحد/سالن | G6: تجهیزات مولد آلاینده | H6: مواد شیمیایی اولیه، بینابینی و نهایی منتشره در محیط کار | AV6: باکتری | AW6: قارچ
A7: 1 | I7: در این ردیف تعداد آیتم نیازمند سنجش در عنوان شغلی متناظر درج شود
I8: در این ردیف میزان مواجه شاغل با عامل زیان آور مورد نظر، در عنوان شغلی متناظر به دقیقه درج شود
A9: 2
A11: 3
A13: 4
A15: 5
A17: 6
A19: 7
A21: 8
A23: 9
A25: 10
A27: 11
A29: 12
A31: 13
... A45: 20
A47: تعداد موارد پیش بینی شده برای آلاینده سنجی: | I47: =SUM(I7,I9,I11,I13,I15,I17,I19,I21,I23,I25,I27,I29,I31,I33,I35,I37,I39,I41,I43,I45) -> 0 | J47: =SUM(J7,J9,J11,J13,J15,J17,J19,J21,J23,J25,J27,J29,J31,J33,J35,J37,J39,J41,J43,J45) -> 0 | K47: =SUM(K7,K9,K11,K13,K15,K17,K19,K21,K23,K25,K27,K29,K31,K33,K35,K37,K39,K41,K43,K45) -> 0 | L47: =SUM(L7,L9,L11,L13,L15,L17,L19,L21,L23,L25,L27,L29,L31,L33,L35,L37,L39,L41,L43,L45) -> 0 | M47: =SUM(M7,M9,M11,M13,M15,M17,M19,M21,M23,M25,M27,M29,M31,M33,M35,M37,M39,M41,M43,M45) -> 0 | N47: =SUM(N7,N9,N11,N13,N15,N17,N19,N21,N23,N25,N27,N29,N31,N33,N35,N37,N39,N41,N43,N45) -> 0 | O47: =SUM(O7,O9,O11,O13,O15,O17,O19,O21,O23,O25,O27,O29,O31,O33,O35,O37,O39,O41,O43,O45) -> 0 | Q47: =SUM(Q7,Q9,Q11,Q13,Q15,Q17,Q19,Q21,Q23,Q25,Q27,Q29,Q31,Q33,Q35,Q37,Q39,Q41,Q43,Q45) -> 0 | R47: =SUM(R7,R9,R11,R13,R15,R17,R19,R21,R23,R25,R27,R29,R31,R33,R35,R37,R39,R41,R43,R45) -> 0 | S47: =SUM(S7,S9,S11,S13,S15,S17,S19,S21,S23,S25,S27,S29,S31,S33,S35,S37,S39,S41,S43,S45) -> 0 | T47: =SUM(T7,T9,T11,T13,T15,T17,T19,T21,T23,T25,T27,T29,T31,T33,T35,T37,T39,T41,T43,T45) -> 0 | U47: =SUM(U7,U9,U11,U13,U15,U17,U19,U21,U23,U25,U27,U29,U31,U33,U35,U37,U39,U41,U43,U45) -> 0 | V47: =SUM(V7,V9,V11,V13,V15,V17,V19,V21,V23,V25,V27,V29,V31,V33,V35,V37,V39,V41,V43,V45) -> 0 | W47: =SUM(W7,W9,W11,W13,W15,W17,W19,W21,W23,W25,W27,W29,W31,W33,W35,W37,W39,W41,W43,W45) -> 0 | X47: =SUM(X7,X9,X11,X13,X15,X17,X19,X21,X23,X25,X27,X29,X31,X33,X35,X37,X39,X41,X43,X45) -> 0 | ... BF47: =SUM(BF7,BF9,BF11,BF13,BF15,BF17,BF19,BF21,BF23,BF25,BF27,BF29,BF31,BF33,BF35,BF37,BF39,BF41,BF43,BF45) -> 0

Sheet واحد18
A1: تاریخ ارزیابی: .......................... | C1: ماتريس پایش عوامل زیان آور محیط کار | BE1: ویرایش 02
A2: نام کارگاه/شرکت/اداره : | F2: آدرس/تماس : | L2: خلاصه ای از فرآیند واحد :
A3: نام واحد/سالن مورد ارزیابی درج شود | I3: عوامل فيزيكي | T3: عوامل شيميايي(گرد و غبار،گازها و بخارات، ذرات معلق اسید، ذرات فلزی و شبه فلزی، الیاف و میست و... به تفکیک ذکر شود) | AN3: عوامل ارگونوميكي | AS3: پایش بیولوژیک | AV3: عوامل بيولوژیکی | AY3: عوامل روانی | BA3: ارزیابی سیستم تهویه | BE3: عوامل ایمنی (کار در ارتفاع، مجاورت کوره و ...)
A4: نوع شیفت کاری : | C4: روزکار ¨ | D4: نوبت کار ¨ | E4: مدت شیفت کاری: | I4: p1 | J4: p2 | K4: p3 | L4: p4 | M4: p5 | N4: p6 | O4: p7 | P4: p8 | Q4: p9 | R4: p10 | S4: p11 | T4: c1 | U4: c2 | V4: c3 | W4: c4 | X4: c5 | Y4: c6 | Z4: c7 | AA4: c8 | AB4: c9 | AC4: c10 | AD4: c11 | AE4: c12 | AF4: c13 | AG4: c14 | AH4: c15 | AI4: c16 | AJ4: c17 | AK4: c18 | AL4: c19 | AM4: c20 | AN4: e1 | AO4: e2 | AP4: e3 | AQ4: e4 | AR4: e5 | AS4: b1 | AT4: b2 | AU4: b3 | AV4: bi1 | AW4: bi2 | AX4: bi3 | AY4: sy1 | AZ4: sy2 | BA4: vs1 | BB4: vs2 | BC4: vs3 | BD4: vs4 | BE4: sa1 | BF4: sa2
A5: ردیف | B5: تعداد شاغلین واحد/سالن به تفکیک نوبت کاری: | E5: اطلاعات تکمیلی درباره وظایف و فعالیت های شغلی و … | I5: صدای عمومی | J5: صدای موضعی | K5: آنالیز فرکانسی | L5: دزیمتری صدا | M5: روشنایی عمومی | N5: روشنایی موضعی | O5: پرتو (UV) | P5: پرتو (IR) | Q5: سایر پرتو ها/میدان ها | R5: استرس حرارتی(گرما/سرما) | S5: ارتعاش تمام بدن/دست بازو | AN5: هل دادن/کشیدن بار | AO5: بلند كردن/پایین آوردن بار | AP5: حمل دستي بار | AQ5: وضعيت نامناسب بدني | AR5: حرکات تکراری | AS5: نمونه خون | AT5: نمونه ادرار | AV5: پایش بیوآئروسل | BA5: دفعات تعویض هوا | BB5: اختلاف فشار(+/-) | BC5: سرعت ربایش دهانه هود
B6: موقعیت حضور شاغل در واحد/سالن | C6: ابعاد سالن (L*W*H) و درصد نقطه کور | D6: عنوان شغلی | E6: پست/وظیفه/ فعالیت شغلی | F6: تعداد شاغل با شرح وظیفه یکسان در واحد/سالن | G6: تجهیزات مولد آلاینده | H6: مواد شیمیایی اولیه، بینابینی و نهایی منتشره در محیط کار | AV6: باکتری | AW6: قارچ
A7: 1 | I7: در این ردیف تعداد آیتم نیازمند سنجش در عنوان شغلی متناظر درج شود
I8: در این ردیف میزان مواجه شاغل با عامل زیان آور مورد نظر، در عنوان شغلی متناظر به دقیقه درج شود
A9: 2
A11: 3
A13: 4
A15: 5
A17: 6
A19: 7
A21: 8
A23: 9
A25: 10
A27: 11
A29: 12
A31: 13
... A45: 20
A47: تعداد موارد پیش بینی شده برای آلاینده سنجی: | I47: =SUM(I7,I9,I11,I13,I15,I17,I19,I21,I23,I25,I27,I29,I31,I33,I35,I37,I39,I41,I43,I45) -> 0 | J47: =SUM(J7,J9,J11,J13,J15,J17,J19,J21,J23,J25,J27,J29,J31,J33,J35,J37,J39,J41,J43,J45) -> 0 | K47: =SUM(K7,K9,K11,K13,K15,K17,K19,K21,K23,K25,K27,K29,K31,K33,K35,K37,K39,K41,K43,K45) -> 0 | L47: =SUM(L7,L9,L11,L13,L15,L17,L19,L21,L23,L25,L27,L29,L31,L33,L35,L37,L39,L41,L43,L45) -> 0 | M47: =SUM(M7,M9,M11,M13,M15,M17,M19,M21,M23,M25,M27,M29,M31,M33,M35,M37,M39,M41,M43,M45) -> 0 | N47: =SUM(N7,N9,N11,N13,N15,N17,N19,N21,N23,N25,N27,N29,N31,N33,N35,N37,N39,N41,N43,N45) -> 0 | O47: =SUM(O7,O9,O11,O13,O15,O17,O19,O21,O23,O25,O27,O29,O31,O33,O35,O37,O39,O41,O43,O45) -> 0 | Q47: =SUM(Q7,Q9,Q11,Q13,Q15,Q17,Q19,Q21,Q23,Q25,Q27,Q29,Q31,Q33,Q35,Q37,Q39,Q41,Q43,Q45) -> 0 | R47: =SUM(R7,R9,R11,R13,R15,R17,R19,R21,R23,R25,R27,R29,R31,R33,R35,R37,R39,R41,R43,R45) -> 0 | S47: =SUM(S7,S9,S11,S13,S15,S17,S19,S21,S23,S25,S27,S29,S31,S33,S35,S37,S39,S41,S43,S45) -> 0 | T47: =SUM(T7,T9,T11,T13,T15,T17,T19,T21,T23,T25,T27,T29,T31,T33,T35,T37,T39,T41,T43,T45) -> 0 | U47: =SUM(U7,U9,U11,U13,U15,U17,U19,U21,U23,U25,U27,U29,U31,U33,U35,U37,U39,U41,U43,U45) -> 0 | V47: =SUM(V7,V9,V11,V13,V15,V17,V19,V21,V23,V25,V27,V29,V31,V33,V35,V37,V39,V41,V43,V45) -> 0 | W47: =SUM(W7,W9,W11,W13,W15,W17,W19,W21,W23,W25,W27,W29,W31,W33,W35,W37,W39,W41,W43,W45) -> 0 | X47: =SUM(X7,X9,X11,X13,X15,X17,X19,X21,X23,X25,X27,X29,X31,X33,X35,X37,X39,X41,X43,X45) -> 0 | ... BF47: =SUM(BF7,BF9,BF11,BF13,BF15,BF17,BF19,BF21,BF23,BF25,BF27,BF29,BF31,BF33,BF35,BF37,BF39,BF41,BF43,BF45) -> 0

Sheet واحد19
A1: تاریخ ارزیابی: .......................... | C1: ماتريس پایش عوامل زیان آور محیط کار | BE1: ویرایش 02
A2: نام کارگاه/شرکت/اداره : | F2: آدرس/تماس : | L2: خلاصه ای از فرآیند واحد :
A3: نام واحد/سالن مورد ارزیابی درج شود | I3: عوامل فيزيكي | T3: عوامل شيميايي(گرد و غبار،گازها و بخارات، ذرات معلق اسید، ذرات فلزی و شبه فلزی، الیاف و میست و... به تفکیک ذکر شود) | AN3: عوامل ارگونوميكي | AS3: پایش بیولوژیک | AV3: عوامل بيولوژیکی | AY3: عوامل روانی | BA3: ارزیابی سیستم تهویه | BE3: عوامل ایمنی (کار در ارتفاع، مجاورت کوره و ...)
A4: نوع شیفت کاری : | C4: روزکار ¨ | D4: نوبت کار ¨ | E4: مدت شیفت کاری: | I4: p1 | J4: p2 | K4: p3 | L4: p4 | M4: p5 | N4: p6 | O4: p7 | P4: p8 | Q4: p9 | R4: p10 | S4: p11 | T4: c1 | U4: c2 | V4: c3 | W4: c4 | X4: c5 | Y4: c6 | Z4: c7 | AA4: c8 | AB4: c9 | AC4: c10 | AD4: c11 | AE4: c12 | AF4: c13 | AG4: c14 | AH4: c15 | AI4: c16 | AJ4: c17 | AK4: c18 | AL4: c19 | AM4: c20 | AN4: e1 | AO4: e2 | AP4: e3 | AQ4: e4 | AR4: e5 | AS4: b1 | AT4: b2 | AU4: b3 | AV4: bi1 | AW4: bi2 | AX4: bi3 | AY4: sy1 | AZ4: sy2 | BA4: vs1 | BB4: vs2 | BC4: vs3 | BD4: vs4 | BE4: sa1 | BF4: sa2
A5: ردیف | B5: تعداد شاغلین واحد/سالن به تفکیک نوبت کاری: | E5: اطلاعات تکمیلی درباره وظایف و فعالیت های شغلی و … | I5: صدای عمومی | J5: صدای موضعی | K5: آنالیز فرکانسی | L5: دزیمتری صدا | M5: روشنایی عمومی | N5: روشنایی موضعی | O5: پرتو (UV) | P5: پرتو (IR) | Q5: سایر پرتو ها/میدان ها | R5: استرس حرارتی(گرما/سرما) | S5: ارتعاش تمام بدن/دست بازو | AN5: هل دادن/کشیدن بار | AO5: بلند كردن/پایین آوردن بار | AP5: حمل دستي بار | AQ5: وضعيت نامناسب بدني | AR5: حرکات تکراری | AS5: نمونه خون | AT5: نمونه ادرار | AV5: پایش بیوآئروسل | BA5: دفعات تعویض هوا | BB5: اختلاف فشار(+/-) | BC5: سرعت ربایش دهانه هود
B6: موقعیت حضور شاغل در واحد/سالن | C6: ابعاد سالن (L*W*H) و درصد نقطه کور | D6: عنوان شغلی | E6: پست/وظیفه/ فعالیت شغلی | F6: تعداد شاغل با شرح وظیفه یکسان در واحد/سالن | G6: تجهیزات مولد آلاینده | H6: مواد شیمیایی اولیه، بینابینی و نهایی منتشره در محیط کار | AV6: باکتری | AW6: قارچ
A7: 1 | I7: در این ردیف تعداد آیتم نیازمند سنجش در عنوان شغلی متناظر درج شود
I8: در این ردیف میزان مواجه شاغل با عامل زیان آور مورد نظر، در عنوان شغلی متناظر به دقیقه درج شود
A9: 2
A11: 3
A13: 4
A15: 5
A17: 6
A19: 7
A21: 8
A23: 9
A25: 10
A27: 11
A29: 12
A31: 13
... A45: 20
A47: تعداد موارد پیش بینی شده برای آلاینده سنجی: | I47: =SUM(I7,I9,I11,I13,I15,I17,I19,I21,I23,I25,I27,I29,I31,I33,I35,I37,I39,I41,I43,I45) -> 0 | J47: =SUM(J7,J9,J11,J13,J15,J17,J19,J21,J23,J25,J27,J29,J31,J33,J35,J37,J39,J41,J43,J45) -> 0 | K47: =SUM(K7,K9,K11,K13,K15,K17,K19,K21,K23,K25,K27,K29,K31,K33,K35,K37,K39,K41,K43,K45) -> 0 | L47: =SUM(L7,L9,L11,L13,L15,L17,L19,L21,L23,L25,L27,L29,L31,L33,L35,L37,L39,L41,L43,L45) -> 0 | M47: =SUM(M7,M9,M11,M13,M15,M17,M19,M21,M23,M25,M27,M29,M31,M33,M35,M37,M39,M41,M43,M45) -> 0 | N47: =SUM(N7,N9,N11,N13,N15,N17,N19,N21,N23,N25,N27,N29,N31,N33,N35,N37,N39,N41,N43,N45) -> 0 | O47: =SUM(O7,O9,O11,O13,O15,O17,O19,O21,O23,O25,O27,O29,O31,O33,O35,O37,O39,O41,O43,O45) -> 0 | Q47: =SUM(Q7,Q9,Q11,Q13,Q15,Q17,Q19,Q21,Q23,Q25,Q27,Q29,Q31,Q33,Q35,Q37,Q39,Q41,Q43,Q45) -> 0 | R47: =SUM(R7,R9,R11,R13,R15,R17,R19,R21,R23,R25,R27,R29,R31,R33,R35,R37,R39,R41,R43,R45) -> 0 | S47: =SUM(S7,S9,S11,S13,S15,S17,S19,S21,S23,S25,S27,S29,S31,S33,S35,S37,S39,S41,S43,S45) -> 0 | T47: =SUM(T7,T9,T11,T13,T15,T17,T19,T21,T23,T25,T27,T29,T31,T33,T35,T37,T39,T41,T43,T45) -> 0 | U47: =SUM(U7,U9,U11,U13,U15,U17,U19,U21,U23,U25,U27,U29,U31,U33,U35,U37,U39,U41,U43,U45) -> 0 | V47: =SUM(V7,V9,V11,V13,V15,V17,V19,V21,V23,V25,V27,V29,V31,V33,V35,V37,V39,V41,V43,V45) -> 0 | W47: =SUM(W7,W9,W11,W13,W15,W17,W19,W21,W23,W25,W27,W29,W31,W33,W35,W37,W39,W41,W43,W45) -> 0 | X47: =SUM(X7,X9,X11,X13,X15,X17,X19,X21,X23,X25,X27,X29,X31,X33,X35,X37,X39,X41,X43,X45) -> 0 | ... BF47: =SUM(BF7,BF9,BF11,BF13,BF15,BF17,BF19,BF21,BF23,BF25,BF27,BF29,BF31,BF33,BF35,BF37,BF39,BF41,BF43,BF45) -> 0

Sheet واحد20
A1: تاریخ ارزیابی: .......................... | C1: ماتريس پایش عوامل زیان آور محیط کار | BE1: ویرایش 02
A2: نام کارگاه/شرکت/اداره : | F2: آدرس/تماس : | L2: خلاصه ای از فرآیند واحد :
A3: نام واحد/سالن مورد ارزیابی درج شود | I3: عوامل فيزيكي | T3: عوامل شيميايي(گرد و غبار،گازها و بخارات، ذرات معلق اسید، ذرات فلزی و شبه فلزی، الیاف و میست و... به تفکیک ذکر شود) | AN3: عوامل ارگونوميكي | AS3: پایش بیولوژیک | AV3: عوامل بيولوژیکی | AY3: عوامل روانی | BA3: ارزیابی سیستم تهویه | BE3: عوامل ایمنی (کار در ارتفاع، مجاورت کوره و ...)
A4: نوع شیفت کاری : | C4: روزکار ¨ | D4: نوبت کار ¨ | E4: مدت شیفت کاری: | I4: p1 | J4: p2 | K4: p3 | L4: p4 | M4: p5 | N4: p6 | O4: p7 | P4: p8 | Q4: p9 | R4: p10 | S4: p11 | T4: c1 | U4: c2 | V4: c3 | W4: c4 | X4: c5 | Y4: c6 | Z4: c7 | AA4: c8 | AB4: c9 | AC4: c10 | AD4: c11 | AE4: c12 | AF4: c13 | AG4: c14 | AH4: c15 | AI4: c16 | AJ4: c17 | AK4: c18 | AL4: c19 | AM4: c20 | AN4: e1 | AO4: e2 | AP4: e3 | AQ4: e4 | AR4: e5 | AS4: b1 | AT4: b2 | AU4: b3 | AV4: bi1 | AW4: bi2 | AX4: bi3 | AY4: sy1 | AZ4: sy2 | BA4: vs1 | BB4: vs2 | BC4: vs3 | BD4: vs4 | BE4: sa1 | BF4: sa2
A5: ردیف | B5: تعداد شاغلین واحد/سالن به تفکیک نوبت کاری: | E5: اطلاعات تکمیلی درباره وظایف و فعالیت های شغلی و … | I5: صدای عمومی | J5: صدای موضعی | K5: آنالیز فرکانسی | L5: دزیمتری صدا | M5: روشنایی عمومی | N5: روشنایی موضعی | O5: پرتو (UV) | P5: پرتو (IR) | Q5: سایر پرتو ها/میدان ها | R5: استرس حرارتی(گرما/سرما) | S5: ارتعاش تمام بدن/دست بازو | AN5: هل دادن/کشیدن بار | AO5: بلند كردن/پایین آوردن بار | AP5: حمل دستي بار | AQ5: وضعيت نامناسب بدني | AR5: حرکات تکراری | AS5: نمونه خون | AT5: نمونه ادرار | AV5: پایش بیوآئروسل | BA5: دفعات تعویض هوا | BB5: اختلاف فشار(+/-) | BC5: سرعت ربایش دهانه هود
B6: موقعیت حضور شاغل در واحد/سالن | C6: ابعاد سالن (L*W*H) و درصد نقطه کور | D6: عنوان شغلی | E6: پست/وظیفه/ فعالیت شغلی | F6: تعداد شاغل با شرح وظیفه یکسان در واحد/سالن | G6: تجهیزات مولد آلاینده | H6: مواد شیمیایی اولیه، بینابینی و نهایی منتشره در محیط کار | AV6: باکتری | AW6: قارچ
A7: 1 | I7: در این ردیف تعداد آیتم نیازمند سنجش در عنوان شغلی متناظر درج شود
I8: در این ردیف میزان مواجه شاغل با عامل زیان آور مورد نظر، در عنوان شغلی متناظر به دقیقه درج شود
A9: 2
A11: 3
A13: 4
A15: 5
A17: 6
A19: 7
A21: 8
A23: 9
A25: 10
A27: 11
A29: 12
A31: 13
... A45: 20
A47: تعداد موارد پیش بینی شده برای آلاینده سنجی: | I47: =SUM(I7,I9,I11,I13,I15,I17,I19,I21,I23,I25,I27,I29,I31,I33,I35,I37,I39,I41,I43,I45) -> 0 | J47: =SUM(J7,J9,J11,J13,J15,J17,J19,J21,J23,J25,J27,J29,J31,J33,J35,J37,J39,J41,J43,J45) -> 0 | K47: =SUM(K7,K9,K11,K13,K15,K17,K19,K21,K23,K25,K27,K29,K31,K33,K35,K37,K39,K41,K43,K45) -> 0 | L47: =SUM(L7,L9,L11,L13,L15,L17,L19,L21,L23,L25,L27,L29,L31,L33,L35,L37,L39,L41,L43,L45) -> 0 | M47: =SUM(M7,M9,M11,M13,M15,M17,M19,M21,M23,M25,M27,M29,M31,M33,M35,M37,M39,M41,M43,M45) -> 0 | N47: =SUM(N7,N9,N11,N13,N15,N17,N19,N21,N23,N25,N27,N29,N31,N33,N35,N37,N39,N41,N43,N45) -> 0 | O47: =SUM(O7,O9,O11,O13,O15,O17,O19,O21,O23,O25,O27,O29,O31,O33,O35,O37,O39,O41,O43,O45) -> 0 | Q47: =SUM(Q7,Q9,Q11,Q13,Q15,Q17,Q19,Q21,Q23,Q25,Q27,Q29,Q31,Q33,Q35,Q37,Q39,Q41,Q43,Q45) -> 0 | R47: =SUM(R7,R9,R11,R13,R15,R17,R19,R21,R23,R25,R27,R29,R31,R33,R35,R37,R39,R41,R43,R45) -> 0 | S47: =SUM(S7,S9,S11,S13,S15,S17,S19,S21,S23,S25,S27,S29,S31,S33,S35,S37,S39,S41,S43,S45) -> 0 | T47: =SUM(T7,T9,T11,T13,T15,T17,T19,T21,T23,T25,T27,T29,T31,T33,T35,T37,T39,T41,T43,T45) -> 0 | U47: =SUM(U7,U9,U11,U13,U15,U17,U19,U21,U23,U25,U27,U29,U31,U33,U35,U37,U39,U41,U43,U45) -> 0 | V47: =SUM(V7,V9,V11,V13,V15,V17,V19,V21,V23,V25,V27,V29,V31,V33,V35,V37,V39,V41,V43,V45) -> 0 | W47: =SUM(W7,W9,W11,W13,W15,W17,W19,W21,W23,W25,W27,W29,W31,W33,W35,W37,W39,W41,W43,W45) -> 0 | X47: =SUM(X7,X9,X11,X13,X15,X17,X19,X21,X23,X25,X27,X29,X31,X33,X35,X37,X39,X41,X43,X45) -> 0 | ... BF47: =SUM(BF7,BF9,BF11,BF13,BF15,BF17,BF19,BF21,BF23,BF25,BF27,BF29,BF31,BF33,BF35,BF37,BF39,BF41,BF43,BF45) -> 0

Sheet واحد21
A1: تاریخ ارزیابی: .......................... | C1: ماتريس پایش عوامل زیان آور محیط کار | BE1: ویرایش 02
A2: نام کارگاه/شرکت/اداره : | F2: آدرس/تماس : | L2: خلاصه ای از فرآیند واحد :
A3: نام واحد/سالن مورد ارزیابی درج شود | I3: عوامل فيزيكي | T3: عوامل شيميايي(گرد و غبار،گازها و بخارات، ذرات معلق اسید، ذرات فلزی و شبه فلزی، الیاف و میست و... به تفکیک ذکر شود) | AN3: عوامل ارگونوميكي | AS3: پایش بیولوژیک | AV3: عوامل بيولوژیکی | AY3: عوامل روانی | BA3: ارزیابی سیستم تهویه | BE3: عوامل ایمنی (کار در ارتفاع، مجاورت کوره و ...)
A4: نوع شیفت کاری : | C4: روزکار ¨ | D4: نوبت کار ¨ | E4: مدت شیفت کاری: | I4: p1 | J4: p2 | K4: p3 | L4: p4 | M4: p5 | N4: p6 | O4: p7 | P4: p8 | Q4: p9 | R4: p10 | S4: p11 | T4: c1 | U4: c2 | V4: c3 | W4: c4 | X4: c5 | Y4: c6 | Z4: c7 | AA4: c8 | AB4: c9 | AC4: c10 | AD4: c11 | AE4: c12 | AF4: c13 | AG4: c14 | AH4: c15 | AI4: c16 | AJ4: c17 | AK4: c18 | AL4: c19 | AM4: c20 | AN4: e1 | AO4: e2 | AP4: e3 | AQ4: e4 | AR4: e5 | AS4: b1 | AT4: b2 | AU4: b3 | AV4: bi1 | AW4: bi2 | AX4: bi3 | AY4: sy1 | AZ4: sy2 | BA4: vs1 | BB4: vs2 | BC4: vs3 | BD4: vs4 | BE4: sa1 | BF4: sa2
A5: ردیف | B5: تعداد شاغلین واحد/سالن به تفکیک نوبت کاری: | E5: اطلاعات تکمیلی درباره وظایف و فعالیت های شغلی و … | I5: صدای عمومی | J5: صدای موضعی | K5: آنالیز فرکانسی | L5: دزیمتری صدا | M5: روشنایی عمومی | N5: روشنایی موضعی | O5: پرتو (UV) | P5: پرتو (IR) | Q5: سایر پرتو ها/میدان ها | R5: استرس حرارتی(گرما/سرما) | S5: ارتعاش تمام بدن/دست بازو | AN5: هل دادن/کشیدن بار | AO5: بلند كردن/پایین آوردن بار | AP5: حمل دستي بار | AQ5: وضعيت نامناسب بدني | AR5: حرکات تکراری | AS5: نمونه خون | AT5: نمونه ادرار | AV5: پایش بیوآئروسل | BA5: دفعات تعویض هوا | BB5: اختلاف فشار(+/-) | BC5: سرعت ربایش دهانه هود
B6: موقعیت حضور شاغل در واحد/سالن | C6: ابعاد سالن (L*W*H) و درصد نقطه کور | D6: عنوان شغلی | E6: پست/وظیفه/ فعالیت شغلی | F6: تعداد شاغل با شرح وظیفه یکسان در واحد/سالن | G6: تجهیزات مولد آلاینده | H6: مواد شیمیایی اولیه، بینابینی و نهایی منتشره در محیط کار | AV6: باکتری | AW6: قارچ
A7: 1 | I7: در این ردیف تعداد آیتم نیازمند سنجش در عنوان شغلی متناظر درج شود
I8: در این ردیف میزان مواجه شاغل با عامل زیان آور مورد نظر، در عنوان شغلی متناظر به دقیقه درج شود
A9: 2
A11: 3
A13: 4
A15: 5
A17: 6
A19: 7
A21: 8
A23: 9
A25: 10
A27: 11
A29: 12
A31: 13
... A45: 20
A47: تعداد موارد پیش بینی شده برای آلاینده سنجی: | I47: =SUM(I7,I9,I11,I13,I15,I17,I19,I21,I23,I25,I27,I29,I31,I33,I35,I37,I39,I41,I43,I45) -> 0 | J47: =SUM(J7,J9,J11,J13,J15,J17,J19,J21,J23,J25,J27,J29,J31,J33,J35,J37,J39,J41,J43,J45) -> 0 | K47: =SUM(K7,K9,K11,K13,K15,K17,K19,K21,K23,K25,K27,K29,K31,K33,K35,K37,K39,K41,K43,K45) -> 0 | L47: =SUM(L7,L9,L11,L13,L15,L17,L19,L21,L23,L25,L27,L29,L31,L33,L35,L37,L39,L41,L43,L45) -> 0 | M47: =SUM(M7,M9,M11,M13,M15,M17,M19,M21,M23,M25,M27,M29,M31,M33,M35,M37,M39,M41,M43,M45) -> 0 | N47: =SUM(N7,N9,N11,N13,N15,N17,N19,N21,N23,N25,N27,N29,N31,N33,N35,N37,N39,N41,N43,N45) -> 0 | O47: =SUM(O7,O9,O11,O13,O15,O17,O19,O21,O23,O25,O27,O29,O31,O33,O35,O37,O39,O41,O43,O45) -> 0 | Q47: =SUM(Q7,Q9,Q11,Q13,Q15,Q17,Q19,Q21,Q23,Q25,Q27,Q29,Q31,Q33,Q35,Q37,Q39,Q41,Q43,Q45) -> 0 | R47: =SUM(R7,R9,R11,R13,R15,R17,R19,R21,R23,R25,R27,R29,R31,R33,R35,R37,R39,R41,R43,R45) -> 0 | S47: =SUM(S7,S9,S11,S13,S15,S17,S19,S21,S23,S25,S27,S29,S31,S33,S35,S37,S39,S41,S43,S45) -> 0 | T47: =SUM(T7,T9,T11,T13,T15,T17,T19,T21,T23,T25,T27,T29,T31,T33,T35,T37,T39,T41,T43,T45) -> 0 | U47: =SUM(U7,U9,U11,U13,U15,U17,U19,U21,U23,U25,U27,U29,U31,U33,U35,U37,U39,U41,U43,U45) -> 0 | V47: =SUM(V7,V9,V11,V13,V15,V17,V19,V21,V23,V25,V27,V29,V31,V33,V35,V37,V39,V41,V43,V45) -> 0 | W47: =SUM(W7,W9,W11,W13,W15,W17,W19,W21,W23,W25,W27,W29,W31,W33,W35,W37,W39,W41,W43,W45) -> 0 | X47: =SUM(X7,X9,X11,X13,X15,X17,X19,X21,X23,X25,X27,X29,X31,X33,X35,X37,X39,X41,X43,X45) -> 0 | ... BF47: =SUM(BF7,BF9,BF11,BF13,BF15,BF17,BF19,BF21,BF23,BF25,BF27,BF29,BF31,BF33,BF35,BF37,BF39,BF41,BF43,BF45) -> 0

Sheet واحد22
A1: تاریخ ارزیابی: .......................... | C1: ماتريس پایش عوامل زیان آور محیط کار | BE1: ویرایش 02
A2: نام کارگاه/شرکت/اداره : | F2: آدرس/تماس : | L2: خلاصه ای از فرآیند واحد :
A3: نام واحد/سالن مورد ارزیابی درج شود | I3: عوامل فيزيكي | T3: عوامل شيميايي(گرد و غبار،گازها و بخارات، ذرات معلق اسید، ذرات فلزی و شبه فلزی، الیاف و میست و... به تفکیک ذکر شود) | AN3: عوامل ارگونوميكي | AS3: پایش بیولوژیک | AV3: عوامل بيولوژیکی | AY3: عوامل روانی | BA3: ارزیابی سیستم تهویه | BE3: عوامل ایمنی (کار در ارتفاع، مجاورت کوره و ...)
A4: نوع شیفت کاری : | C4: روزکار ¨ | D4: نوبت کار ¨ | E4: مدت شیفت کاری: | I4: p1 | J4: p2 | K4: p3 | L4: p4 | M4: p5 | N4: p6 | O4: p7 | P4: p8 | Q4: p9 | R4: p10 | S4: p11 | T4: c1 | U4: c2 | V4: c3 | W4: c4 | X4: c5 | Y4: c6 | Z4: c7 | AA4: c8 | AB4: c9 | AC4: c10 | AD4: c11 | AE4: c12 | AF4: c13 | AG4: c14 | AH4: c15 | AI4: c16 | AJ4: c17 | AK4: c18 | AL4: c19 | AM4: c20 | AN4: e1 | AO4: e2 | AP4: e3 | AQ4: e4 | AR4: e5 | AS4: b1 | AT4: b2 | AU4: b3 | AV4: bi1 | AW4: bi2 | AX4: bi3 | AY4: sy1 | AZ4: sy2 | BA4: vs1 | BB4: vs2 | BC4: vs3 | BD4: vs4 | BE4: sa1 | BF4: sa2
A5: ردیف | B5: تعداد شاغلین واحد/سالن به تفکیک نوبت کاری: | E5: اطلاعات تکمیلی درباره وظایف و فعالیت های شغلی و … | I5: صدای عمومی | J5: صدای موضعی | K5: آنالیز فرکانسی | L5: دزیمتری صدا | M5: روشنایی عمومی | N5: روشنایی موضعی | O5: پرتو (UV) | P5: پرتو (IR) | Q5: سایر پرتو ها/میدان ها | R5: استرس حرارتی(گرما/سرما) | S5: ارتعاش تمام بدن/دست بازو | AN5: هل دادن/کشیدن بار | AO5: بلند كردن/پایین آوردن بار | AP5: حمل دستي بار | AQ5: وضعيت نامناسب بدني | AR5: حرکات تکراری | AS5: نمونه خون | AT5: نمونه ادرار | AV5: پایش بیوآئروسل | BA5: دفعات تعویض هوا | BB5: اختلاف فشار(+/-) | BC5: سرعت ربایش دهانه هود
B6: موقعیت حضور شاغل در واحد/سالن | C6: ابعاد سالن (L*W*H) و درصد نقطه کور | D6: عنوان شغلی | E6: پست/وظیفه/ فعالیت شغلی | F6: تعداد شاغل با شرح وظیفه یکسان در واحد/سالن | G6: تجهیزات مولد آلاینده | H6: مواد شیمیایی اولیه، بینابینی و نهایی منتشره در محیط کار | AV6: باکتری | AW6: قارچ
A7: 1 | I7: در این ردیف تعداد آیتم نیازمند سنجش در عنوان شغلی متناظر درج شود
I8: در این ردیف میزان مواجه شاغل با عامل زیان آور مورد نظر، در عنوان شغلی متناظر به دقیقه درج شود
A9: 2
A11: 3
A13: 4
A15: 5
A17: 6
A19: 7
A21: 8
A23: 9
A25: 10
A27: 11
A29: 12
A31: 13
... A45: 20
A47: تعداد موارد پیش بینی شده برای آلاینده سنجی: | I47: =SUM(I7,I9,I11,I13,I15,I17,I19,I21,I23,I25,I27,I29,I31,I33,I35,I37,I39,I41,I43,I45) -> 0 | J47: =SUM(J7,J9,J11,J13,J15,J17,J19,J21,J23,J25,J27,J29,J31,J33,J35,J37,J39,J41,J43,J45) -> 0 | K47: =SUM(K7,K9,K11,K13,K15,K17,K19,K21,K23,K25,K27,K29,K31,K33,K35,K37,K39,K41,K43,K45) -> 0 | L47: =SUM(L7,L9,L11,L13,L15,L17,L19,L21,L23,L25,L27,L29,L31,L33,L35,L37,L39,L41,L43,L45) -> 0 | M47: =SUM(M7,M9,M11,M13,M15,M17,M19,M21,M23,M25,M27,M29,M31,M33,M35,M37,M39,M41,M43,M45) -> 0 | N47: =SUM(N7,N9,N11,N13,N15,N17,N19,N21,N23,N25,N27,N29,N31,N33,N35,N37,N39,N41,N43,N45) -> 0 | O47: =SUM(O7,O9,O11,O13,O15,O17,O19,O21,O23,O25,O27,O29,O31,O33,O35,O37,O39,O41,O43,O45) -> 0 | Q47: =SUM(Q7,Q9,Q11,Q13,Q15,Q17,Q19,Q21,Q23,Q25,Q27,Q29,Q31,Q33,Q35,Q37,Q39,Q41,Q43,Q45) -> 0 | R47: =SUM(R7,R9,R11,R13,R15,R17,R19,R21,R23,R25,R27,R29,R31,R33,R35,R37,R39,R41,R43,R45) -> 0 | S47: =SUM(S7,S9,S11,S13,S15,S17,S19,S21,S23,S25,S27,S29,S31,S33,S35,S37,S39,S41,S43,S45) -> 0 | T47: =SUM(T7,T9,T11,T13,T15,T17,T19,T21,T23,T25,T27,T29,T31,T33,T35,T37,T39,T41,T43,T45) -> 0 | U47: =SUM(U7,U9,U11,U13,U15,U17,U19,U21,U23,U25,U27,U29,U31,U33,U35,U37,U39,U41,U43,U45) -> 0 | V47: =SUM(V7,V9,V11,V13,V15,V17,V19,V21,V23,V25,V27,V29,V31,V33,V35,V37,V39,V41,V43,V45) -> 0 | W47: =SUM(W7,W9,W11,W13,W15,W17,W19,W21,W23,W25,W27,W29,W31,W33,W35,W37,W39,W41,W43,W45) -> 0 | X47: =SUM(X7,X9,X11,X13,X15,X17,X19,X21,X23,X25,X27,X29,X31,X33,X35,X37,X39,X41,X43,X45) -> 0 | ... BF47: =SUM(BF7,BF9,BF11,BF13,BF15,BF17,BF19,BF21,BF23,BF25,BF27,BF29,BF31,BF33,BF35,BF37,BF39,BF41,BF43,BF45) -> 0

Sheet واحد23
A1: تاریخ ارزیابی: .......................... | C1: ماتريس پایش عوامل زیان آور محیط کار | BE1: ویرایش 02
A2: نام کارگاه/شرکت/اداره : | F2: آدرس/تماس : | L2: خلاصه ای از فرآیند واحد :
A3: نام واحد/سالن مورد ارزیابی درج شود | I3: عوامل فيزيكي | T3: عوامل شيميايي(گرد و غبار،گازها و بخارات، ذرات معلق اسید، ذرات فلزی و شبه فلزی، الیاف و میست و... به تفکیک ذکر شود) | AN3: عوامل ارگونوميكي | AS3: پایش بیولوژیک | AV3: عوامل بيولوژیکی | AY3: عوامل روانی | BA3: ارزیابی سیستم تهویه | BE3: عوامل ایمنی (کار در ارتفاع، مجاورت کوره و ...)
A4: نوع شیفت کاری : | C4: روزکار ¨ | D4: نوبت کار ¨ | E4: مدت شیفت کاری: | I4: p1 | J4: p2 | K4: p3 | L4: p4 | M4: p5 | N4: p6 | O4: p7 | P4: p8 | Q4: p9 | R4: p10 | S4: p11 | T4: c1 | U4: c2 | V4: c3 | W4: c4 | X4: c5 | Y4: c6 | Z4: c7 | AA4: c8 | AB4: c9 | AC4: c10 | AD4: c11 | AE4: c12 | AF4: c13 | AG4: c14 | AH4: c15 | AI4: c16 | AJ4: c17 | AK4: c18 | AL4: c19 | AM4: c20 | AN4: e1 | AO4: e2 | AP4: e3 | AQ4: e4 | AR4: e5 | AS4: b1 | AT4: b2 | AU4: b3 | AV4: bi1 | AW4: bi2 | AX4: bi3 | AY4: sy1 | AZ4: sy2 | BA4: vs1 | BB4: vs2 | BC4: vs3 | BD4: vs4 | BE4: sa1 | BF4: sa2
A5: ردیف | B5: تعداد شاغلین واحد/سالن به تفکیک نوبت کاری: | E5: اطلاعات تکمیلی درباره وظایف و فعالیت های شغلی و … | I5: صدای عمومی | J5: صدای موضعی | K5: آنالیز فرکانسی | L5: دزیمتری صدا | M5: روشنایی عمومی | N5: روشنایی موضعی | O5: پرتو (UV) | P5: پرتو (IR) | Q5: سایر پرتو ها/میدان ها | R5: استرس حرارتی(گرما/سرما) | S5: ارتعاش تمام بدن/دست بازو | AN5: هل دادن/کشیدن بار | AO5: بلند كردن/پایین آوردن بار | AP5: حمل دستي بار | AQ5: وضعيت نامناسب بدني | AR5: حرکات تکراری | AS5: نمونه خون | AT5: نمونه ادرار | AV5: پایش بیوآئروسل | BA5: دفعات تعویض هوا | BB5: اختلاف فشار(+/-) | BC5: سرعت ربایش دهانه هود
B6: موقعیت حضور شاغل در واحد/سالن | C6: ابعاد سالن (L*W*H) و درصد نقطه کور | D6: عنوان شغلی | E6: پست/وظیفه/ فعالیت شغلی | F6: تعداد شاغل با شرح وظیفه یکسان در واحد/سالن | G6: تجهیزات مولد آلاینده | H6: مواد شیمیایی اولیه، بینابینی و نهایی منتشره در محیط کار | AV6: باکتری | AW6: قارچ
A7: 1 | I7: در این ردیف تعداد آیتم نیازمند سنجش در عنوان شغلی متناظر درج شود
I8: در این ردیف میزان مواجه شاغل با عامل زیان آور مورد نظر، در عنوان شغلی متناظر به دقیقه درج شود
A9: 2
A11: 3
A13: 4
A15: 5
A17: 6
A19: 7
A21: 8
A23: 9
A25: 10
A27: 11
A29: 12
A31: 13
... A45: 20
A47: تعداد موارد پیش بینی شده برای آلاینده سنجی: | I47: =SUM(I7,I9,I11,I13,I15,I17,I19,I21,I23,I25,I27,I29,I31,I33,I35,I37,I39,I41,I43,I45) -> 0 | J47: =SUM(J7,J9,J11,J13,J15,J17,J19,J21,J23,J25,J27,J29,J31,J33,J35,J37,J39,J41,J43,J45) -> 0 | K47: =SUM(K7,K9,K11,K13,K15,K17,K19,K21,K23,K25,K27,K29,K31,K33,K35,K37,K39,K41,K43,K45) -> 0 | L47: =SUM(L7,L9,L11,L13,L15,L17,L19,L21,L23,L25,L27,L29,L31,L33,L35,L37,L39,L41,L43,L45) -> 0 | M47: =SUM(M7,M9,M11,M13,M15,M17,M19,M21,M23,M25,M27,M29,M31,M33,M35,M37,M39,M41,M43,M45) -> 0 | N47: =SUM(N7,N9,N11,N13,N15,N17,N19,N21,N23,N25,N27,N29,N31,N33,N35,N37,N39,N41,N43,N45) -> 0 | O47: =SUM(O7,O9,O11,O13,O15,O17,O19,O21,O23,O25,O27,O29,O31,O33,O35,O37,O39,O41,O43,O45) -> 0 | Q47: =SUM(Q7,Q9,Q11,Q13,Q15,Q17,Q19,Q21,Q23,Q25,Q27,Q29,Q31,Q33,Q35,Q37,Q39,Q41,Q43,Q45) -> 0 | R47: =SUM(R7,R9,R11,R13,R15,R17,R19,R21,R23,R25,R27,R29,R31,R33,R35,R37,R39,R41,R43,R45) -> 0 | S47: =SUM(S7,S9,S11,S13,S15,S17,S19,S21,S23,S25,S27,S29,S31,S33,S35,S37,S39,S41,S43,S45) -> 0 | T47: =SUM(T7,T9,T11,T13,T15,T17,T19,T21,T23,T25,T27,T29,T31,T33,T35,T37,T39,T41,T43,T45) -> 0 | U47: =SUM(U7,U9,U11,U13,U15,U17,U19,U21,U23,U25,U27,U29,U31,U33,U35,U37,U39,U41,U43,U45) -> 0 | V47: =SUM(V7,V9,V11,V13,V15,V17,V19,V21,V23,V25,V27,V29,V31,V33,V35,V37,V39,V41,V43,V45) -> 0 | W47: =SUM(W7,W9,W11,W13,W15,W17,W19,W21,W23,W25,W27,W29,W31,W33,W35,W37,W39,W41,W43,W45) -> 0 | X47: =SUM(X7,X9,X11,X13,X15,X17,X19,X21,X23,X25,X27,X29,X31,X33,X35,X37,X39,X41,X43,X45) -> 0 | ... BF47: =SUM(BF7,BF9,BF11,BF13,BF15,BF17,BF19,BF21,BF23,BF25,BF27,BF29,BF31,BF33,BF35,BF37,BF39,BF41,BF43,BF45) -> 0

Sheet واحد24
A1: تاریخ ارزیابی: .......................... | C1: ماتريس پایش عوامل زیان آور محیط کار | BE1: ویرایش 02
A2: نام کارگاه/شرکت/اداره : | F2: آدرس/تماس : | L2: خلاصه ای از فرآیند واحد :
A3: نام واحد/سالن مورد ارزیابی درج شود | I3: عوامل فيزيكي | T3: عوامل شيميايي(گرد و غبار،گازها و بخارات، ذرات معلق اسید، ذرات فلزی و شبه فلزی، الیاف و میست و... به تفکیک ذکر شود) | AN3: عوامل ارگونوميكي | AS3: پایش بیولوژیک | AV3: عوامل بيولوژیکی | AY3: عوامل روانی | BA3: ارزیابی سیستم تهویه | BE3: عوامل ایمنی (کار در ارتفاع، مجاورت کوره و ...)
A4: نوع شیفت کاری : | C4: روزکار ¨ | D4: نوبت کار ¨ | E4: مدت شیفت کاری: | I4: p1 | J4: p2 | K4: p3 | L4: p4 | M4: p5 | N4: p6 | O4: p7 | P4: p8 | Q4: p9 | R4: p10 | S4: p11 | T4: c1 | U4: c2 | V4: c3 | W4: c4 | X4: c5 | Y4: c6 | Z4: c7 | AA4: c8 | AB4: c9 | AC4: c10 | AD4: c11 | AE4: c12 | AF4: c13 | AG4: c14 | AH4: c15 | AI4: c16 | AJ4: c17 | AK4: c18 | AL4: c19 | AM4: c20 | AN4: e1 | AO4: e2 | AP4: e3 | AQ4: e4 | AR4: e5 | AS4: b1 | AT4: b2 | AU4: b3 | AV4: bi1 | AW4: bi2 | AX4: bi3 | AY4: sy1 | AZ4: sy2 | BA4: vs1 | BB4: vs2 | BC4: vs3 | BD4: vs4 | BE4: sa1 | BF4: sa2
A5: ردیف | B5: تعداد شاغلین واحد/سالن به تفکیک نوبت کاری: | E5: اطلاعات تکمیلی درباره وظایف و فعالیت های شغلی و … | I5: صدای عمومی | J5: صدای موضعی | K5: آنالیز فرکانسی | L5: دزیمتری صدا | M5: روشنایی عمومی | N5: روشنایی موضعی | O5: پرتو (UV) | P5: پرتو (IR) | Q5: سایر پرتو ها/میدان ها | R5: استرس حرارتی(گرما/سرما) | S5: ارتعاش تمام بدن/دست بازو | AN5: هل دادن/کشیدن بار | AO5: بلند كردن/پایین آوردن بار | AP5: حمل دستي بار | AQ5: وضعيت نامناسب بدني | AR5: حرکات تکراری | AS5: نمونه خون | AT5: نمونه ادرار | AV5: پایش بیوآئروسل | BA5: دفعات تعویض هوا | BB5: اختلاف فشار(+/-) | BC5: سرعت ربایش دهانه هود
B6: موقعیت حضور شاغل در واحد/سالن | C6: ابعاد سالن (L*W*H) و درصد نقطه کور | D6: عنوان شغلی | E6: پست/وظیفه/ فعالیت شغلی | F6: تعداد شاغل با شرح وظیفه یکسان در واحد/سالن | G6: تجهیزات مولد آلاینده | H6: مواد شیمیایی اولیه، بینابینی و نهایی منتشره در محیط کار | AV6: باکتری | AW6: قارچ
A7: 1 | I7: در این ردیف تعداد آیتم نیازمند سنجش در عنوان شغلی متناظر درج شود
I8: در این ردیف میزان مواجه شاغل با عامل زیان آور مورد نظر، در عنوان شغلی متناظر به دقیقه درج شود
A9: 2
A11: 3
A13: 4
A15: 5
A17: 6
A19: 7
A21: 8
A23: 9
A25: 10
A27: 11
A29: 12
A31: 13
... A45: 20
A47: تعداد موارد پیش بینی شده برای آلاینده سنجی: | I47: =SUM(I7,I9,I11,I13,I15,I17,I19,I21,I23,I25,I27,I29,I31,I33,I35,I37,I39,I41,I43,I45) -> 0 | J47: =SUM(J7,J9,J11,J13,J15,J17,J19,J21,J23,J25,J27,J29,J31,J33,J35,J37,J39,J41,J43,J45) -> 0 | K47: =SUM(K7,K9,K11,K13,K15,K17,K19,K21,K23,K25,K27,K29,K31,K33,K35,K37,K39,K41,K43,K45) -> 0 | L47: =SUM(L7,L9,L11,L13,L15,L17,L19,L21,L23,L25,L27,L29,L31,L33,L35,L37,L39,L41,L43,L45) -> 0 | M47: =SUM(M7,M9,M11,M13,M15,M17,M19,M21,M23,M25,M27,M29,M31,M33,M35,M37,M39,M41,M43,M45) -> 0 | N47: =SUM(N7,N9,N11,N13,N15,N17,N19,N21,N23,N25,N27,N29,N31,N33,N35,N37,N39,N41,N43,N45) -> 0 | O47: =SUM(O7,O9,O11,O13,O15,O17,O19,O21,O23,O25,O27,O29,O31,O33,O35,O37,O39,O41,O43,O45) -> 0 | Q47: =SUM(Q7,Q9,Q11,Q13,Q15,Q17,Q19,Q21,Q23,Q25,Q27,Q29,Q31,Q33,Q35,Q37,Q39,Q41,Q43,Q45) -> 0 | R47: =SUM(R7,R9,R11,R13,R15,R17,R19,R21,R23,R25,R27,R29,R31,R33,R35,R37,R39,R41,R43,R45) -> 0 | S47: =SUM(S7,S9,S11,S13,S15,S17,S19,S21,S23,S25,S27,S29,S31,S33,S35,S37,S39,S41,S43,S45) -> 0 | T47: =SUM(T7,T9,T11,T13,T15,T17,T19,T21,T23,T25,T27,T29,T31,T33,T35,T37,T39,T41,T43,T45) -> 0 | U47: =SUM(U7,U9,U11,U13,U15,U17,U19,U21,U23,U25,U27,U29,U31,U33,U35,U37,U39,U41,U43,U45) -> 0 | V47: =SUM(V7,V9,V11,V13,V15,V17,V19,V21,V23,V25,V27,V29,V31,V33,V35,V37,V39,V41,V43,V45) -> 0 | W47: =SUM(W7,W9,W11,W13,W15,W17,W19,W21,W23,W25,W27,W29,W31,W33,W35,W37,W39,W41,W43,W45) -> 0 | X47: =SUM(X7,X9,X11,X13,X15,X17,X19,X21,X23,X25,X27,X29,X31,X33,X35,X37,X39,X41,X43,X45) -> 0 | ... BF47: =SUM(BF7,BF9,BF11,BF13,BF15,BF17,BF19,BF21,BF23,BF25,BF27,BF29,BF31,BF33,BF35,BF37,BF39,BF41,BF43,BF45) -> 0

Sheet واحد25
A1: تاریخ ارزیابی: .......................... | C1: ماتريس پایش عوامل زیان آور محیط کار | BE1: ویرایش 02
A2: نام کارگاه/شرکت/اداره : | F2: آدرس/تماس : | L2: خلاصه ای از فرآیند واحد :
A3: نام واحد/سالن مورد ارزیابی درج شود | I3: عوامل فيزيكي | T3: عوامل شيميايي(گرد و غبار،گازها و بخارات، ذرات معلق اسید، ذرات فلزی و شبه فلزی، الیاف و میست و... به تفکیک ذکر شود) | AN3: عوامل ارگونوميكي | AS3: پایش بیولوژیک | AV3: عوامل بيولوژیکی | AY3: عوامل روانی | BA3: ارزیابی سیستم تهویه | BE3: عوامل ایمنی (کار در ارتفاع، مجاورت کوره و ...)
A4: نوع شیفت کاری : | C4: روزکار ¨ | D4: نوبت کار ¨ | E4: مدت شیفت کاری: | I4: p1 | J4: p2 | K4: p3 | L4: p4 | M4: p5 | N4: p6 | O4: p7 | P4: p8 | Q4: p9 | R4: p10 | S4: p11 | T4: c1 | U4: c2 | V4: c3 | W4: c4 | X4: c5 | Y4: c6 | Z4: c7 | AA4: c8 | AB4: c9 | AC4: c10 | AD4: c11 | AE4: c12 | AF4: c13 | AG4: c14 | AH4: c15 | AI4: c16 | AJ4: c17 | AK4: c18 | AL4: c19 | AM4: c20 | AN4: e1 | AO4: e2 | AP4: e3 | AQ4: e4 | AR4: e5 | AS4: b1 | AT4: b2 | AU4: b3 | AV4: bi1 | AW4: bi2 | AX4: bi3 | AY4: sy1 | AZ4: sy2 | BA4: vs1 | BB4: vs2 | BC4: vs3 | BD4: vs4 | BE4: sa1 | BF4: sa2
A5: ردیف | B5: تعداد شاغلین واحد/سالن به تفکیک نوبت کاری: | E5: اطلاعات تکمیلی درباره وظایف و فعالیت های شغلی و … | I5: صدای عمومی | J5: صدای موضعی | K5: آنالیز فرکانسی | L5: دزیمتری صدا | M5: روشنایی عمومی | N5: روشنایی موضعی | O5: پرتو (UV) | P5: پرتو (IR) | Q5: سایر پرتو ها/میدان ها | R5: استرس حرارتی(گرما/سرما) | S5: ارتعاش تمام بدن/دست بازو | AN5: هل دادن/کشیدن بار | AO5: بلند كردن/پایین آوردن بار | AP5: حمل دستي بار | AQ5: وضعيت نامناسب بدني | AR5: حرکات تکراری | AS5: نمونه خون | AT5: نمونه ادرار | AV5: پایش بیوآئروسل | BA5: دفعات تعویض هوا | BB5: اختلاف فشار(+/-) | BC5: سرعت ربایش دهانه هود
B6: موقعیت حضور شاغل در واحد/سالن | C6: ابعاد سالن (L*W*H) و درصد نقطه کور | D6: عنوان شغلی | E6: پست/وظیفه/ فعالیت شغلی | F6: تعداد شاغل با شرح وظیفه یکسان در واحد/سالن | G6: تجهیزات مولد آلاینده | H6: مواد شیمیایی اولیه، بینابینی و نهایی منتشره در محیط کار | AV6: باکتری | AW6: قارچ
A7: 1 | I7: در این ردیف تعداد آیتم نیازمند سنجش در عنوان شغلی متناظر درج شود
I8: در این ردیف میزان مواجه شاغل با عامل زیان آور مورد نظر، در عنوان شغلی متناظر به دقیقه درج شود
A9: 2
A11: 3
A13: 4
A15: 5
A17: 6
A19: 7
A21: 8
A23: 9
A25: 10
A27: 11
A29: 12
A31: 13
... A45: 20
A47: تعداد موارد پیش بینی شده برای آلاینده سنجی: | I47: =SUM(I7,I9,I11,I13,I15,I17,I19,I21,I23,I25,I27,I29,I31,I33,I35,I37,I39,I41,I43,I45) -> 0 | J47: =SUM(J7,J9,J11,J13,J15,J17,J19,J21,J23,J25,J27,J29,J31,J33,J35,J37,J39,J41,J43,J45) -> 0 | K47: =SUM(K7,K9,K11,K13,K15,K17,K19,K21,K23,K25,K27,K29,K31,K33,K35,K37,K39,K41,K43,K45) -> 0 | L47: =SUM(L7,L9,L11,L13,L15,L17,L19,L21,L23,L25,L27,L29,L31,L33,L35,L37,L39,L41,L43,L45) -> 0 | M47: =SUM(M7,M9,M11,M13,M15,M17,M19,M21,M23,M25,M27,M29,M31,M33,M35,M37,M39,M41,M43,M45) -> 0 | N47: =SUM(N7,N9,N11,N13,N15,N17,N19,N21,N23,N25,N27,N29,N31,N33,N35,N37,N39,N41,N43,N45) -> 0 | O47: =SUM(O7,O9,O11,O13,O15,O17,O19,O21,O23,O25,O27,O29,O31,O33,O35,O37,O39,O41,O43,O45) -> 0 | Q47: =SUM(Q7,Q9,Q11,Q13,Q15,Q17,Q19,Q21,Q23,Q25,Q27,Q29,Q31,Q33,Q35,Q37,Q39,Q41,Q43,Q45) -> 0 | R47: =SUM(R7,R9,R11,R13,R15,R17,R19,R21,R23,R25,R27,R29,R31,R33,R35,R37,R39,R41,R43,R45) -> 0 | S47: =SUM(S7,S9,S11,S13,S15,S17,S19,S21,S23,S25,S27,S29,S31,S33,S35,S37,S39,S41,S43,S45) -> 0 | T47: =SUM(T7,T9,T11,T13,T15,T17,T19,T21,T23,T25,T27,T29,T31,T33,T35,T37,T39,T41,T43,T45) -> 0 | U47: =SUM(U7,U9,U11,U13,U15,U17,U19,U21,U23,U25,U27,U29,U31,U33,U35,U37,U39,U41,U43,U45) -> 0 | V47: =SUM(V7,V9,V11,V13,V15,V17,V19,V21,V23,V25,V27,V29,V31,V33,V35,V37,V39,V41,V43,V45) -> 0 | W47: =SUM(W7,W9,W11,W13,W15,W17,W19,W21,W23,W25,W27,W29,W31,W33,W35,W37,W39,W41,W43,W45) -> 0 | X47: =SUM(X7,X9,X11,X13,X15,X17,X19,X21,X23,X25,X27,X29,X31,X33,X35,X37,X39,X41,X43,X45) -> 0 | ... BF47: =SUM(BF7,BF9,BF11,BF13,BF15,BF17,BF19,BF21,BF23,BF25,BF27,BF29,BF31,BF33,BF35,BF37,BF39,BF41,BF43,BF45) -> 0

Sheet واحد26
A1: تاریخ ارزیابی: .......................... | C1: ماتريس پایش عوامل زیان آور محیط کار | BE1: ویرایش 02
A2: نام کارگاه/شرکت/اداره : | F2: آدرس/تماس : | L2: خلاصه ای از فرآیند واحد :
A3: نام واحد/سالن مورد ارزیابی درج شود | I3: عوامل فيزيكي | T3: عوامل شيميايي(گرد و غبار،گازها و بخارات، ذرات معلق اسید، ذرات فلزی و شبه فلزی، الیاف و میست و... به تفکیک ذکر شود) | AN3: عوامل ارگونوميكي | AS3: پایش بیولوژیک | AV3: عوامل بيولوژیکی | AY3: عوامل روانی | BA3: ارزیابی سیستم تهویه | BE3: عوامل ایمنی (کار در ارتفاع، مجاورت کوره و ...)
A4: نوع شیفت کاری : | C4: روزکار ¨ | D4: نوبت کار ¨ | E4: مدت شیفت کاری: | I4: p1 | J4: p2 | K4: p3 | L4: p4 | M4: p5 | N4: p6 | O4: p7 | P4: p8 | Q4: p9 | R4: p10 | S4: p11 | T4: c1 | U4: c2 | V4: c3 | W4: c4 | X4: c5 | Y4: c6 | Z4: c7 | AA4: c8 | AB4: c9 | AC4: c10 | AD4: c11 | AE4: c12 | AF4: c13 | AG4: c14 | AH4: c15 | AI4: c16 | AJ4: c17 | AK4: c18 | AL4: c19 | AM4: c20 | AN4: e1 | AO4: e2 | AP4: e3 | AQ4: e4 | AR4: e5 | AS4: b1 | AT4: b2 | AU4: b3 | AV4: bi1 | AW4: bi2 | AX4: bi3 | AY4: sy1 | AZ4: sy2 | BA4: vs1 | BB4: vs2 | BC4: vs3 | BD4: vs4 | BE4: sa1 | BF4: sa2
A5: ردیف | B5: تعداد شاغلین واحد/سالن به تفکیک نوبت کاری: | E5: اطلاعات تکمیلی درباره وظایف و فعالیت های شغلی و … | I5: صدای عمومی | J5: صدای موضعی | K5: آنالیز فرکانسی | L5: دزیمتری صدا | M5: روشنایی عمومی | N5: روشنایی موضعی | O5: پرتو (UV) | P5: پرتو (IR) | Q5: سایر پرتو ها/میدان ها | R5: استرس حرارتی(گرما/سرما) | S5: ارتعاش تمام بدن/دست بازو | AN5: هل دادن/کشیدن بار | AO5: بلند كردن/پایین آوردن بار | AP5: حمل دستي بار | AQ5: وضعيت نامناسب بدني | AR5: حرکات تکراری | AS5: نمونه خون | AT5: نمونه ادرار | AV5: پایش بیوآئروسل | BA5: دفعات تعویض هوا | BB5: اختلاف فشار(+/-) | BC5: سرعت ربایش دهانه هود
B6: موقعیت حضور شاغل در واحد/سالن | C6: ابعاد سالن (L*W*H) و درصد نقطه کور | D6: عنوان شغلی | E6: پست/وظیفه/ فعالیت شغلی | F6: تعداد شاغل با شرح وظیفه یکسان در واحد/سالن | G6: تجهیزات مولد آلاینده | H6: مواد شیمیایی اولیه، بینابینی و نهایی منتشره در محیط کار | AV6: باکتری | AW6: قارچ
A7: 1 | I7: در این ردیف تعداد آیتم نیازمند سنجش در عنوان شغلی متناظر درج شود
I8: در این ردیف میزان مواجه شاغل با عامل زیان آور مورد نظر، در عنوان شغلی متناظر به دقیقه درج شود
A9: 2
A11: 3
A13: 4
A15: 5
A17: 6
A19: 7
A21: 8
A23: 9
A25: 10
A27: 11
A29: 12
A31: 13
... A45: 20
A47: تعداد موارد پیش بینی شده برای آلاینده سنجی: | I47: =SUM(I7,I9,I11,I13,I15,I17,I19,I21,I23,I25,I27,I29,I31,I33,I35,I37,I39,I41,I43,I45) -> 0 | J47: =SUM(J7,J9,J11,J13,J15,J17,J19,J21,J23,J25,J27,J29,J31,J33,J35,J37,J39,J41,J43,J45) -> 0 | K47: =SUM(K7,K9,K11,K13,K15,K17,K19,K21,K23,K25,K27,K29,K31,K33,K35,K37,K39,K41,K43,K45) -> 0 | L47: =SUM(L7,L9,L11,L13,L15,L17,L19,L21,L23,L25,L27,L29,L31,L33,L35,L37,L39,L41,L43,L45) -> 0 | M47: =SUM(M7,M9,M11,M13,M15,M17,M19,M21,M23,M25,M27,M29,M31,M33,M35,M37,M39,M41,M43,M45) -> 0 | N47: =SUM(N7,N9,N11,N13,N15,N17,N19,N21,N23,N25,N27,N29,N31,N33,N35,N37,N39,N41,N43,N45) -> 0 | O47: =SUM(O7,O9,O11,O13,O15,O17,O19,O21,O23,O25,O27,O29,O31,O33,O35,O37,O39,O41,O43,O45) -> 0 | Q47: =SUM(Q7,Q9,Q11,Q13,Q15,Q17,Q19,Q21,Q23,Q25,Q27,Q29,Q31,Q33,Q35,Q37,Q39,Q41,Q43,Q45) -> 0 | R47: =SUM(R7,R9,R11,R13,R15,R17,R19,R21,R23,R25,R27,R29,R31,R33,R35,R37,R39,R41,R43,R45) -> 0 | S47: =SUM(S7,S9,S11,S13,S15,S17,S19,S21,S23,S25,S27,S29,S31,S33,S35,S37,S39,S41,S43,S45) -> 0 | T47: =SUM(T7,T9,T11,T13,T15,T17,T19,T21,T23,T25,T27,T29,T31,T33,T35,T37,T39,T41,T43,T45) -> 0 | U47: =SUM(U7,U9,U11,U13,U15,U17,U19,U21,U23,U25,U27,U29,U31,U33,U35,U37,U39,U41,U43,U45) -> 0 | V47: =SUM(V7,V9,V11,V13,V15,V17,V19,V21,V23,V25,V27,V29,V31,V33,V35,V37,V39,V41,V43,V45) -> 0 | W47: =SUM(W7,W9,W11,W13,W15,W17,W19,W21,W23,W25,W27,W29,W31,W33,W35,W37,W39,W41,W43,W45) -> 0 | X47: =SUM(X7,X9,X11,X13,X15,X17,X19,X21,X23,X25,X27,X29,X31,X33,X35,X37,X39,X41,X43,X45) -> 0 | ... BF47: =SUM(BF7,BF9,BF11,BF13,BF15,BF17,BF19,BF21,BF23,BF25,BF27,BF29,BF31,BF33,BF35,BF37,BF39,BF41,BF43,BF45) -> 0

Sheet واحد27
A1: تاریخ ارزیابی: .......................... | C1: ماتريس پایش عوامل زیان آور محیط کار | BE1: ویرایش 02
A2: نام کارگاه/شرکت/اداره : | F2: آدرس/تماس : | L2: خلاصه ای از فرآیند واحد :
A3: نام واحد/سالن مورد ارزیابی درج شود | I3: عوامل فيزيكي | T3: عوامل شيميايي(گرد و غبار،گازها و بخارات، ذرات معلق اسید، ذرات فلزی و شبه فلزی، الیاف و میست و... به تفکیک ذکر شود) | AN3: عوامل ارگونوميكي | AS3: پایش بیولوژیک | AV3: عوامل بيولوژیکی | AY3: عوامل روانی | BA3: ارزیابی سیستم تهویه | BE3: عوامل ایمنی (کار در ارتفاع، مجاورت کوره و ...)
A4: نوع شیفت کاری : | C4: روزکار ¨ | D4: نوبت کار ¨ | E4: مدت شیفت کاری: | I4: p1 | J4: p2 | K4: p3 | L4: p4 | M4: p5 | N4: p6 | O4: p7 | P4: p8 | Q4: p9 | R4: p10 | S4: p11 | T4: c1 | U4: c2 | V4: c3 | W4: c4 | X4: c5 | Y4: c6 | Z4: c7 | AA4: c8 | AB4: c9 | AC4: c10 | AD4: c11 | AE4: c12 | AF4: c13 | AG4: c14 | AH4: c15 | AI4: c16 | AJ4: c17 | AK4: c18 | AL4: c19 | AM4: c20 | AN4: e1 | AO4: e2 | AP4: e3 | AQ4: e4 | AR4: e5 | AS4: b1 | AT4: b2 | AU4: b3 | AV4: bi1 | AW4: bi2 | AX4: bi3 | AY4: sy1 | AZ4: sy2 | BA4: vs1 | BB4: vs2 | BC4: vs3 | BD4: vs4 | BE4: sa1 | BF4: sa2
A5: ردیف | B5: تعداد شاغلین واحد/سالن به تفکیک نوبت کاری: | E5: اطلاعات تکمیلی درباره وظایف و فعالیت های شغلی و … | I5: صدای عمومی | J5: صدای موضعی | K5: آنالیز فرکانسی | L5: دزیمتری صدا | M5: روشنایی عمومی | N5: روشنایی موضعی | O5: پرتو (UV) | P5: پرتو (IR) | Q5: سایر پرتو ها/میدان ها | R5: استرس حرارتی(گرما/سرما) | S5: ارتعاش تمام بدن/دست بازو | AN5: هل دادن/کشیدن بار | AO5: بلند كردن/پایین آوردن بار | AP5: حمل دستي بار | AQ5: وضعيت نامناسب بدني | AR5: حرکات تکراری | AS5: نمونه خون | AT5: نمونه ادرار | AV5: پایش بیوآئروسل | BA5: دفعات تعویض هوا | BB5: اختلاف فشار(+/-) | BC5: سرعت ربایش دهانه هود
B6: موقعیت حضور شاغل در واحد/سالن | C6: ابعاد سالن (L*W*H) و درصد نقطه کور | D6: عنوان شغلی | E6: پست/وظیفه/ فعالیت شغلی | F6: تعداد شاغل با شرح وظیفه یکسان در واحد/سالن | G6: تجهیزات مولد آلاینده | H6: مواد شیمیایی اولیه، بینابینی و نهایی منتشره در محیط کار | AV6: باکتری | AW6: قارچ
A7: 1 | I7: در این ردیف تعداد آیتم نیازمند سنجش در عنوان شغلی متناظر درج شود
I8: در این ردیف میزان مواجه شاغل با عامل زیان آور مورد نظر، در عنوان شغلی متناظر به دقیقه درج شود
A9: 2
A11: 3
A13: 4
A15: 5
A17: 6
A19: 7
A21: 8
A23: 9
A25: 10
A27: 11
A29: 12
A31: 13
... A45: 20
A47: تعداد موارد پیش بینی شده برای آلاینده سنجی: | I47: =SUM(I7,I9,I11,I13,I15,I17,I19,I21,I23,I25,I27,I29,I31,I33,I35,I37,I39,I41,I43,I45) -> 0 | J47: =SUM(J7,J9,J11,J13,J15,J17,J19,J21,J23,J25,J27,J29,J31,J33,J35,J37,J39,J41,J43,J45) -> 0 | K47: =SUM(K7,K9,K11,K13,K15,K17,K19,K21,K23,K25,K27,K29,K31,K33,K35,K37,K39,K41,K43,K45) -> 0 | L47: =SUM(L7,L9,L11,L13,L15,L17,L19,L21,L23,L25,L27,L29,L31,L33,L35,L37,L39,L41,L43,L45) -> 0 | M47: =SUM(M7,M9,M11,M13,M15,M17,M19,M21,M23,M25,M27,M29,M31,M33,M35,M37,M39,M41,M43,M45) -> 0 | N47: =SUM(N7,N9,N11,N13,N15,N17,N19,N21,N23,N25,N27,N29,N31,N33,N35,N37,N39,N41,N43,N45) -> 0 | O47: =SUM(O7,O9,O11,O13,O15,O17,O19,O21,O23,O25,O27,O29,O31,O33,O35,O37,O39,O41,O43,O45) -> 0 | Q47: =SUM(Q7,Q9,Q11,Q13,Q15,Q17,Q19,Q21,Q23,Q25,Q27,Q29,Q31,Q33,Q35,Q37,Q39,Q41,Q43,Q45) -> 0 | R47: =SUM(R7,R9,R11,R13,R15,R17,R19,R21,R23,R25,R27,R29,R31,R33,R35,R37,R39,R41,R43,R45) -> 0 | S47: =SUM(S7,S9,S11,S13,S15,S17,S19,S21,S23,S25,S27,S29,S31,S33,S35,S37,S39,S41,S43,S45) -> 0 | T47: =SUM(T7,T9,T11,T13,T15,T17,T19,T21,T23,T25,T27,T29,T31,T33,T35,T37,T39,T41,T43,T45) -> 0 | U47: =SUM(U7,U9,U11,U13,U15,U17,U19,U21,U23,U25,U27,U29,U31,U33,U35,U37,U39,U41,U43,U45) -> 0 | V47: =SUM(V7,V9,V11,V13,V15,V17,V19,V21,V23,V25,V27,V29,V31,V33,V35,V37,V39,V41,V43,V45) -> 0 | W47: =SUM(W7,W9,W11,W13,W15,W17,W19,W21,W23,W25,W27,W29,W31,W33,W35,W37,W39,W41,W43,W45) -> 0 | X47: =SUM(X7,X9,X11,X13,X15,X17,X19,X21,X23,X25,X27,X29,X31,X33,X35,X37,X39,X41,X43,X45) -> 0 | ... BF47: =SUM(BF7,BF9,BF11,BF13,BF15,BF17,BF19,BF21,BF23,BF25,BF27,BF29,BF31,BF33,BF35,BF37,BF39,BF41,BF43,BF45) -> 0

Sheet واحد28
A1: تاریخ ارزیابی: .......................... | C1: ماتريس پایش عوامل زیان آور محیط کار | BE1: ویرایش 02
A2: نام کارگاه/شرکت/اداره : | F2: آدرس/تماس : | L2: خلاصه ای از فرآیند واحد :
A3: نام واحد/سالن مورد ارزیابی درج شود | I3: عوامل فيزيكي | T3: عوامل شيميايي(گرد و غبار،گازها و بخارات، ذرات معلق اسید، ذرات فلزی و شبه فلزی، الیاف و میست و... به تفکیک ذکر شود) | AN3: عوامل ارگونوميكي | AS3: پایش بیولوژیک | AV3: عوامل بيولوژیکی | AY3: عوامل روانی | BA3: ارزیابی سیستم تهویه | BE3: عوامل ایمنی (کار در ارتفاع، مجاورت کوره و ...)
A4: نوع شیفت کاری : | C4: روزکار ¨ | D4: نوبت کار ¨ | E4: مدت شیفت کاری: | I4: p1 | J4: p2 | K4: p3 | L4: p4 | M4: p5 | N4: p6 | O4: p7 | P4: p8 | Q4: p9 | R4: p10 | S4: p11 | T4: c1 | U4: c2 | V4: c3 | W4: c4 | X4: c5 | Y4: c6 | Z4: c7 | AA4: c8 | AB4: c9 | AC4: c10 | AD4: c11 | AE4: c12 | AF4: c13 | AG4: c14 | AH4: c15 | AI4: c16 | AJ4: c17 | AK4: c18 | AL4: c19 | AM4: c20 | AN4: e1 | AO4: e2 | AP4: e3 | AQ4: e4 | AR4: e5 | AS4: b1 | AT4: b2 | AU4: b3 | AV4: bi1 | AW4: bi2 | AX4: bi3 | AY4: sy1 | AZ4: sy2 | BA4: vs1 | BB4: vs2 | BC4: vs3 | BD4: vs4 | BE4: sa1 | BF4: sa2
A5: ردیف | B5: تعداد شاغلین واحد/سالن به تفکیک نوبت کاری: | E5: اطلاعات تکمیلی درباره وظایف و فعالیت های شغلی و … | I5: صدای عمومی | J5: صدای موضعی | K5: آنالیز فرکانسی | L5: دزیمتری صدا | M5: روشنایی عمومی | N5: روشنایی موضعی | O5: پرتو (UV) | P5: پرتو (IR) | Q5: سایر پرتو ها/میدان ها | R5: استرس حرارتی(گرما/سرما) | S5: ارتعاش تمام بدن/دست بازو | AN5: هل دادن/کشیدن بار | AO5: بلند كردن/پایین آوردن بار | AP5: حمل دستي بار | AQ5: وضعيت نامناسب بدني | AR5: حرکات تکراری | AS5: نمونه خون | AT5: نمونه ادرار | AV5: پایش بیوآئروسل | BA5: دفعات تعویض هوا | BB5: اختلاف فشار(+/-) | BC5: سرعت ربایش دهانه هود
B6: موقعیت حضور شاغل در واحد/سالن | C6: ابعاد سالن (L*W*H) و درصد نقطه کور | D6: عنوان شغلی | E6: پست/وظیفه/ فعالیت شغلی | F6: تعداد شاغل با شرح وظیفه یکسان در واحد/سالن | G6: تجهیزات مولد آلاینده | H6: مواد شیمیایی اولیه، بینابینی و نهایی منتشره در محیط کار | AV6: باکتری | AW6: قارچ
A7: 1 | I7: در این ردیف تعداد آیتم نیازمند سنجش در عنوان شغلی متناظر درج شود
I8: در این ردیف میزان مواجه شاغل با عامل زیان آور مورد نظر، در عنوان شغلی متناظر به دقیقه درج شود
A9: 2
A11: 3
A13: 4
A15: 5
A17: 6
A19: 7
A21: 8
A23: 9
A25: 10
A27: 11
A29: 12
A31: 13
... A45: 20
A47: تعداد موارد پیش بینی شده برای آلاینده سنجی: | I47: =SUM(I7,I9,I11,I13,I15,I17,I19,I21,I23,I25,I27,I29,I31,I33,I35,I37,I39,I41,I43,I45) -> 0 | J47: =SUM(J7,J9,J11,J13,J15,J17,J19,J21,J23,J25,J27,J29,J31,J33,J35,J37,J39,J41,J43,J45) -> 0 | K47: =SUM(K7,K9,K11,K13,K15,K17,K19,K21,K23,K25,K27,K29,K31,K33,K35,K37,K39,K41,K43,K45) -> 0 | L47: =SUM(L7,L9,L11,L13,L15,L17,L19,L21,L23,L25,L27,L29,L31,L33,L35,L37,L39,L41,L43,L45) -> 0 | M47: =SUM(M7,M9,M11,M13,M15,M17,M19,M21,M23,M25,M27,M29,M31,M33,M35,M37,M39,M41,M43,M45) -> 0 | N47: =SUM(N7,N9,N11,N13,N15,N17,N19,N21,N23,N25,N27,N29,N31,N33,N35,N37,N39,N41,N43,N45) -> 0 | O47: =SUM(O7,O9,O11,O13,O15,O17,O19,O21,O23,O25,O27,O29,O31,O33,O35,O37,O39,O41,O43,O45) -> 0 | Q47: =SUM(Q7,Q9,Q11,Q13,Q15,Q17,Q19,Q21,Q23,Q25,Q27,Q29,Q31,Q33,Q35,Q37,Q39,Q41,Q43,Q45) -> 0 | R47: =SUM(R7,R9,R11,R13,R15,R17,R19,R21,R23,R25,R27,R29,R31,R33,R35,R37,R39,R41,R43,R45) -> 0 | S47: =SUM(S7,S9,S11,S13,S15,S17,S19,S21,S23,S25,S27,S29,S31,S33,S35,S37,S39,S41,S43,S45) -> 0 | T47: =SUM(T7,T9,T11,T13,T15,T17,T19,T21,T23,T25,T27,T29,T31,T33,T35,T37,T39,T41,T43,T45) -> 0 | U47: =SUM(U7,U9,U11,U13,U15,U17,U19,U21,U23,U25,U27,U29,U31,U33,U35,U37,U39,U41,U43,U45) -> 0 | V47: =SUM(V7,V9,V11,V13,V15,V17,V19,V21,V23,V25,V27,V29,V31,V33,V35,V37,V39,V41,V43,V45) -> 0 | W47: =SUM(W7,W9,W11,W13,W15,W17,W19,W21,W23,W25,W27,W29,W31,W33,W35,W37,W39,W41,W43,W45) -> 0 | X47: =SUM(X7,X9,X11,X13,X15,X17,X19,X21,X23,X25,X27,X29,X31,X33,X35,X37,X39,X41,X43,X45) -> 0 | ... BF47: =SUM(BF7,BF9,BF11,BF13,BF15,BF17,BF19,BF21,BF23,BF25,BF27,BF29,BF31,BF33,BF35,BF37,BF39,BF41,BF43,BF45) -> 0

Sheet واحد29
A1: تاریخ ارزیابی: .......................... | C1: ماتريس پایش عوامل زیان آور محیط کار | BE1: ویرایش 02
A2: نام کارگاه/شرکت/اداره : | F2: آدرس/تماس : | L2: خلاصه ای از فرآیند واحد :
A3: نام واحد/سالن مورد ارزیابی درج شود | I3: عوامل فيزيكي | T3: عوامل شيميايي(گرد و غبار،گازها و بخارات، ذرات معلق اسید، ذرات فلزی و شبه فلزی، الیاف و میست و... به تفکیک ذکر شود) | AN3: عوامل ارگونوميكي | AS3: پایش بیولوژیک | AV3: عوامل بيولوژیکی | AY3: عوامل روانی | BA3: ارزیابی سیستم تهویه | BE3: عوامل ایمنی (کار در ارتفاع، مجاورت کوره و ...)
A4: نوع شیفت کاری : | C4: روزکار ¨ | D4: نوبت کار ¨ | E4: مدت شیفت کاری: | I4: p1 | J4: p2 | K4: p3 | L4: p4 | M4: p5 | N4: p6 | O4: p7 | P4: p8 | Q4: p9 | R4: p10 | S4: p11 | T4: c1 | U4: c2 | V4: c3 | W4: c4 | X4: c5 | Y4: c6 | Z4: c7 | AA4: c8 | AB4: c9 | AC4: c10 | AD4: c11 | AE4: c12 | AF4: c13 | AG4: c14 | AH4: c15 | AI4: c16 | AJ4: c17 | AK4: c18 | AL4: c19 | AM4: c20 | AN4: e1 | AO4: e2 | AP4: e3 | AQ4: e4 | AR4: e5 | AS4: b1 | AT4: b2 | AU4: b3 | AV4: bi1 | AW4: bi2 | AX4: bi3 | AY4: sy1 | AZ4: sy2 | BA4: vs1 | BB4: vs2 | BC4: vs3 | BD4: vs4 | BE4: sa1 | BF4: sa2
A5: ردیف | B5: تعداد شاغلین واحد/سالن به تفکیک نوبت کاری: | E5: اطلاعات تکمیلی درباره وظایف و فعالیت های شغلی و … | I5: صدای عمومی | J5: صدای موضعی | K5: آنالیز فرکانسی | L5: دزیمتری صدا | M5: روشنایی عمومی | N5: روشنایی موضعی | O5: پرتو (UV) | P5: پرتو (IR) | Q5: سایر پرتو ها/میدان ها | R5: استرس حرارتی(گرما/سرما) | S5: ارتعاش تمام بدن/دست بازو | AN5: هل دادن/کشیدن بار | AO5: بلند كردن/پایین آوردن بار | AP5: حمل دستي بار | AQ5: وضعيت نامناسب بدني | AR5: حرکات تکراری | AS5: نمونه خون | AT5: نمونه ادرار | AV5: پایش بیوآئروسل | BA5: دفعات تعویض هوا | BB5: اختلاف فشار(+/-) | BC5: سرعت ربایش دهانه هود
B6: موقعیت حضور شاغل در واحد/سالن | C6: ابعاد سالن (L*W*H) و درصد نقطه کور | D6: عنوان شغلی | E6: پست/وظیفه/ فعالیت شغلی | F6: تعداد شاغل با شرح وظیفه یکسان در واحد/سالن | G6: تجهیزات مولد آلاینده | H6: مواد شیمیایی اولیه، بینابینی و نهایی منتشره در محیط کار | AV6: باکتری | AW6: قارچ
A7: 1 | I7: در این ردیف تعداد آیتم نیازمند سنجش در عنوان شغلی متناظر درج شود
I8: در این ردیف میزان مواجه شاغل با عامل زیان آور مورد نظر، در عنوان شغلی متناظر به دقیقه درج شود
A9: 2
A11: 3
A13: 4
A15: 5
A17: 6
A19: 7
A21: 8
A23: 9
A25: 10
A27: 11
A29: 12
A31: 13
... A45: 20
A47: تعداد موارد پیش بینی شده برای آلاینده سنجی: | I47: =SUM(I7,I9,I11,I13,I15,I17,I19,I21,I23,I25,I27,I29,I31,I33,I35,I37,I39,I41,I43,I45) -> 0 | J47: =SUM(J7,J9,J11,J13,J15,J17,J19,J21,J23,J25,J27,J29,J31,J33,J35,J37,J39,J41,J43,J45) -> 0 | K47: =SUM(K7,K9,K11,K13,K15,K17,K19,K21,K23,K25,K27,K29,K31,K33,K35,K37,K39,K41,K43,K45) -> 0 | L47: =SUM(L7,L9,L11,L13,L15,L17,L19,L21,L23,L25,L27,L29,L31,L33,L35,L37,L39,L41,L43,L45) -> 0 | M47: =SUM(M7,M9,M11,M13,M15,M17,M19,M21,M23,M25,M27,M29,M31,M33,M35,M37,M39,M41,M43,M45) -> 0 | N47: =SUM(N7,N9,N11,N13,N15,N17,N19,N21,N23,N25,N27,N29,N31,N33,N35,N37,N39,N41,N43,N45) -> 0 | O47: =SUM(O7,O9,O11,O13,O15,O17,O19,O21,O23,O25,O27,O29,O31,O33,O35,O37,O39,O41,O43,O45) -> 0 | Q47: =SUM(Q7,Q9,Q11,Q13,Q15,Q17,Q19,Q21,Q23,Q25,Q27,Q29,Q31,Q33,Q35,Q37,Q39,Q41,Q43,Q45) -> 0 | R47: =SUM(R7,R9,R11,R13,R15,R17,R19,R21,R23,R25,R27,R29,R31,R33,R35,R37,R39,R41,R43,R45) -> 0 | S47: =SUM(S7,S9,S11,S13,S15,S17,S19,S21,S23,S25,S27,S29,S31,S33,S35,S37,S39,S41,S43,S45) -> 0 | T47: =SUM(T7,T9,T11,T13,T15,T17,T19,T21,T23,T25,T27,T29,T31,T33,T35,T37,T39,T41,T43,T45) -> 0 | U47: =SUM(U7,U9,U11,U13,U15,U17,U19,U21,U23,U25,U27,U29,U31,U33,U35,U37,U39,U41,U43,U45) -> 0 | V47: =SUM(V7,V9,V11,V13,V15,V17,V19,V21,V23,V25,V27,V29,V31,V33,V35,V37,V39,V41,V43,V45) -> 0 | W47: =SUM(W7,W9,W11,W13,W15,W17,W19,W21,W23,W25,W27,W29,W31,W33,W35,W37,W39,W41,W43,W45) -> 0 | X47: =SUM(X7,X9,X11,X13,X15,X17,X19,X21,X23,X25,X27,X29,X31,X33,X35,X37,X39,X41,X43,X45) -> 0 | ... BF47: =SUM(BF7,BF9,BF11,BF13,BF15,BF17,BF19,BF21,BF23,BF25,BF27,BF29,BF31,BF33,BF35,BF37,BF39,BF41,BF43,BF45) -> 0

Sheet واحد30
A1: تاریخ ارزیابی: .......................... | C1: ماتريس پایش عوامل زیان آور محیط کار | BE1: ویرایش 02
A2: نام کارگاه/شرکت/اداره : | F2: آدرس/تماس : | L2: خلاصه ای از فرآیند واحد :
A3: نام واحد/سالن مورد ارزیابی درج شود | I3: عوامل فيزيكي | T3: عوامل شيميايي(گرد و غبار،گازها و بخارات، ذرات معلق اسید، ذرات فلزی و شبه فلزی، الیاف و میست و... به تفکیک ذکر شود) | AN3: عوامل ارگونوميكي | AS3: پایش بیولوژیک | AV3: عوامل بيولوژیکی | AY3: عوامل روانی | BA3: ارزیابی سیستم تهویه | BE3: عوامل ایمنی (کار در ارتفاع، مجاورت کوره و ...)
A4: نوع شیفت کاری : | C4: روزکار ¨ | D4: نوبت کار ¨ | E4: مدت شیفت کاری: | I4: p1 | J4: p2 | K4: p3 | L4: p4 | M4: p5 | N4: p6 | O4: p7 | P4: p8 | Q4: p9 | R4: p10 | S4: p11 | T4: c1 | U4: c2 | V4: c3 | W4: c4 | X4: c5 | Y4: c6 | Z4: c7 | AA4: c8 | AB4: c9 | AC4: c10 | AD4: c11 | AE4: c12 | AF4: c13 | AG4: c14 | AH4: c15 | AI4: c16 | AJ4: c17 | AK4: c18 | AL4: c19 | AM4: c20 | AN4: e1 | AO4: e2 | AP4: e3 | AQ4: e4 | AR4: e5 | AS4: b1 | AT4: b2 | AU4: b3 | AV4: bi1 | AW4: bi2 | AX4: bi3 | AY4: sy1 | AZ4: sy2 | BA4: vs1 | BB4: vs2 | BC4: vs3 | BD4: vs4 | BE4: sa1 | BF4: sa2
A5: ردیف | B5: تعداد شاغلین واحد/سالن به تفکیک نوبت کاری: | E5: اطلاعات تکمیلی درباره وظایف و فعالیت های شغلی و … | I5: صدای عمومی | J5: صدای موضعی | K5: آنالیز فرکانسی | L5: دزیمتری صدا | M5: روشنایی عمومی | N5: روشنایی موضعی | O5: پرتو (UV) | P5: پرتو (IR) | Q5: سایر پرتو ها/میدان ها | R5: استرس حرارتی(گرما/سرما) | S5: ارتعاش تمام بدن/دست بازو | AN5: هل دادن/کشیدن بار | AO5: بلند كردن/پایین آوردن بار | AP5: حمل دستي بار | AQ5: وضعيت نامناسب بدني | AR5: حرکات تکراری | AS5: نمونه خون | AT5: نمونه ادرار | AV5: پایش بیوآئروسل | BA5: دفعات تعویض هوا | BB5: اختلاف فشار(+/-) | BC5: سرعت ربایش دهانه هود
B6: موقعیت حضور شاغل در واحد/سالن | C6: ابعاد سالن (L*W*H) و درصد نقطه کور | D6: عنوان شغلی | E6: پست/وظیفه/ فعالیت شغلی | F6: تعداد شاغل با شرح وظیفه یکسان در واحد/سالن | G6: تجهیزات مولد آلاینده | H6: مواد شیمیایی اولیه، بینابینی و نهایی منتشره در محیط کار | AV6: باکتری | AW6: قارچ
A7: 1 | I7: در این ردیف تعداد آیتم نیازمند سنجش در عنوان شغلی متناظر درج شود
I8: در این ردیف میزان مواجه شاغل با عامل زیان آور مورد نظر، در عنوان شغلی متناظر به دقیقه درج شود
A9: 2
A11: 3
A13: 4
A15: 5
A17: 6
A19: 7
A21: 8
A23: 9
A25: 10
A27: 11
A29: 12
A31: 13
... A45: 20
A47: تعداد موارد پیش بینی شده برای آلاینده سنجی: | I47: =SUM(I7,I9,I11,I13,I15,I17,I19,I21,I23,I25,I27,I29,I31,I33,I35,I37,I39,I41,I43,I45) -> 0 | J47: =SUM(J7,J9,J11,J13,J15,J17,J19,J21,J23,J25,J27,J29,J31,J33,J35,J37,J39,J41,J43,J45) -> 0 | K47: =SUM(K7,K9,K11,K13,K15,K17,K19,K21,K23,K25,K27,K29,K31,K33,K35,K37,K39,K41,K43,K45) -> 0 | L47: =SUM(L7,L9,L11,L13,L15,L17,L19,L21,L23,L25,L27,L29,L31,L33,L35,L37,L39,L41,L43,L45) -> 0 | M47: =SUM(M7,M9,M11,M13,M15,M17,M19,M21,M23,M25,M27,M29,M31,M33,M35,M37,M39,M41,M43,M45) -> 0 | N47: =SUM(N7,N9,N11,N13,N15,N17,N19,N21,N23,N25,N27,N29,N31,N33,N35,N37,N39,N41,N43,N45) -> 0 | O47: =SUM(O7,O9,O11,O13,O15,O17,O19,O21,O23,O25,O27,O29,O31,O33,O35,O37,O39,O41,O43,O45) -> 0 | Q47: =SUM(Q7,Q9,Q11,Q13,Q15,Q17,Q19,Q21,Q23,Q25,Q27,Q29,Q31,Q33,Q35,Q37,Q39,Q41,Q43,Q45) -> 0 | R47: =SUM(R7,R9,R11,R13,R15,R17,R19,R21,R23,R25,R27,R29,R31,R33,R35,R37,R39,R41,R43,R45) -> 0 | S47: =SUM(S7,S9,S11,S13,S15,S17,S19,S21,S23,S25,S27,S29,S31,S33,S35,S37,S39,S41,S43,S45) -> 0 | T47: =SUM(T7,T9,T11,T13,T15,T17,T19,T21,T23,T25,T27,T29,T31,T33,T35,T37,T39,T41,T43,T45) -> 0 | U47: =SUM(U7,U9,U11,U13,U15,U17,U19,U21,U23,U25,U27,U29,U31,U33,U35,U37,U39,U41,U43,U45) -> 0 | V47: =SUM(V7,V9,V11,V13,V15,V17,V19,V21,V23,V25,V27,V29,V31,V33,V35,V37,V39,V41,V43,V45) -> 0 | W47: =SUM(W7,W9,W11,W13,W15,W17,W19,W21,W23,W25,W27,W29,W31,W33,W35,W37,W39,W41,W43,W45) -> 0 | X47: =SUM(X7,X9,X11,X13,X15,X17,X19,X21,X23,X25,X27,X29,X31,X33,X35,X37,X39,X41,X43,X45) -> 0 | ... BF47: =SUM(BF7,BF9,BF11,BF13,BF15,BF17,BF19,BF21,BF23,BF25,BF27,BF29,BF31,BF33,BF35,BF37,BF39,BF41,BF43,BF45) -> 0
